BEGIN:VCALENDAR
VERSION:2.0
PRODID:-//digitalHUB Aachen - ECPv6.15.20//NONSGML v1.0//EN
CALSCALE:GREGORIAN
METHOD:PUBLISH
X-ORIGINAL-URL:https://www.aachen.digital/en/
X-WR-CALDESC:Events for digitalHUB Aachen
REFRESH-INTERVAL;VALUE=DURATION:PT1H
X-Robots-Tag:noindex
X-PUBLISHED-TTL:PT1H
BEGIN:VTIMEZONE
TZID:Europe/Berlin
BEGIN:DAYLIGHT
TZOFFSETFROM:+0100
TZOFFSETTO:+0200
TZNAME:CEST
DTSTART:20220327T010000
END:DAYLIGHT
BEGIN:STANDARD
TZOFFSETFROM:+0200
TZOFFSETTO:+0100
TZNAME:CET
DTSTART:20221030T010000
END:STANDARD
BEGIN:DAYLIGHT
TZOFFSETFROM:+0100
TZOFFSETTO:+0200
TZNAME:CEST
DTSTART:20230326T010000
END:DAYLIGHT
BEGIN:STANDARD
TZOFFSETFROM:+0200
TZOFFSETTO:+0100
TZNAME:CET
DTSTART:20231029T010000
END:STANDARD
BEGIN:DAYLIGHT
TZOFFSETFROM:+0100
TZOFFSETTO:+0200
TZNAME:CEST
DTSTART:20240331T010000
END:DAYLIGHT
BEGIN:STANDARD
TZOFFSETFROM:+0200
TZOFFSETTO:+0100
TZNAME:CET
DTSTART:20241027T010000
END:STANDARD
END:VTIMEZONE
BEGIN:VEVENT
DTSTART;TZID=Europe/Berlin:20230119T150000
DTEND;TZID=Europe/Berlin:20230119T180000
DTSTAMP:20260423T181711
CREATED:20221130T102510Z
LAST-MODIFIED:20230104T120412Z
UID:10006365-1674140400-1674151200@www.aachen.digital
SUMMARY:Digital. Praktisch. Nah. - Machine Vision & Deep Learning
DESCRIPTION:Die Veranstaltung findet als Koope­ra­tion der Wirt­schafts­för­de­rung des Kreises Euskir­chen zusammen mit der AGIT Aachener Gesell­schaft für Inno­va­tion und Tech­no­logie mbH sowie dem Mittelstand-Digital Zentrum Rheinland statt. Sie richtet sich an Fach- und Führungs­kräfte des Mittel­stands. Vorkennt­nisse sind nicht erfor­der­lich. \nAgenda \n\nBegrüßung & Einleitung\nServices und Unterstützungsangebote im Bereich Digitalisierung WiFö Kreis Euskirchen und AGIT mbH\nMachine Vision und Deep Learning in Forschung und Praxis Louis Huebser\, Mittelstand-Digital Zentrum Rheinland\nVortrag und Rundgang ID Ingenieure & Dienstleistungen GmbH\nDiskussion & Netzwerken\n\nAnmeldung \nDie Veranstaltung findet in Präsenz statt. Die Teilnahme ist kostenfrei. Aufgrund der begrenzten Teil­neh­mer­zahl bitte wir Sie um eine verbind­liche Anmeldung. \nBitte beachten Sie\, dass die Tickets personengebunden und nicht übertragbar sind. Zum Zeitpunkt der Veranstaltungsdurchführung werden die Hygienemaßnahmen gemäß der aktuellen Coronaschutzverordnung berücksichtigt. \nMit der Anmeldung zu dieser Veran­stal­tung erklären Sie sich mit Folgendem einver­standen: Aufnahme Ihrer Angaben auf Teil­neh­mer­listen\, Bereit­stel­lung von Kontak­t­in­for­ma­tionen für die veranstaltenden Partner für die Zusendung der Veranstaltungsunterlagen und den Erhalt von Einla­dungen zu deren weiteren Veran­stal­tungen. Die Einwil­li­gung kann jederzeit mit Wirkung für die Zukunft wider­rufen werden. \nWir freuen uns auf eine spannende und sichere Veranstaltung! \nRückfragen? \nWenden Sie sich bitte an Herrn Michael Franssen von der Wirtschaftsförderung Kreis Euskirchen unter Tel +49 2251 151329. \nZUR ANMELDUNG
URL:https://www.aachen.digital/en/event/digital-praktisch-nah-machine-vision-deep-learning/
LOCATION:ID Ingenieure & Dienstleistungen GmbH\, Vasco-Da-Gama-Straße 8\, Euskirchen
ATTACH;FMTTYPE=image/jpeg:https://www.aachen.digital/wp-content/uploads/2022/11/digital.praktisch.nah_stage.jpg
END:VEVENT
END:VCALENDAR