BEGIN:VCALENDAR
VERSION:2.0
PRODID:-//digitalHUB Aachen - ECPv6.15.20//NONSGML v1.0//EN
CALSCALE:GREGORIAN
METHOD:PUBLISH
X-WR-CALNAME:digitalHUB Aachen
X-ORIGINAL-URL:https://www.aachen.digital/en/
X-WR-CALDESC:Events for digitalHUB Aachen
REFRESH-INTERVAL;VALUE=DURATION:PT1H
X-Robots-Tag:noindex
X-PUBLISHED-TTL:PT1H
BEGIN:VTIMEZONE
TZID:Europe/Berlin
BEGIN:DAYLIGHT
TZOFFSETFROM:+0100
TZOFFSETTO:+0200
TZNAME:CEST
DTSTART:20190331T010000
END:DAYLIGHT
BEGIN:STANDARD
TZOFFSETFROM:+0200
TZOFFSETTO:+0100
TZNAME:CET
DTSTART:20191027T010000
END:STANDARD
BEGIN:DAYLIGHT
TZOFFSETFROM:+0100
TZOFFSETTO:+0200
TZNAME:CEST
DTSTART:20200329T010000
END:DAYLIGHT
BEGIN:STANDARD
TZOFFSETFROM:+0200
TZOFFSETTO:+0100
TZNAME:CET
DTSTART:20201025T010000
END:STANDARD
BEGIN:DAYLIGHT
TZOFFSETFROM:+0100
TZOFFSETTO:+0200
TZNAME:CEST
DTSTART:20210328T010000
END:DAYLIGHT
BEGIN:STANDARD
TZOFFSETFROM:+0200
TZOFFSETTO:+0100
TZNAME:CET
DTSTART:20211031T010000
END:STANDARD
BEGIN:DAYLIGHT
TZOFFSETFROM:+0100
TZOFFSETTO:+0200
TZNAME:CEST
DTSTART:20220327T010000
END:DAYLIGHT
BEGIN:STANDARD
TZOFFSETFROM:+0200
TZOFFSETTO:+0100
TZNAME:CET
DTSTART:20221030T010000
END:STANDARD
BEGIN:DAYLIGHT
TZOFFSETFROM:+0100
TZOFFSETTO:+0200
TZNAME:CEST
DTSTART:20230326T010000
END:DAYLIGHT
BEGIN:STANDARD
TZOFFSETFROM:+0200
TZOFFSETTO:+0100
TZNAME:CET
DTSTART:20231029T010000
END:STANDARD
END:VTIMEZONE
BEGIN:VEVENT
DTSTART;TZID=Europe/Berlin:20220607T123000
DTEND;TZID=Europe/Berlin:20220607T130000
DTSTAMP:20260423T202303
CREATED:20220519T135430Z
LAST-MODIFIED:20220523T091644Z
UID:10006247-1654605000-1654606800@www.aachen.digital
SUMMARY:Webinar: Mittelstand Innovativ & Digital
DESCRIPTION:Neue digitale Ideen einfach umsetzen: So entwickeln Sie Ihr Unternehmen mit dem Förderprogramm MID weiter.
URL:https://www.aachen.digital/en/event/webinar-mittelstand-innovativ-digital-2/
LOCATION:online
ATTACH;FMTTYPE=image/jpeg:https://www.aachen.digital/wp-content/uploads/2022/04/MID_Stage.jpg
END:VEVENT
BEGIN:VEVENT
DTSTART;TZID=Europe/Berlin:20220524T123000
DTEND;TZID=Europe/Berlin:20220524T130000
DTSTAMP:20260423T202303
CREATED:20220419T081124Z
LAST-MODIFIED:20220523T091937Z
UID:10006212-1653395400-1653397200@www.aachen.digital
SUMMARY:Webinar: Mittelstand Innovativ & Digital
DESCRIPTION:Neue digitale Ideen einfach umsetzen: So entwickeln Sie Ihr Unternehmen mit dem Förderprogramm MID weiter.
URL:https://www.aachen.digital/en/event/webinar-mittelstand-innovativ-digital/
LOCATION:online
ATTACH;FMTTYPE=image/jpeg:https://www.aachen.digital/wp-content/uploads/2022/04/MID_Stage.jpg
END:VEVENT
BEGIN:VEVENT
DTSTART;VALUE=DATE:20211012
DTEND;VALUE=DATE:20211015
DTSTAMP:20260423T202303
CREATED:20210719T091343Z
LAST-MODIFIED:20210719T091514Z
UID:10005955-1633996800-1634255999@www.aachen.digital
SUMMARY:it-sa 2021 - die Fachmesse für Cybersecurity
DESCRIPTION:Trends & Innovationen der IT-Securitybranche\nVom 12. – 14. Oktober 2021 findet die it-sa – Europas führende Fachmesse für IT-Sicherheit in Nürnberg statt. Die it-sa zeigt Trends & Innovationen der IT-Securitybranche und ist eine der bedeutendsten Plattformen für Lösungen rund um die Themen Cloud-Management\, Mobile- und Cybersecurity sowie Daten- und Netzwerksicherheit weltweit. \nDas Wirtschaftsministerium Nordrhein-Westfalen richtet auf der it-sa einen Landesgemeinschaft NRW\naus. Damit möchten wir Start-ups\, kleinen und mittleren Unternehmen aus NRW die Möglichkeit geben\, sich auf der Messe zu präsentieren. \nProfitieren Sie als Mitaussteller von einem umfangreichen Service\, der als Grundpaket folgende\nLeistungen beinhaltet: \n\nModerne\, transparente Stand-Architektur\nExponatabhängige Teilfläche auf dem Stand\nPlatzierung zur Gangseite\nGrundausstattung Mobiliar bestehend aus: 1 Counter (inkl. Internet- und Stromanschluss)\, 1\nProspektständer\, 1 Stehhilfe\nPräsentations-Stele mit integriertem 40‘‘ TFT-Bildschirm\nCatering auf dem Stand\nService für Lounge und Info-Theke\nNebenkosten wie Strom und Wasser\nStandreinigung und Bewachung\nZentrale Bewerbung und Pressearbeit\n\nWeitere Informationen finden Sie hier.\nBei Interesse bitte ich um eine kurze E-Mail bis zum 31. Mai 2021 an tanja.mueller@mwide.nrw.de. \nWir werden voraussichtlich Anfang Juni eine erste Ausstellersitzung durchführen\, zu der wir Sie dann gerne einladen. Hier haben Sie die Möglichkeit sich unverbindlich und umfassend zu informieren. Anschließend können Sie sich anmelden.
URL:https://www.aachen.digital/en/event/it-sa-2021/
LOCATION:Messezentrum Nürnberg\, Nürnberg\, 90471\, Deutschland
ATTACH;FMTTYPE=image/jpeg:https://www.aachen.digital/wp-content/uploads/2021/07/AdobeStock_211845830_Data-control-wall-scaled.jpeg
END:VEVENT
BEGIN:VEVENT
DTSTART;TZID=Europe/Berlin:20200129T150000
DTEND;TZID=Europe/Berlin:20200129T173000
DTSTAMP:20260423T202303
CREATED:20200109T115419Z
LAST-MODIFIED:20200109T115837Z
UID:10004897-1580310000-1580319000@www.aachen.digital
SUMMARY:Roadshow Handel NRW
DESCRIPTION:Nutze das Netzwerk für NRW – Digitalkompetenz und Fördermöglichkeiten für den stationären Handel\nDie Digitalisierung verändert die Handelsbranche mehr und mehr. Zeit\, aktiv zu werden und die Chancen für Ihr Geschäft zu nutzen.\nBleibt die Frage nach dem Wie\, nach Fördermöglichkeiten und vielleicht sogar einer individuellen Beratung.\nDas Ministerium für Wirtschaft\, Innovation\, Digitalisierung und Energie des Landes Nordrhein-Westfalen hilft Ihnen\, gemeinsam mit dem Handelsverband NRW und IHK NRW\, der Landesarbeitsgemeinschaft der Industrie- und Handelskammern\, die notwendigen Schritte in Richtung Zukunft zu gehen und die fortschreitende Digitalisierung wirksam für Ihren Handel zu nutzen.\nSie sind interessiert? Dann laden wir Sie herzlich zu unserer Roadshow Handel ein. \n________________________________________ \nDetails \nIm Januar und Februar haben Sie dazu an mehreren Standorten in Nordrhein-Westfalen Gelegenheit. Die Veranstaltungen starten jeweils um 15 Uhr. Das offizielle Programm endet um 17:30 Uhr\, im Anschluss besteht die Möglichkeit des weiteren Austauschs mit den Teilnehmerinnen und Teilnehmern sowie den Referentinnen und Referenten: \n• IHK Düsseldorf: Auftakt mit Wirtschaftsminister Prof. Dr. Andreas Pinkwart am 27.01.2020\n• IHK zu Dortmund: 28.01.2020\n• IHK Aachen: 29.01.2020\n• IHK Ostwestfalen zu Bielefeld: 30.01.2020\n• IHK Nord Westfalen\, Münster: 18.02.2020 \nLernen Sie unsere Digitalisierungsexperten und unser breites Unterstützungsangebot live vor Ort kennen. Freuen Sie sich unter anderem auf: \n\nVorstellung der neuen NRW DigitalCoaches für den Einzelhandel\nPräsentation der vorhandenen Fördermöglichkeiten durch die NRW.Bank\nKennenlernen des neuen Mittelstand 4.0-Kompetenzzentrums Handel\nTheorie und Praxis: Präsentation der IFH-Studien „Handelsszenarien NRW 2030“ & „Digitalisierungsatlas Handel“\nInformationen und Best Practice-Beispiele aus Ihrer Region\nNetzwerken bei Fingerfood\n\nEntdecken Sie mit uns\, wie der Handel der Zukunft aussehen wird und nutzen Sie das Netzwerk an Unterstützern für Nordrhein-Westfalen!\nWir freuen uns auf Sie. \nEine Anmeldung ist bereits jetzt möglich. \nAnmeldung \nDie Teilnehmerzahl ist auf Grund der jeweiligen Raumkapazitäten begrenzt. \n  \nVeranstalter: \nMinisterium für Wirtschaft\, Innovation\, Digitalisierung und Energie des Landes Nordrhein-Westfalen \nin Kooperation mit dem Handelsverband NRW und der IHK NRW
URL:https://www.aachen.digital/en/event/roadshow-handel-nrw/
LOCATION:IHK Aachen\, Theaterstraße 6 - 10\, Aachen\, 52062\, Deutschland
ATTACH;FMTTYPE=image/jpeg:https://www.aachen.digital/wp-content/uploads/2020/01/AdobeStock_130439644.jpeg
END:VEVENT
END:VCALENDAR