BEGIN:VCALENDAR
VERSION:2.0
PRODID:-//digitalHUB Aachen - ECPv6.15.20//NONSGML v1.0//EN
CALSCALE:GREGORIAN
METHOD:PUBLISH
X-ORIGINAL-URL:https://www.aachen.digital/en/
X-WR-CALDESC:Events for digitalHUB Aachen
REFRESH-INTERVAL;VALUE=DURATION:PT1H
X-Robots-Tag:noindex
X-PUBLISHED-TTL:PT1H
BEGIN:VTIMEZONE
TZID:Europe/Berlin
BEGIN:DAYLIGHT
TZOFFSETFROM:+0100
TZOFFSETTO:+0200
TZNAME:CEST
DTSTART:20180325T010000
END:DAYLIGHT
BEGIN:STANDARD
TZOFFSETFROM:+0200
TZOFFSETTO:+0100
TZNAME:CET
DTSTART:20181028T010000
END:STANDARD
BEGIN:DAYLIGHT
TZOFFSETFROM:+0100
TZOFFSETTO:+0200
TZNAME:CEST
DTSTART:20190331T010000
END:DAYLIGHT
BEGIN:STANDARD
TZOFFSETFROM:+0200
TZOFFSETTO:+0100
TZNAME:CET
DTSTART:20191027T010000
END:STANDARD
BEGIN:DAYLIGHT
TZOFFSETFROM:+0100
TZOFFSETTO:+0200
TZNAME:CEST
DTSTART:20200329T010000
END:DAYLIGHT
BEGIN:STANDARD
TZOFFSETFROM:+0200
TZOFFSETTO:+0100
TZNAME:CET
DTSTART:20201025T010000
END:STANDARD
BEGIN:DAYLIGHT
TZOFFSETFROM:+0100
TZOFFSETTO:+0200
TZNAME:CEST
DTSTART:20210328T010000
END:DAYLIGHT
BEGIN:STANDARD
TZOFFSETFROM:+0200
TZOFFSETTO:+0100
TZNAME:CET
DTSTART:20211031T010000
END:STANDARD
BEGIN:DAYLIGHT
TZOFFSETFROM:+0100
TZOFFSETTO:+0200
TZNAME:CEST
DTSTART:20220327T010000
END:DAYLIGHT
BEGIN:STANDARD
TZOFFSETFROM:+0200
TZOFFSETTO:+0100
TZNAME:CET
DTSTART:20221030T010000
END:STANDARD
BEGIN:DAYLIGHT
TZOFFSETFROM:+0100
TZOFFSETTO:+0200
TZNAME:CEST
DTSTART:20230326T010000
END:DAYLIGHT
BEGIN:STANDARD
TZOFFSETFROM:+0200
TZOFFSETTO:+0100
TZNAME:CET
DTSTART:20231029T010000
END:STANDARD
BEGIN:DAYLIGHT
TZOFFSETFROM:+0100
TZOFFSETTO:+0200
TZNAME:CEST
DTSTART:20240331T010000
END:DAYLIGHT
BEGIN:STANDARD
TZOFFSETFROM:+0200
TZOFFSETTO:+0100
TZNAME:CET
DTSTART:20241027T010000
END:STANDARD
END:VTIMEZONE
BEGIN:VEVENT
DTSTART;TZID=Europe/Berlin:20231017T160000
DTEND;TZID=Europe/Berlin:20231017T210000
DTSTAMP:20260423T204359
CREATED:20230329T082131Z
LAST-MODIFIED:20230329T084722Z
UID:10006449-1697558400-1697576400@www.aachen.digital
SUMMARY:Nacht der Unternehmen mit Schwerpunkt Ausbildung
DESCRIPTION:Die „Nacht der Unternehmen“ (NdU) ist ein Termin\, den weder Unternehmen aus der Region\, die Mitarbeiter:innen suchen\, noch Menschen\, die gerne in der Region arbeiten wollen\, verpassen sollten. Denn hier\, auf der Karrieremesse für Fachkräfte\, Berufseinsteiger\, Absolventen kommen sie schnell und unkompliziert zusammen. \nIn diesem Jahr findet die NdU gleich zweimal statt. Am 16. Mai und am 17. Oktober. Der Eintritt ist selbstverständlich kostenlos. Beide Events bieten neben den vielen Ständen der sich präsentierenden Unternehmen ein ebenfalls kostenloses Begleitprogramm mit Workshops\, Vorträgen\, kostenlosem Bewerbungsmappencheck und Bewerbungsfotos. \nWEITERE INFOS \nAchtung! Für alle digitalHUB-Mitglieder\, die daran Interessiert sind als Aussteller teilzunehmen\, gibt es 10%! Dafür gerne eine Mail an: events@hubaachen.de
URL:https://www.aachen.digital/en/event/nacht-der-unternehmen-mit-schwerpunkt-ausbildung-2/
LOCATION:TZA Technologiezentrum Aachen\, Dennewartstr. 25-27\, Aachen\, 52068\, Deutschland
ATTACH;FMTTYPE=image/jpeg:https://www.aachen.digital/wp-content/uploads/2023/03/Nacht_der_Unternehmen_stage.jpg
END:VEVENT
BEGIN:VEVENT
DTSTART;TZID=Europe/Berlin:20230516T160000
DTEND;TZID=Europe/Berlin:20230516T210000
DTSTAMP:20260423T204359
CREATED:20230329T081611Z
LAST-MODIFIED:20230329T085209Z
UID:10006446-1684252800-1684270800@www.aachen.digital
SUMMARY:Nacht der Unternehmen mit Schwerpunkt Ausbildung
DESCRIPTION:Die „Nacht der Unternehmen“ (NdU) ist ein Termin\, den weder Unternehmen aus der Region\, die Mitarbeiter:innen suchen\, noch Menschen\, die gerne in der Region arbeiten wollen\, verpassen sollten. Denn hier\, auf der Karrieremesse für Fachkräfte\, Berufseinsteiger\, Absolventen kommen sie schnell und unkompliziert zusammen. \nIn diesem Jahr findet die NdU gleich zweimal statt. Am 16. Mai und am 17. Oktober. Der Eintritt ist selbstverständlich kostenlos. Beide Events bieten neben den vielen Ständen der sich präsentierenden Unternehmen ein ebenfalls kostenloses Begleitprogramm mit Workshops\, Vorträgen\, kostenlosem Bewerbungsmappencheck und Bewerbungsfotos. \nDie NdU am 16. Mai hat neben dem gewohnten Programm noch einen zusätzlichen Schwerpunkt „Ausbildung und duale Studiengänge“. Damit reagiert die NdU darauf\, dass vielen Unternehmen in der Region nicht nur Fachkräfte fehlen\, sondern auch Ausbildungsplätze oft unbesetzt bleiben. Deshalb wird die NdU auch speziell bei Schüler:innen dafür werben\, die NdU zu besuchen. So werden diesmal nicht nur Studierende\, Absolventen und Young Professionals in den direkten Kontakt mit regionalen Arbeitgebern treten\, sich über Karrierechancen informieren und Kontakte knüpfen\, sondern auch künftige Auszubildende. \nZum ersten Mal gibt es am 16. Mai auch ein VR-Kino auf der NdU. In diesem können dann die Unternehmen über Datenbrillen virtuell besucht werden. \nWEITERE INFOS \nAchtung! Für alle digitalHUB-Mitglieder\, die daran Interessiert sind als Aussteller teilzunehmen\, gibt es 10%! Dafür gerne eine Mail an: events@hubaachen.de
URL:https://www.aachen.digital/en/event/nacht-der-unternehmen-mit-schwerpunkt-ausbildung/
LOCATION:TZA Technologiezentrum Aachen\, Dennewartstr. 25-27\, Aachen\, 52068\, Deutschland
ATTACH;FMTTYPE=image/jpeg:https://www.aachen.digital/wp-content/uploads/2023/03/Nacht_der_Unternehmen_stage.jpg
END:VEVENT
BEGIN:VEVENT
DTSTART;TZID=Europe/Berlin:20191029T170000
DTEND;TZID=Europe/Berlin:20191029T203000
DTSTAMP:20260423T204359
CREATED:20191010T082929Z
LAST-MODIFIED:20191016T153709Z
UID:10005435-1572368400-1572381000@www.aachen.digital
SUMMARY:12. Nacht der Unternehmen
DESCRIPTION:Die erfolgreichste Karriere- und Jobmesse in der Region öffnete zum 12. Mal Ihre Tore.\nCa. 100 Unternehmen stellen sich im Technologiezentrum vor und sind sogar teilweise von dort aus mit Busshuttles in ihren Büros und Werkstätten rund um Aachen erreichbar. \nDie Idee:\nKarrieremesse\, Jobbörse\, Unternehmensbesuche: Bereits zum zwölften Mal treffen Hochschulabsolventen\, Berufseinsteiger und Fachkräfte auf Unternehmen aus der Region. Die Interessenten kommen aus den Bereichen Ingenieurwesen\, Betriebswirtschaft\, Naturwissenschaft\, Informatik sowie Geistes- und Sozialwissenschaften. \nDas Besondere:\nDie Jobsuchenden fahren mit Bussen zu den Unternehmen in der Region. Die Interessenten sprechen mit Ihnen und schnuppern die Atmosphäre in Ihrem Unternehmen! \n4 kostenlose Workshops:\n\n“Welcome on Board” – Onboarding am Beispiel Bistum Aachen\, Sprecherin: Anna Feger\, Referentin für Personalentwicklung\n“Stärken und Schwächen” – Berufsfindung und Bewerbungstraining\, Sprecherin: Annie Maar\nBewerbungsmappencheck – Lass deine Bewerbung von der Agentur für Arbeit durchchecken\nBewerbungsfotos – deine kostenlosen Bewerbungsfotos schießt das Fotohaus Preim\n\nFazit:\nWer als Informatiker\, Maschinenbauer oder Wirtschaftswissenschaflter in der Region einen Job sucht\, ob Absolvent\, noch im Studium oder schon mit jahrelanger Berufserfahrung\, der hatte sehr gute Chancen.\nDer Erfolg ist also garantiert! \nDer Eintritt ist frei. \nHIER GEHTS ZUR ANMELDUNG
URL:https://www.aachen.digital/en/event/12-nacht-der-unternehmen/
ATTACH;FMTTYPE=image/jpeg:https://www.aachen.digital/wp-content/uploads/2019/10/Screenshot_2019-10-10-Aachen-12zu5.jpg
END:VEVENT
END:VCALENDAR