BEGIN:VCALENDAR
VERSION:2.0
PRODID:-//digitalHUB Aachen - ECPv6.15.20//NONSGML v1.0//EN
CALSCALE:GREGORIAN
METHOD:PUBLISH
X-ORIGINAL-URL:https://www.aachen.digital/en/
X-WR-CALDESC:Events for digitalHUB Aachen
REFRESH-INTERVAL;VALUE=DURATION:PT1H
X-Robots-Tag:noindex
X-PUBLISHED-TTL:PT1H
BEGIN:VTIMEZONE
TZID:Europe/Berlin
BEGIN:DAYLIGHT
TZOFFSETFROM:+0100
TZOFFSETTO:+0200
TZNAME:CEST
DTSTART:20240331T010000
END:DAYLIGHT
BEGIN:STANDARD
TZOFFSETFROM:+0200
TZOFFSETTO:+0100
TZNAME:CET
DTSTART:20241027T010000
END:STANDARD
BEGIN:DAYLIGHT
TZOFFSETFROM:+0100
TZOFFSETTO:+0200
TZNAME:CEST
DTSTART:20250330T010000
END:DAYLIGHT
BEGIN:STANDARD
TZOFFSETFROM:+0200
TZOFFSETTO:+0100
TZNAME:CET
DTSTART:20251026T010000
END:STANDARD
BEGIN:DAYLIGHT
TZOFFSETFROM:+0100
TZOFFSETTO:+0200
TZNAME:CEST
DTSTART:20260329T010000
END:DAYLIGHT
BEGIN:STANDARD
TZOFFSETFROM:+0200
TZOFFSETTO:+0100
TZNAME:CET
DTSTART:20261025T010000
END:STANDARD
END:VTIMEZONE
BEGIN:VEVENT
DTSTART;TZID=Europe/Berlin:20251028T130000
DTEND;TZID=Europe/Berlin:20251028T170000
DTSTAMP:20260423T202532
CREATED:20251006T133811Z
LAST-MODIFIED:20251006T133811Z
UID:10007443-1761656400-1761670800@www.aachen.digital
SUMMARY:CFD Training Series: Introduction to Finite Element Methods for Flow Problems
DESCRIPTION:In this course\, SDL Fluids covers various techniques to solve fluid flow problems using the finite element method. Topics of numerical instabilities that result from the underlying formulation will be presented. Furthermore\, SDL Fluids and the participants will review relevant stabilization techniques that are used to tackle such instabilities. The course consists of a combination of presentations and hands-on coding exercises in which the various methods are discussed and implemented within a basic finite element solver using Python. \nLanguage: English \nCapacity: 300 \nPrerequisites: Basic Python knowledge is advantageous. \nFormat: online \nFurther information: additional information will be announced to the participants in the week before the course. As well open for the participants of the European Digital Innovation Hub. \nZUR ANMELDUNG
URL:https://www.aachen.digital/en/event/cfd-training-series-introduction-to-finite-element-methods-for-flow-problems-2/
LOCATION:online
ATTACH;FMTTYPE=image/jpeg:https://www.aachen.digital/wp-content/uploads/2025/10/Design-ohne-Titel-4.jpg
END:VEVENT
END:VCALENDAR