BEGIN:VCALENDAR
VERSION:2.0
PRODID:-//digitalHUB Aachen - ECPv6.15.20//NONSGML v1.0//EN
CALSCALE:GREGORIAN
METHOD:PUBLISH
X-WR-CALNAME:digitalHUB Aachen
X-ORIGINAL-URL:https://www.aachen.digital/en/
X-WR-CALDESC:Events for digitalHUB Aachen
REFRESH-INTERVAL;VALUE=DURATION:PT1H
X-Robots-Tag:noindex
X-PUBLISHED-TTL:PT1H
BEGIN:VTIMEZONE
TZID:Europe/Berlin
BEGIN:DAYLIGHT
TZOFFSETFROM:+0100
TZOFFSETTO:+0200
TZNAME:CEST
DTSTART:20190331T010000
END:DAYLIGHT
BEGIN:STANDARD
TZOFFSETFROM:+0200
TZOFFSETTO:+0100
TZNAME:CET
DTSTART:20191027T010000
END:STANDARD
BEGIN:DAYLIGHT
TZOFFSETFROM:+0100
TZOFFSETTO:+0200
TZNAME:CEST
DTSTART:20200329T010000
END:DAYLIGHT
BEGIN:STANDARD
TZOFFSETFROM:+0200
TZOFFSETTO:+0100
TZNAME:CET
DTSTART:20201025T010000
END:STANDARD
BEGIN:DAYLIGHT
TZOFFSETFROM:+0100
TZOFFSETTO:+0200
TZNAME:CEST
DTSTART:20210328T010000
END:DAYLIGHT
BEGIN:STANDARD
TZOFFSETFROM:+0200
TZOFFSETTO:+0100
TZNAME:CET
DTSTART:20211031T010000
END:STANDARD
BEGIN:DAYLIGHT
TZOFFSETFROM:+0100
TZOFFSETTO:+0200
TZNAME:CEST
DTSTART:20220327T010000
END:DAYLIGHT
BEGIN:STANDARD
TZOFFSETFROM:+0200
TZOFFSETTO:+0100
TZNAME:CET
DTSTART:20221030T010000
END:STANDARD
BEGIN:DAYLIGHT
TZOFFSETFROM:+0100
TZOFFSETTO:+0200
TZNAME:CEST
DTSTART:20230326T010000
END:DAYLIGHT
BEGIN:STANDARD
TZOFFSETFROM:+0200
TZOFFSETTO:+0100
TZNAME:CET
DTSTART:20231029T010000
END:STANDARD
BEGIN:DAYLIGHT
TZOFFSETFROM:+0100
TZOFFSETTO:+0200
TZNAME:CEST
DTSTART:20240331T010000
END:DAYLIGHT
BEGIN:STANDARD
TZOFFSETFROM:+0200
TZOFFSETTO:+0100
TZNAME:CET
DTSTART:20241027T010000
END:STANDARD
BEGIN:DAYLIGHT
TZOFFSETFROM:+0100
TZOFFSETTO:+0200
TZNAME:CEST
DTSTART:20250330T010000
END:DAYLIGHT
BEGIN:STANDARD
TZOFFSETFROM:+0200
TZOFFSETTO:+0100
TZNAME:CET
DTSTART:20251026T010000
END:STANDARD
BEGIN:DAYLIGHT
TZOFFSETFROM:+0100
TZOFFSETTO:+0200
TZNAME:CEST
DTSTART:20260329T010000
END:DAYLIGHT
BEGIN:STANDARD
TZOFFSETFROM:+0200
TZOFFSETTO:+0100
TZNAME:CET
DTSTART:20261025T010000
END:STANDARD
END:VTIMEZONE
BEGIN:VEVENT
DTSTART;TZID=Europe/Berlin:20250129T100000
DTEND;TZID=Europe/Berlin:20250129T133000
DTSTAMP:20260423T153729
CREATED:20250109T094639Z
LAST-MODIFIED:20250109T101452Z
UID:10007144-1738144800-1738157400@www.aachen.digital
SUMMARY:NRW.BANK GovTech DemoDay 2025 „Kommune meets Startup”
DESCRIPTION:Wie können Kommunen und Start-ups in NRW bei der Transformation und auf dem Weg zur Klimaneutralität stärker zusammenarbeiten?\nAuf dem NRW.BANK GovTech DemoDay werden die Expertise und technologische Innovationskraft von Start-ups und Scale-ups aus dem breiten Beratungs- und Finanzierungsnetzwerk der NRW.BANK gezeigt\, die durch öffentliche Kunden der NRW.BANK in die Entwicklung und zur Anwendung kommen können. \nZehn ausgewählte\, innovative Start-ups werden ihre Ideen auf der Bühne des DemoDay persönlich vorstellen. \nHolen Sie sich fachlichen Input für eine Zusammenarbeit und treffen Sie auf dem GovTech DemoDay innovative Start-ups sowie Entscheider:innen aus Kommunen und kommunalen Einrichtungen in NRW. \nHier anmelden und mehr erfahren \n 
URL:https://www.aachen.digital/en/event/nrw-bank-govtech-demoday-2025/
LOCATION:NRW.Bank Düsseldorf\, Kavalleriestraße 22\, Düsseldorf\, Nordrhein-\, 40213\, Germany
ATTACH;FMTTYPE=image/jpeg:https://www.aachen.digital/wp-content/uploads/2025/01/NRW.BANK-GovTech-Demo-Day-16zu9.jpg
END:VEVENT
BEGIN:VEVENT
DTSTART;TZID=Europe/Berlin:20220509T140000
DTEND;TZID=Europe/Berlin:20220509T190000
DTSTAMP:20260423T153730
CREATED:20220407T073746Z
LAST-MODIFIED:20220407T073746Z
UID:10005639-1652104800-1652122800@www.aachen.digital
SUMMARY:16. Private Equity-Konferenz NRW
DESCRIPTION:16. Auflage der Private Equity-Konferenz NRW am 9. Mai 2022 \nUnter dem Titel „Private Equity – Partner für die Herausforderungen des Mittelstands“ veranstaltet die NRW.BANK am 9. Mai 2022 in der Rheinterrasse Düsseldorf die 16. Private Equity-Konferenz NRW. Die Veranstaltung beginnt um 14 Uhr und endet um 18.30 Uhr mit einem anschließenden Get-together. Einlass ist ab 13 Uhr. Während der Konferenz werden die Möglichkeiten der Finanzierung durch Private Equity mit besonderem Blick auf die aktuellen Herausforderungen des Mittelstands aufgezeigt und Finanzierungsoptionen mit Beteiligungskapital diskutiert. \nGeplant sind verschiedene Vorträge\, Diskussionsrunden und Gespräche mit bekannten Experten aus Politik\, Wirtschaft und Wissenschaft. Als Keynote-Speaker treten der Ökonom Prof. Dr. Ottmar Georg Edenhofer\, der Soziologe und Sozialpsychologe Prof. Dr. Harald Welzer sowie der Volkswirt\nProf. Dr. Dr. h. c. Clemens Fuest auf. NRW-Wirtschafts- und Digitalminister Prof. Dr. Andreas Pinkwart ist der Schirmherr der Veranstaltung\, die von NRW.BANK-Vorstandsmitglied Michael Stölting eröffnet wird. \nAuf dem Marktplatz für Beteiligungskapital präsentieren junge und innovative Unternehmen ihre Geschäftsvorhaben. Die Teilnehmerinnen und Teilnehmer der Konferenz gewinnen dort persönliche Eindrücke und knüpfen Kontakte. \nAuf der Konferenz erfolgt auch in diesem Jahr wieder ein Start-up-Pitch\, der vom Private Equity-Forum NRW e. V. ausgerichtet wird: Drei Start-ups präsentieren dem Publikum ihre Geschäftsideen. Dem Gewinner winkt ein Preisgeld von 10 000 Euro\, zur Verfügung gestellt von Grover. \nKooperationspartner der Veranstaltung sind der BVK e. V. ­– Bundesverband Deutscher Kapitalbeteiligungsgesellschaften und das\nPrivate Equity-Forum NRW e. V. \nKooperationspartner der Veranstaltung sind der Bundesverband Deutscher Kapitalbeteiligungsgesellschaften (BVK) e. V. und das Private Equity-Forum NRW e. V. \nWeitere Informationen und Anmeldung
URL:https://www.aachen.digital/en/event/16-private-equity-konferenz-nrw/
LOCATION:Rheinterrasse Düsseldorf\, Joseph-Beuys-Ufer 33\, Düsseldorf\, NRW\, 40479\, Deutschland
ATTACH;FMTTYPE=image/jpeg:https://www.aachen.digital/wp-content/uploads/2022/04/Stage-Private-Equity-Konferenz.jpg
END:VEVENT
BEGIN:VEVENT
DTSTART;TZID=Europe/Berlin:20210531T170000
DTEND;TZID=Europe/Berlin:20210531T200000
DTSTAMP:20260423T153730
CREATED:20210517T081731Z
LAST-MODIFIED:20210517T082139Z
UID:10005903-1622480400-1622491200@www.aachen.digital
SUMMARY:15. Private Equity-Konferenz NRW
DESCRIPTION:Venture Capital als Treibstoff für die Digitalisierung \nDie Corona-Krise unterstreicht die Wichtigkeit der digitalen Modernisierung deutscher Unternehmen. Arbeitnehmer wie Konsumenten haben ihre Arbeits- und Konsumgewohnheiten im Verlauf der Pandemie angepasst. Digitalisierte Unternehmen hatten und haben daher die Nase vorn — und können auch nach der Krise die großen Gewinner von morgen sein. Welche Finanzierungsoptionen mit Beteiligungskapital ergeben sich vor diesem Hintergrund? \nUm dies zu beleuchten\, bringt die NRW.BANK am 31. Mai 2021 auf der 15. Private Equity-Konferenz NRW wieder alle relevanten Akteure digital zusammen. Bereits die Online-Veranstaltung im vergangenen Jahr war mit über 600 Teilnehmern aus Mittelstand\, Start-up-Szene\, Banken und Sparkassen\, Private Equity- und Venture Capital-Gesellschaften sowie Business Angels\, Beratern und Multiplikatoren ein voller Erfolg. \nAuf der Konferenz\, die die NRW.BANK mit den Kooperationspartnern Private Equity Forum NRW e.V. und dem BvK e.V. durchführt\, treffen Start-ups und Unternehmen auf kompetente Berater und starke Kapitalgeber. Registrieren Sie sich am besten direkt\, und gewinnen Sie neue Insights und Netzwerke! \nFreuen Sie sich auf eine spannende Mischung aus Vorträgen\, Diskussionsrunden\, Start-Ups und Gresprächen mit Experten aus Politik\, Wirtschaft und Wissenschaft. NRW-Wirtschaftsminister Prof. Dr. Andreas Pinkwart ist Schirmherr der Veranstaltung und wird sie gemeinsam mit NRW.BANK-Vorstandsmitglied Michael Stölting eröffnen. \nSind Sie auf Twitter aktiv\, folgen Sie uns unter den Hashtags #pek2021 und #nrwbank. \nIhre NRW.BANK \nHaben Sie weitere Fragen\, dann schreiben Sie uns eine E-Mail: konferenz@nrwbank.de. \nEine Anmeldung ist erforderlich. Die Anmeldung ist kostenlos. Anmeldeschluss: 25.05.2021\nDie Anmeldung finden Sie unter: www.nrwbank.de/pek-online
URL:https://www.aachen.digital/en/event/15-private-equity-konferenz-nrw/
LOCATION:Jülicher Strasse 72a\, Aachen\, 52070\, Germany
ATTACH;FMTTYPE=image/jpeg:https://www.aachen.digital/wp-content/uploads/2021/05/nrwbank.jpg
END:VEVENT
BEGIN:VEVENT
DTSTART;TZID=Europe/Berlin:20201008T160000
DTEND;TZID=Europe/Berlin:20201008T170000
DTSTAMP:20260423T153730
CREATED:20200917T084033Z
LAST-MODIFIED:20200922T085655Z
UID:10005638-1602172800-1602176400@www.aachen.digital
SUMMARY:WebSeminar "Let‘s talk money – Finanzierungsförderung für GründerInnen und junge Unternehmen"
DESCRIPTION:Die Finanzierung ihres Vorhabens gehört zu den vielen Herausforderungen\, vor denen Gründerinnen und Gründer stehen. Wie muss der Businessplan gestaltet werden\, um eine Bank zu überzeugen? Welche öffentlichen Förderprogramme gibt es und wie finde ich den Zugang zu den richtigen Unterstützungseinrichtungen? Gibt es auch Zuschüsse und wie können sie beantragt werden? Diese Fragestellungen sind Thema unseres WebSeminars „Let‘s talk money – Finanzierungsförderung für GründerInnen und junge Unternehmen“. Die Förderberater der NRW.BANK stellen vor\, wie sich GründerInnen und junge Unternehmen auf ihr erstes Finanzierungsgespräch vorbereiten sollten und geben einen Überblick über die wichtigsten Förderangebote der NRW.BANK und ihrer Partner. Darüber hinaus werden interessante Beratungs- und Zuschussoptionen erläutert. \nZUR ANMELDUNG GEHT’S HIER.
URL:https://www.aachen.digital/en/event/webseminar-lets-talk-money-finanzierungsfoerderung-fuer-gruenderinnen-und-junge-unternehmen/
LOCATION:Jülicher Strasse 72a\, Aachen\, 52070\, Germany
ATTACH;FMTTYPE=image/jpeg:https://www.aachen.digital/wp-content/uploads/2020/09/Bild1.jpg
END:VEVENT
BEGIN:VEVENT
DTSTART;TZID=Europe/Berlin:20200929T150000
DTEND;TZID=Europe/Berlin:20200929T180000
DTSTAMP:20260423T153730
CREATED:20200907T123418Z
LAST-MODIFIED:20200907T123418Z
UID:10005630-1601391600-1601402400@www.aachen.digital
SUMMARY:Online-Dialogveranstaltung „Start-up trifft Mittelstand – Erfahrungsaustausch“
DESCRIPTION:„Start-up trifft Mittelstand – Erfahrungsaustausch für Digital Hubs\, Wirtschaftsförderungen\, Wirtschaftskammern\, Hochschulen und weitere Akteure der Innovations- und Gründungsförderung in NRW“. \nIn Nordrhein-Westfalen arbeiten vielfältige Akteure und Initiativen daran\, die Zusammenarbeit von Gründern und jungen Unternehmen mit dem etablierten Mittelstand zu stärken und voranzutreiben. \nGründerinnen und Gründer können für etablierte Unternehmen wichtige Impulsgeber für Digitalisierung und Innovation sein; Mittelständler verfügen über langjährige Markterfahrungen und Netzwerke. \nWelche Erfolge konnten in diesem Zusammenspiel in der Praxis erzielt werden? Welche Erfahrungen haben die Akteure in NRW bislang machen können? Und wie können die Potenziale der Zusammenarbeit weiter gefördert werden? Über diese und weitere Fragen möchten wir uns im Rahmen der Online-Konferenz mit Ihnen austauschen. \nDarüber hinaus wird das Förderprogramm DWNRW-Regio.Events durch das Wirtschafts- und Digitalministerium NRW (MWIDE) vorgestellt\, mit dem Netzwerkveranstaltungen für Startups und etablierte Unternehmen bezuschusst werden können. \nAnmeldung bis zum 21. September 2020\n(WebEx-Link wird nach Anmeldung verschickt)
URL:https://www.aachen.digital/en/event/online-dialogveranstaltung-start-up-trifft-mittelstand-erfahrungsaustausch/
ATTACH;FMTTYPE=image/jpeg:https://www.aachen.digital/wp-content/uploads/2020/09/nrwbankveranstaltung.jpg
END:VEVENT
BEGIN:VEVENT
DTSTART;TZID=Europe/Berlin:20200904T103000
DTEND;TZID=Europe/Berlin:20200904T113000
DTSTAMP:20260423T153730
CREATED:20200828T094528Z
LAST-MODIFIED:20200828T094528Z
UID:10005627-1599215400-1599219000@www.aachen.digital
SUMMARY:WebSeminar  "Digitalisierung\, jetzt erst recht!"
DESCRIPTION:Digitalisierung und Innovation sind für Unternehmen wesentliche Wachstumsfaktoren und Voraussetzung für die notwendige Transformation während und nach der Corona-Krise. Nur durch einen stärkeren Einsatz von Forschung und Entwicklung\, Digitalisierung und Industrie 4.0 sowie nachhaltigen Produkten und Prozessen kann die Modernisierung der Wirtschaft erreicht werden. \nDer Bund\, das Land NRW und die NRW.BANK unterstützen mit neuen bzw. weiterentwickelten Förderprogrammen ganz konkrete Digitalisierungs- und Innovationsmaßnahmen. Dazu gehören die Erweiterung des Kreditprogramms „NRW.BANK.Digitalisierung und Innovation“ ebenso wie das neue Förderprogramm des Bundes „Digital Jetzt – Investitionsförderung für KMU“. \nDiese und weitere spannende Initiativen stellen wir Ihnen online in unserem WebSeminar „Digitalisierung – jetzt erst recht!“ vor. Als Referenten stehen unsere Experten aus dem Beratungscenter Wirtschaftsförderung sowie aus der Förderberatung für Sie zu Verfügung. \nTermin: 4. September 2020\, 10:30 – 11.30 Uhr \nZielgruppe: Existenzgründer\, Gewerbliche Kunden\, Multiplikatoren \nWir freuen uns über eine rege Teilnahme und entsprechende Weiterleitung dieser Einladung zur Veranstaltung auch an interessierte Unternehmen aus Ihrem Netzwerk. Gern können Sie zur Verbreitung der Information auch die Anregungen aus unserem beigefügten MediaKit nutzen. \nEine Teilnahme an der Webex-Schulung ist auch per Telefon möglich. \nBitte melden Sie sich bei Interesse bis zum 31. August 2020 an: \nHIER GEHT’S ZUR ANMELDUNG. \nDen jeweiligen Webex-Einwahl-Link erhalten Sie separat kurz vor der Veranstaltung. \n  \n 
URL:https://www.aachen.digital/en/event/webseminar-digitalisierung-jetzt-erst-recht/
LOCATION:Jülicher Strasse 72a\, Aachen\, 52070\, Germany
ATTACH;FMTTYPE=image/jpeg:https://www.aachen.digital/wp-content/uploads/2020/07/AdobeStock_297840659_Faceshape_data-rise-12zu5.jpg
END:VEVENT
END:VCALENDAR