BEGIN:VCALENDAR
VERSION:2.0
PRODID:-//digitalHUB Aachen - ECPv6.15.20//NONSGML v1.0//EN
CALSCALE:GREGORIAN
METHOD:PUBLISH
X-WR-CALNAME:digitalHUB Aachen
X-ORIGINAL-URL:https://www.aachen.digital/en/
X-WR-CALDESC:Events for digitalHUB Aachen
REFRESH-INTERVAL;VALUE=DURATION:PT1H
X-Robots-Tag:noindex
X-PUBLISHED-TTL:PT1H
BEGIN:VTIMEZONE
TZID:Europe/Berlin
BEGIN:DAYLIGHT
TZOFFSETFROM:+0100
TZOFFSETTO:+0200
TZNAME:CEST
DTSTART:20180325T010000
END:DAYLIGHT
BEGIN:STANDARD
TZOFFSETFROM:+0200
TZOFFSETTO:+0100
TZNAME:CET
DTSTART:20181028T010000
END:STANDARD
BEGIN:DAYLIGHT
TZOFFSETFROM:+0100
TZOFFSETTO:+0200
TZNAME:CEST
DTSTART:20190331T010000
END:DAYLIGHT
BEGIN:STANDARD
TZOFFSETFROM:+0200
TZOFFSETTO:+0100
TZNAME:CET
DTSTART:20191027T010000
END:STANDARD
BEGIN:DAYLIGHT
TZOFFSETFROM:+0100
TZOFFSETTO:+0200
TZNAME:CEST
DTSTART:20200329T010000
END:DAYLIGHT
BEGIN:STANDARD
TZOFFSETFROM:+0200
TZOFFSETTO:+0100
TZNAME:CET
DTSTART:20201025T010000
END:STANDARD
END:VTIMEZONE
BEGIN:VEVENT
DTSTART;VALUE=DATE:20191008
DTEND;VALUE=DATE:20191011
DTSTAMP:20260423T215018
CREATED:20190527T125523Z
LAST-MODIFIED:20190527T125710Z
UID:10005011-1570492800-1570751999@www.aachen.digital
SUMMARY:it-sa Messe 2019\, Trends & Innovationen der IT-Securitybranche
DESCRIPTION:Die it-sa ist Europas größte IT-Security Messe und eine der bedeutendsten Plattformen für Cloud-\, Mobile-und Cyber Security sowie Daten- und Netzwerksicherheit in der Welt. \nSeit 2009 in Nürnberg beheimatet\, ist die it-sa der Treffpunkt für C-Level Experten\, IT Sicherheitsbeauftragte aus Industrie\, Dienstleistung und Verwaltung sowie Entwickler und Anbieter von Produkten und  Services rund um das Thema IT-Sicherheit. \nNeben dem begleitenden Kongressprogramm „Congress@it-sa“ bilden die Foren zu Technik und Management sowie das internationale Forum beste Möglichkeiten für den intensiven\, branchenübergreifenden Dialog. In zahlreichen Vortragsreihen informieren Experten vom 8. bis 10. Oktober zu aktuellen Fragen\, Strategien und technischen Lösungen für mehr IT-Sicherheit. \nÜbrigens: Die it-sa hat sich als ausstellerstärkste IT-Sicherheits-Fachmesse der Welt etabliert. 2018 präsentierten rund 700 Aussteller aus 27 Ländern\, verteilt auf 3 Hallen\, aktuellste IT-Sicherheitslösungen. Für 14.290 Fachbesucher erwies sich die it-sa erneut als unerlässlicher Termin in der IT-Security-Branche. \nWeiter Infos finden Sie in der offiziellen Broschüre: \nBroschüre als PDF
URL:https://www.aachen.digital/en/event/16223/
LOCATION:Messezentrum Nürnberg\, Nürnberg\, 90471\, Deutschland
ATTACH;FMTTYPE=image/jpeg:https://www.aachen.digital/wp-content/uploads/2019/05/Unbenannt.jpg
END:VEVENT
END:VCALENDAR