BEGIN:VCALENDAR
VERSION:2.0
PRODID:-//digitalHUB Aachen - ECPv6.15.20//NONSGML v1.0//EN
CALSCALE:GREGORIAN
METHOD:PUBLISH
X-WR-CALNAME:digitalHUB Aachen
X-ORIGINAL-URL:https://www.aachen.digital/en/
X-WR-CALDESC:Events for digitalHUB Aachen
REFRESH-INTERVAL;VALUE=DURATION:PT1H
X-Robots-Tag:noindex
X-PUBLISHED-TTL:PT1H
BEGIN:VTIMEZONE
TZID:Europe/Berlin
BEGIN:DAYLIGHT
TZOFFSETFROM:+0100
TZOFFSETTO:+0200
TZNAME:CEST
DTSTART:20230326T010000
END:DAYLIGHT
BEGIN:STANDARD
TZOFFSETFROM:+0200
TZOFFSETTO:+0100
TZNAME:CET
DTSTART:20231029T010000
END:STANDARD
BEGIN:DAYLIGHT
TZOFFSETFROM:+0100
TZOFFSETTO:+0200
TZNAME:CEST
DTSTART:20240331T010000
END:DAYLIGHT
BEGIN:STANDARD
TZOFFSETFROM:+0200
TZOFFSETTO:+0100
TZNAME:CET
DTSTART:20241027T010000
END:STANDARD
BEGIN:DAYLIGHT
TZOFFSETFROM:+0100
TZOFFSETTO:+0200
TZNAME:CEST
DTSTART:20250330T010000
END:DAYLIGHT
BEGIN:STANDARD
TZOFFSETFROM:+0200
TZOFFSETTO:+0100
TZNAME:CET
DTSTART:20251026T010000
END:STANDARD
BEGIN:DAYLIGHT
TZOFFSETFROM:+0100
TZOFFSETTO:+0200
TZNAME:CEST
DTSTART:20260329T010000
END:DAYLIGHT
BEGIN:STANDARD
TZOFFSETFROM:+0200
TZOFFSETTO:+0100
TZNAME:CET
DTSTART:20261025T010000
END:STANDARD
END:VTIMEZONE
BEGIN:VEVENT
DTSTART;TZID=Europe/Berlin:20250701T124000
DTEND;TZID=Europe/Berlin:20250701T140000
DTSTAMP:20260423T220130
CREATED:20250618T155535Z
LAST-MODIFIED:20250618T155535Z
UID:10007367-1751373600-1751378400@www.aachen.digital
SUMMARY:Venture Capital Finanzierung für StartUps – legal deal term
DESCRIPTION:Benjamin Monheim und Fabian Mimberg von Osborne Clarke führen durch die rechtlichen Grundlagen der Venture Capital Finanzierung und stellen dabei die wichtigsten Terms und aktuellen Trends vor. Der interaktive Workshop richtet sich an alle Gründer:innen\, Gründungsinteressierte\, Startups und Investoren. Die Veranstaltung findet auf Englisch im Space 68 des digitalHUB Aachen statt. \nZUR ANMELDUNG
URL:https://www.aachen.digital/en/event/venture-capital-finanzierung-fuer-startups-legal-deal-term/
LOCATION:digitalHUB Aachen\, Jülicher Str. 72a\, Aachen\, Nordrhein-Westfalen\, 52070\, Germany
ATTACH;FMTTYPE=image/jpeg:https://www.aachen.digital/wp-content/uploads/2025/06/osborne-clarke-startup-week-.jpg
END:VEVENT
BEGIN:VEVENT
DTSTART;TZID=Europe/Berlin:20240701T133000
DTEND;TZID=Europe/Berlin:20240701T150000
DTSTAMP:20260423T220130
CREATED:20240603T084956Z
LAST-MODIFIED:20240619T072306Z
UID:10006813-1719840600-1719846000@www.aachen.digital
SUMMARY:Venture Capital Finanzierung für Startups - legal deal terms!
DESCRIPTION:Benjamin Monheim und Fabian Mimberg von Osborne Clarke führen durch die rechtlichen Grundlagen der Venture Capital Finanzierung und stellen dabei die wichtigsten Terms und aktuellsten Trends vor. \nDer interaktive Workshop richtet sich an alle Gründer:innen\, Gründungsinteressierte\, Startups und Investoren. \nJetzt anmelden \n  \nSTARTUP WEEK AACHEN: \nVom 01.07.2024 bis zum 05.07.2024 kommt die gesamte Startup-Szene der Aachener Region zusammen und teilt mit euch Know-how und spannende\, innovative Ideen für die Zukunft! In dieser Woche erwarten euch zahlreiche Veranstaltungen rund um die Themen Startup\, Wachstum\, Digitalisierung und Innovation. Das Angebot reicht von Workshops\, Keynotes und TalkUp Stories bis hin zum TOP-Event: #neuland x atec am 02. und 03.07.2024 (Aachener Technologie- und Entrepreneurship-Kongress). \nZur Webseite
URL:https://www.aachen.digital/en/event/venture-capital-finanzierung-fuer-start-ups-legal-deal-terms/
LOCATION:digitalHUB Aachen\, Jülicher Str. 72a\, Aachen\, Nordrhein-Westfalen\, 52070\, Germany
ATTACH;FMTTYPE=image/jpeg:https://www.aachen.digital/wp-content/uploads/2024/06/stage-startupweek.jpg
END:VEVENT
END:VCALENDAR