BEGIN:VCALENDAR
VERSION:2.0
PRODID:-//digitalHUB Aachen - ECPv6.15.20//NONSGML v1.0//EN
CALSCALE:GREGORIAN
METHOD:PUBLISH
X-ORIGINAL-URL:https://www.aachen.digital/en/
X-WR-CALDESC:Events for digitalHUB Aachen
REFRESH-INTERVAL;VALUE=DURATION:PT1H
X-Robots-Tag:noindex
X-PUBLISHED-TTL:PT1H
BEGIN:VTIMEZONE
TZID:Europe/Berlin
BEGIN:DAYLIGHT
TZOFFSETFROM:+0100
TZOFFSETTO:+0200
TZNAME:CEST
DTSTART:20220327T010000
END:DAYLIGHT
BEGIN:STANDARD
TZOFFSETFROM:+0200
TZOFFSETTO:+0100
TZNAME:CET
DTSTART:20221030T010000
END:STANDARD
BEGIN:DAYLIGHT
TZOFFSETFROM:+0100
TZOFFSETTO:+0200
TZNAME:CEST
DTSTART:20230326T010000
END:DAYLIGHT
BEGIN:STANDARD
TZOFFSETFROM:+0200
TZOFFSETTO:+0100
TZNAME:CET
DTSTART:20231029T010000
END:STANDARD
BEGIN:DAYLIGHT
TZOFFSETFROM:+0100
TZOFFSETTO:+0200
TZNAME:CEST
DTSTART:20240331T010000
END:DAYLIGHT
BEGIN:STANDARD
TZOFFSETFROM:+0200
TZOFFSETTO:+0100
TZNAME:CET
DTSTART:20241027T010000
END:STANDARD
BEGIN:DAYLIGHT
TZOFFSETFROM:+0100
TZOFFSETTO:+0200
TZNAME:CEST
DTSTART:20250330T010000
END:DAYLIGHT
BEGIN:STANDARD
TZOFFSETFROM:+0200
TZOFFSETTO:+0100
TZNAME:CET
DTSTART:20251026T010000
END:STANDARD
BEGIN:DAYLIGHT
TZOFFSETFROM:+0100
TZOFFSETTO:+0200
TZNAME:CEST
DTSTART:20260329T010000
END:DAYLIGHT
BEGIN:STANDARD
TZOFFSETFROM:+0200
TZOFFSETTO:+0100
TZNAME:CET
DTSTART:20261025T010000
END:STANDARD
END:VTIMEZONE
BEGIN:VEVENT
DTSTART;TZID=Europe/Berlin:20250826T090000
DTEND;TZID=Europe/Berlin:20250826T153000
DTSTAMP:20260423T203651
CREATED:20250729T104939Z
LAST-MODIFIED:20250806T140050Z
UID:10007398-1756198800-1756222200@www.aachen.digital
SUMMARY:Unternehmensexkursion „Zukunft erleben: Digitalisierung & Künstliche Intelligenz“
DESCRIPTION:Die Wirtschafts- und Regionalförderung Ostbelgien lädt zur exklusiven Unternehmensexkursion ein\, bei der man spannende Einblicke in die Themen Digitale Transformation\, Künstliche Intelligenz\, nachhaltige Produktionssysteme sowie innovative Geschäftsmodelle erhält. Gemeinsam werden führende Einrichtungen und Initiativen\, die die Zukunft der Industrie aktiv gestalten\, besucht. \nAgenda \n\n09:00 Uhr – eigenständige Anreise: MTI/WZL-Halle\, Campus Boulevard 30\, Aachen\n09:15 – 10:15 Uhr – „Digitale Transformation in der Fertigungstechnik“ – Jiyoung Moon (Manufacturing Technology Institute (MTI) der RWTH Aachen)\n10:15 – 10:30 Uhr – eigenständige Anreise zum Innovation and Learning Center Aachen\, Vaalser Str. 460\, Aachen\n10:30 – 10:45 Uhr – Kaffeepause\n10:45 – 12:00 Uhr – „Industrie neu denken: KI\, Geschäftsmodelle\, Lean & Nachhaltigkeit im vernetzten Produktionsökosystem“ – Massoud Sattari (Digital Innovation Center Europe/ITA Academy)\n12:00 – 13:00 Uhr – Gemeinsames Mittagessen auf dem Campus\n13:30 – 13:45 Uhr – eigenständige Anreise zum digitalHUB Aachen in der digitalCHURCH\, Jülicher Straße 72a\, Aachen\n13:45 – 14:15 Uhr – Vorstellung des digitalHUB Aachen – Michael Franssen & des EDIH Rheinland – Anna Majchrzak (digitalHUB Aachen)\n14:15 – 14:45 Uhr – Zwei Startup-Pitches aus dem digitalHUB Aachen\n14:45 – 15:15 Uhr – Networking & Abschluss\n\nTeilnahmebedingungen:\nDie Teilnahme ist kostenlos. Die Plätze sind auf 10 Teilnehmer begrenzt. Eine Anmeldung ist erforderlich. \nAnmeldung bis 15.08. per E-Mail \nDie Anzahl der Plätze ist begrenzt. Die Teilnahme ist kostenfrei.\nWeitere Informationen
URL:https://www.aachen.digital/en/event/unternehmensexkursion-zukunft-erleben/
ATTACH;FMTTYPE=image/jpeg:https://www.aachen.digital/wp-content/uploads/2025/07/AdobeStock_1266426473-scaled.jpeg
END:VEVENT
BEGIN:VEVENT
DTSTART;TZID=Europe/Berlin:20240423T090000
DTEND;TZID=Europe/Berlin:20240423T160000
DTSTAMP:20260423T203651
CREATED:20240409T080824Z
LAST-MODIFIED:20240409T112258Z
UID:10006124-1713862800-1713888000@www.aachen.digital
SUMMARY:Unternehmensexkursion nach Aachen mit Fokus "Industrie der Zukunft – Digitalisierung\, Robotik & KI"
DESCRIPTION:Exkursion in die 𝐙𝐮𝐤𝐮𝐧𝐟𝐭 𝐝𝐞𝐫 𝐈𝐧𝐝𝐮𝐬𝐭𝐫𝐢𝐞: Entdecken Sie mit uns Digitalisierung\, Robotik und KI! Morgens werden wir spannende Einblicke in folgende Institutionen erhalten: \n\nWerkzeugmaschinenlabor WZL der RWTH Aachen\nEuropean Digital Innovation Hub Rheinland\nDemofabrik Aachen\nFraunhofer-Institut für Produktionstechnologie IPT\n\nNachmittags besuchen wir dann die digitalCHURCH\, wo uns der digitalHUB Aachen e.V. sowie zwei aufstrebende Startups erwarten! \nUm die Planung zu erleichtern\, bitten wir Sie\, sich bis zum 12. April per E-Mail anzumelden und uns ebenfalls mitzuteilen\, ob Sie den Bustransport beanspruchen möchten und von welchem Ort aus (ab Eupen oder St. Vith). Die Teilnehmerzahl ist begrenzt. Die Kosten werden von uns übernommen (Mittagessen und Bustransport). \nWeitere Infos und Anmeldung
URL:https://www.aachen.digital/en/event/unternehmensexkursion-nach-aachen-mit-fokus-industrie-der-zukunft-digitalisierung-robotik-ki/
ATTACH;FMTTYPE=image/jpeg:https://www.aachen.digital/wp-content/uploads/2024/04/Unternehmensexkursion_Ostbelgien_KI_Stage.jpg
END:VEVENT
BEGIN:VEVENT
DTSTART;TZID=Europe/Berlin:20240304T193000
DTEND;TZID=Europe/Berlin:20240304T220000
DTSTAMP:20260423T203651
CREATED:20240208T103839Z
LAST-MODIFIED:20240219T103745Z
UID:10006732-1709580600-1709589600@www.aachen.digital
SUMMARY:Spezialausgabe „Digitalisierung“ von HOW I MET MY IDEA
DESCRIPTION:Am 4. März stürmen regionale Kreativschaffende wieder die Bühne. Diesmal plaudern Medienpädagogen\, Spieleentwickler\, Digitalgründer und -unternehmer\, Drohnenentwickler\, Künstler\, Architekten\, Lehrer und Handwerker aus dem beruflichen Nähkästchen. \nAcht Redner präsentieren sich und ihre Ideen\, Visionen und Unternehmungen im Acht-Minuten-Takt. Ob Vortrag\, Lesung oder kurzes Konzert – wie die eigene Idee präsentiert wird\, ist den Teilnehmenden innerhalb ihrer acht Minuten völlig freigestellt. \nDiesmal erwarten Sie interessante Redner:innen\, die sich und ihre Berufswelt im digitalen Zeitalter vorstellen: \n\nGregory Wintgens – Egosoft\, Aachen\nRaoul & Björn Severin – Tauri Industries\, Kelmis\nJana Rusch – Filiale ephemerer Kunstformen\, Eupen\nSimon Radermacher – Marmor Radermacher\, Raeren\nJan Hilgers – Medienpädagogik\, St. Vith\nNico van Weersth – Architektur\, Raeren\nIt4kids – IT-Kurse für Grundschulen\, Aachen\nThorsten Unger – Wegesrand\, Mönchengladbach\n\nEin besonderes Schmankerl: Teile des Showrooms bei ROM werden zu einer Virtual-Area umgebaut mit zahlreichen Ständen rund um das Thema Digitalisierung. Kommt vorbei und erlebt Digitalisierung hautnah! Oder verfolgt den Live-Stream. \nDer Eintritt ist frei\, eine Anmeldung ist nicht erforderlich. Mehr erfahren \n  \nHOW I MET MY IDEA wird unter der Schirmherrschaft der belgischen EU-Ratspräsidentschaft präsentiert. \n 
URL:https://www.aachen.digital/en/event/spezialausgabe-digitalisierung-von-how-i-met-my-idea/
LOCATION:ROM\, Industriestrasse 38\, Eupen\, 4700
ATTACH;FMTTYPE=image/jpeg:https://www.aachen.digital/wp-content/uploads/2024/02/How-I-met-my-Idea-Stage-1.jpg
END:VEVENT
BEGIN:VEVENT
DTSTART;TZID=Europe/Berlin:20231130T081500
DTEND;TZID=Europe/Berlin:20231130T103000
DTSTAMP:20260423T203651
CREATED:20231025T072121Z
LAST-MODIFIED:20231025T073853Z
UID:10006616-1701332100-1701340200@www.aachen.digital
SUMMARY:EarlyBirds-Technologiefrühstück
DESCRIPTION:Aufgeweckte Unternehmer setzen sich frühzeitig mit Zukunftsfragen und Schlüsseltechnologien\, die für die Entwicklung ihrer Firma von Relevanz sein können\, auseinander. Sie suchen den Austausch mit anderen Unternehmern über die Trends auf den Märkten und nutzen durch innovative Strategien die Chance\, Probleme von heute in Erfolge von morgen umzuwandeln – durch Kooperationen\, Projekte und mit den richtigen Partnern. \nMit der Veranstaltungsreihe „EarlyBirds“ sind Sie eingeladen\, zu früher Stunde über Zukunftsthemen zu diskutieren. Sie sollen zum Nachdenken und Querdenken inspiriert werden und in lockerer (Frühstücks-) Atmosphäre bei einem gastgebenden Unternehmen eine Plattform zum Netzwerken genießen. \nUm verbindliche Anmeldung bitten wir bis zum 18. November 2023 per E-Mail an anmeldung@wfg.be oder per Telefon unter + 32 (0)87/56 82 01. \nDie Teilnehmerzahl ist begrenzt. \n 
URL:https://www.aachen.digital/en/event/earlybirds-technologiefruehstueck/
LOCATION:BW Eupen\, Gewerbestraße 13\, Eupen\, 4700\, Deutschland
ATTACH;FMTTYPE=image/jpeg:https://www.aachen.digital/wp-content/uploads/2023/10/early-birds-stage.jpg
END:VEVENT
END:VCALENDAR