BEGIN:VCALENDAR
VERSION:2.0
PRODID:-//digitalHUB Aachen - ECPv6.15.20//NONSGML v1.0//EN
CALSCALE:GREGORIAN
METHOD:PUBLISH
X-ORIGINAL-URL:https://www.aachen.digital/en/
X-WR-CALDESC:Events for digitalHUB Aachen
REFRESH-INTERVAL;VALUE=DURATION:PT1H
X-Robots-Tag:noindex
X-PUBLISHED-TTL:PT1H
BEGIN:VTIMEZONE
TZID:Europe/Berlin
BEGIN:DAYLIGHT
TZOFFSETFROM:+0100
TZOFFSETTO:+0200
TZNAME:CEST
DTSTART:20230326T010000
END:DAYLIGHT
BEGIN:STANDARD
TZOFFSETFROM:+0200
TZOFFSETTO:+0100
TZNAME:CET
DTSTART:20231029T010000
END:STANDARD
BEGIN:DAYLIGHT
TZOFFSETFROM:+0100
TZOFFSETTO:+0200
TZNAME:CEST
DTSTART:20240331T010000
END:DAYLIGHT
BEGIN:STANDARD
TZOFFSETFROM:+0200
TZOFFSETTO:+0100
TZNAME:CET
DTSTART:20241027T010000
END:STANDARD
BEGIN:DAYLIGHT
TZOFFSETFROM:+0100
TZOFFSETTO:+0200
TZNAME:CEST
DTSTART:20250330T010000
END:DAYLIGHT
BEGIN:STANDARD
TZOFFSETFROM:+0200
TZOFFSETTO:+0100
TZNAME:CET
DTSTART:20251026T010000
END:STANDARD
BEGIN:DAYLIGHT
TZOFFSETFROM:+0100
TZOFFSETTO:+0200
TZNAME:CEST
DTSTART:20260329T010000
END:DAYLIGHT
BEGIN:STANDARD
TZOFFSETFROM:+0200
TZOFFSETTO:+0100
TZNAME:CET
DTSTART:20261025T010000
END:STANDARD
END:VTIMEZONE
BEGIN:VEVENT
DTSTART;TZID=Europe/Berlin:20250704T101500
DTEND;TZID=Europe/Berlin:20250704T114500
DTSTAMP:20260423T192303
CREATED:20250617T082843Z
LAST-MODIFIED:20250617T082843Z
UID:10007364-1751624100-1751629500@www.aachen.digital
SUMMARY:Kick-start your Business
DESCRIPTION:Workshop für Gründer:innen\, die wissen möchten\, wie aus einer guten Idee ein Unternehmen wird\, das transparent\, anpassungsfähig\, nachhaltig agiert und langfristig erfolgreich wird. \nIhr erfahrt: \n\nwie aus einer Strategie ein zukunftsfähiges Unternehmen wird\nwelche Prozesse für den Erfolg eines Unternehmens wichtig sind\nwarum Kunde\, Vertrag\, Produkt die Basis für Chancen und Risiken sind\n\nGemeinsam erarbeiten wir auf Basis einer Fallstudie aus der Start-up-Welt: \n\nwie aus einer Idee ein Produkt wird\nwas zu einer guten Customer Journey gehört\nwie du Kunden begeisterst und langfristig an dein Unternehmen bindest\n\nErhaltet wertvolle Tipps und Tricks\, die dafür sorgen\, dass euer Start-up nachhaltig funktioniert. \nDie Veranstaltung findet im Raum W004 der FH Aachen am Standort Eupener Straße statt. \nBasis: Einfach.Funktionieren. ® – Konzept von Petra Lüschen-Peters \nZUR ANMELDUNG
URL:https://www.aachen.digital/en/event/kick-start-your-business-2/
LOCATION:FH Aachen Campus Eupener Str.\, Eupener Straße 70\, Aachen\, 52066
ATTACH;FMTTYPE=image/jpeg:https://www.aachen.digital/wp-content/uploads/2025/06/kickstart-business.jpg
END:VEVENT
BEGIN:VEVENT
DTSTART;TZID=Europe/Berlin:20240705T130000
DTEND;TZID=Europe/Berlin:20240705T143000
DTSTAMP:20260423T192303
CREATED:20240605T081726Z
LAST-MODIFIED:20240619T072748Z
UID:10006171-1720184400-1720189800@www.aachen.digital
SUMMARY:Kick-start your Business
DESCRIPTION:Workshop für Gründer:innen\, die wissen möchten\, wie aus einer guten Idee Schritt für Schritt ein Unternehmen wird\, das transparent\, anpassungsfähig\, nachhaltig agiert und langfristig erfolgreich wird. \nIhr erfahrt \n\nwie aus einer Strategie ein zukunftsfähiges Unternehmen wird.\nwelche Prozesse für den Erfolg eines Unternehmens wichtig sind.\nwarum Kunde\, Vertrag\, Produkt die Basis für Chancen und Risiken sind.\n\nGemeinsam erarbeiten wir auf Basis einer Fallstudie aus der Startup-Welt \n\nwie aus einer Idee ein Produkt wird\nwas zu einer guten Customer Journey gehört\nwie du Kunden begeisterst und langfristig an dein Unternehmen bindest.\n\nErhaltet wertvolle Tipps und Tricks\, die dafür sorgen\, dass euer Startup nachhaltig funktioniert.\nEinfach.Funktionieren. ® – Konzept. \nDas Konzept für Menschen in Unternehmen\, die Chancen nutzen\, Zukunft proaktiv gestalten und Unternehmen langfristig erfolgreich machen wollen. Transparent. Anpassungsfähig. Nachhaltig. \nJetzt anmelden! \nSTARTUP WEEK AACHEN: \nVom 01.07.2024 bis zum 05.07.2024 kommt die gesamte Startup-Szene der Aachener Region zusammen und teilt mit euch Know-how und spannende\, innovative Ideen für die Zukunft! In dieser Woche erwarten euch zahlreiche Veranstaltungen rund um die Themen Startup\, Wachstum\, Digitalisierung und Innovation. Das Angebot reicht von Workshops\, Keynotes und TalkUp Stories bis hin zum TOP-Event: #neuland x atec am 02. und 03.07.2024 (Aachener Technologie- und Entrepreneurship-Kongress). \nZur Webseite
URL:https://www.aachen.digital/en/event/kick-start-your-business/
LOCATION:Collective Incubator\, Jülicher Str. 209 q-s\, Aachen\, 52070
ATTACH;FMTTYPE=image/jpeg:https://www.aachen.digital/wp-content/uploads/2024/06/stage-startupweek.jpg
END:VEVENT
END:VCALENDAR