BEGIN:VCALENDAR
VERSION:2.0
PRODID:-//digitalHUB Aachen - ECPv6.15.20//NONSGML v1.0//EN
CALSCALE:GREGORIAN
METHOD:PUBLISH
X-ORIGINAL-URL:https://www.aachen.digital/en/
X-WR-CALDESC:Events for digitalHUB Aachen
REFRESH-INTERVAL;VALUE=DURATION:PT1H
X-Robots-Tag:noindex
X-PUBLISHED-TTL:PT1H
BEGIN:VTIMEZONE
TZID:Europe/Berlin
BEGIN:DAYLIGHT
TZOFFSETFROM:+0100
TZOFFSETTO:+0200
TZNAME:CEST
DTSTART:20170326T010000
END:DAYLIGHT
BEGIN:STANDARD
TZOFFSETFROM:+0200
TZOFFSETTO:+0100
TZNAME:CET
DTSTART:20171029T010000
END:STANDARD
BEGIN:DAYLIGHT
TZOFFSETFROM:+0100
TZOFFSETTO:+0200
TZNAME:CEST
DTSTART:20180325T010000
END:DAYLIGHT
BEGIN:STANDARD
TZOFFSETFROM:+0200
TZOFFSETTO:+0100
TZNAME:CET
DTSTART:20181028T010000
END:STANDARD
BEGIN:DAYLIGHT
TZOFFSETFROM:+0100
TZOFFSETTO:+0200
TZNAME:CEST
DTSTART:20190331T010000
END:DAYLIGHT
BEGIN:STANDARD
TZOFFSETFROM:+0200
TZOFFSETTO:+0100
TZNAME:CET
DTSTART:20191027T010000
END:STANDARD
END:VTIMEZONE
BEGIN:VEVENT
DTSTART;TZID=Europe/Berlin:20180904T150000
DTEND;TZID=Europe/Berlin:20180904T190000
DTSTAMP:20260423T225501
CREATED:20180619T151452Z
LAST-MODIFIED:20181211T081226Z
UID:10004780-1536073200-1536087600@www.aachen.digital
SUMMARY:Aachener Smart Glasses Day - Der Arbeitsplatz der Zukunft
DESCRIPTION:Am 4. September in der DIGITAL CHURCH Datenbrillen hautnah erleben!\nDer Aachener Smart Glasses Day richtet sich an Mitarbeiter und Führungskräfte aus den Bereichen Produktion\, Logistik und Service sowie an interessierte Aachener und Studenten. \nDer digitalHUB Aachen e.V.\, das Fraunhofer-Institut für Produktionstechnologie IPT und die Aachener Smart Glasses Unternehmen oculavis GmbH und Picavi GmbH präsentieren verschiedene Anwendungen mit Smart Glasses und Augmented Reality. \nErfahren Sie mehr über die beeindruckenden Technologien in praxisorientierten Vorträgen und erleben Sie die Anwendungen und Geräte live an den Demoständen der Aussteller. \nAgenda\n15:00 – 16:00 Uhr\nAnkunft und Livetests von Smart Glasses an den Demoständen\n16:00 – 16:15 Uhr\n„digitalHUB Aachen – Smart Ecosystem“ (digitalHUB Aachen e.V.)\n16:15 – 16:45 Uhr\nVortrag „Von der Regelkarte zur Smart Glass – Das Qualitätsmanagement wird digital“ (Fraunhofer-Institut für Produktionstechnologie IPT)\n16:45 – 17:15 Uhr\n„Science Fiction oder Realität? Smart Glasses in Produktion und Service“ (oculavis GmbH\, Dr. Markus Große Böckmann)\n17:15 – 17:45 Uhr\nVortrag „Erfolgsfaktor Datenbrille: Die intuitive Unterstützung des Menschen “ (Picavi GmbH\, Marie-Louis Mersch)\nab 17:45 Uhr\nSnacks und Livetests von Smart Glasses an den Demoständen \nWann:\nAm 04. September 2018 ab 15:00 Uhr. \nWo:\nDIGITAL CHURCH \ndigitalHUB Aachen\nin der DIGITAL CHURCH\nJülicherstr. 72a\n52070 Aachen \nAnmeldung:\nDer Eintritt ist frei\, eine Anmeldung unter folgendem Link ist erforderlich: aachener-smart-glasses-day.eventbrite.de
URL:https://www.aachen.digital/en/event/aachener-smart-glasses-day-der-arbeitsplatz-der-zukunft/
LOCATION:digitalHUB Aachen\, Jülicher Str. 72a\, Aachen\, Nordrhein-Westfalen\, 52070\, Germany
ATTACH;FMTTYPE=image/jpeg:https://www.aachen.digital/wp-content/uploads/2018/06/1486558537015_oculavis-SHARE-BannerDE.jpg
ORGANIZER;CN="digitalHUB Aachen":MAILTO:kontakt@hubaachen.de
END:VEVENT
END:VCALENDAR