BEGIN:VCALENDAR
VERSION:2.0
PRODID:-//digitalHUB Aachen - ECPv6.15.20//NONSGML v1.0//EN
CALSCALE:GREGORIAN
METHOD:PUBLISH
X-WR-CALNAME:digitalHUB Aachen
X-ORIGINAL-URL:https://www.aachen.digital/en/
X-WR-CALDESC:Events for digitalHUB Aachen
REFRESH-INTERVAL;VALUE=DURATION:PT1H
X-Robots-Tag:noindex
X-PUBLISHED-TTL:PT1H
BEGIN:VTIMEZONE
TZID:Europe/Berlin
BEGIN:DAYLIGHT
TZOFFSETFROM:+0100
TZOFFSETTO:+0200
TZNAME:CEST
DTSTART:20240331T010000
END:DAYLIGHT
BEGIN:STANDARD
TZOFFSETFROM:+0200
TZOFFSETTO:+0100
TZNAME:CET
DTSTART:20241027T010000
END:STANDARD
BEGIN:DAYLIGHT
TZOFFSETFROM:+0100
TZOFFSETTO:+0200
TZNAME:CEST
DTSTART:20250330T010000
END:DAYLIGHT
BEGIN:STANDARD
TZOFFSETFROM:+0200
TZOFFSETTO:+0100
TZNAME:CET
DTSTART:20251026T010000
END:STANDARD
BEGIN:DAYLIGHT
TZOFFSETFROM:+0100
TZOFFSETTO:+0200
TZNAME:CEST
DTSTART:20260329T010000
END:DAYLIGHT
BEGIN:STANDARD
TZOFFSETFROM:+0200
TZOFFSETTO:+0100
TZNAME:CET
DTSTART:20261025T010000
END:STANDARD
END:VTIMEZONE
BEGIN:VEVENT
DTSTART;VALUE=DATE:20250213
DTEND;VALUE=DATE:20250214
DTSTAMP:20260423T153137
CREATED:20250129T151607Z
LAST-MODIFIED:20250203T083632Z
UID:10007194-1739404800-1739491199@www.aachen.digital
SUMMARY:KI für eine grünere Zukunft: Innovationen im Umweltschutz
DESCRIPTION:Am 13. Februar diskutieren renommierte Expert:innen aus Forschung\, Politik und Anwendung über Chancen und Risiken in diesem zukunftsträchtigen Feld. \nÜberall gibt es neue Anwendungsfälle und Unternehmen\, die sich dem Thema Künstliche Intelligenz verschrieben haben.\nAuch im Bereich des Umweltschutzes entsteht Potential\, das gesehen und genutzt werden muss\, um die globalen Herausforderungen unserer Zeit zu bewältigen. \nEin Konsortium gefördert durch das Bundesministerium für Umwelt\, Naturschutz\, nukleare Sicherheit und Verbraucherschutz forscht unter dem Namen PlasticObs+ seit Jahren an der Erkennung von Plastik in der Umwelt. \nWelche weiteren Entwicklungen\, Chancen und Potentiale\, aber auch Herausforderungen und Risiken\, bietet Künstliche Intelligenz im Umweltschutz? Darüber möchte PlasticObs+ euch im Rahmen der Veranstaltung durch spannende Impulse teilhaben lassen. \nDa die Plätze begrenzt sind\, meldet euch bitte bis 06.02.2025 über diesen Link an. Wir danken für eine Teilnahmebestätigung vorab. \nZUR ANMELDUNG
URL:https://www.aachen.digital/en/event/ki-fuer-eine-gruenere-zukunft-innovationen-im-umweltschutz/
LOCATION:digitalHUB Aachen\, Jülicher Str. 72a\, Aachen\, Nordrhein-Westfalen\, 52070\, Germany
ATTACH;FMTTYPE=image/jpeg:https://www.aachen.digital/wp-content/uploads/2025/01/Eventvisual_Plastikob.jpg
ORGANIZER;CN="PlasticObs+":MAILTO:plasticobs@everwave.de
END:VEVENT
END:VCALENDAR