BEGIN:VCALENDAR
VERSION:2.0
PRODID:-//digitalHUB Aachen - ECPv6.15.20//NONSGML v1.0//EN
CALSCALE:GREGORIAN
METHOD:PUBLISH
X-ORIGINAL-URL:https://www.aachen.digital/en/
X-WR-CALDESC:Events for digitalHUB Aachen
REFRESH-INTERVAL;VALUE=DURATION:PT1H
X-Robots-Tag:noindex
X-PUBLISHED-TTL:PT1H
BEGIN:VTIMEZONE
TZID:Europe/Berlin
BEGIN:DAYLIGHT
TZOFFSETFROM:+0100
TZOFFSETTO:+0200
TZNAME:CEST
DTSTART:20190331T010000
END:DAYLIGHT
BEGIN:STANDARD
TZOFFSETFROM:+0200
TZOFFSETTO:+0100
TZNAME:CET
DTSTART:20191027T010000
END:STANDARD
BEGIN:DAYLIGHT
TZOFFSETFROM:+0100
TZOFFSETTO:+0200
TZNAME:CEST
DTSTART:20200329T010000
END:DAYLIGHT
BEGIN:STANDARD
TZOFFSETFROM:+0200
TZOFFSETTO:+0100
TZNAME:CET
DTSTART:20201025T010000
END:STANDARD
BEGIN:DAYLIGHT
TZOFFSETFROM:+0100
TZOFFSETTO:+0200
TZNAME:CEST
DTSTART:20210328T010000
END:DAYLIGHT
BEGIN:STANDARD
TZOFFSETFROM:+0200
TZOFFSETTO:+0100
TZNAME:CET
DTSTART:20211031T010000
END:STANDARD
BEGIN:DAYLIGHT
TZOFFSETFROM:+0100
TZOFFSETTO:+0200
TZNAME:CEST
DTSTART:20220327T010000
END:DAYLIGHT
BEGIN:STANDARD
TZOFFSETFROM:+0200
TZOFFSETTO:+0100
TZNAME:CET
DTSTART:20221030T010000
END:STANDARD
BEGIN:DAYLIGHT
TZOFFSETFROM:+0100
TZOFFSETTO:+0200
TZNAME:CEST
DTSTART:20230326T010000
END:DAYLIGHT
BEGIN:STANDARD
TZOFFSETFROM:+0200
TZOFFSETTO:+0100
TZNAME:CET
DTSTART:20231029T010000
END:STANDARD
BEGIN:DAYLIGHT
TZOFFSETFROM:+0100
TZOFFSETTO:+0200
TZNAME:CEST
DTSTART:20240331T010000
END:DAYLIGHT
BEGIN:STANDARD
TZOFFSETFROM:+0200
TZOFFSETTO:+0100
TZNAME:CET
DTSTART:20241027T010000
END:STANDARD
BEGIN:DAYLIGHT
TZOFFSETFROM:+0100
TZOFFSETTO:+0200
TZNAME:CEST
DTSTART:20250330T010000
END:DAYLIGHT
BEGIN:STANDARD
TZOFFSETFROM:+0200
TZOFFSETTO:+0100
TZNAME:CET
DTSTART:20251026T010000
END:STANDARD
BEGIN:DAYLIGHT
TZOFFSETFROM:+0100
TZOFFSETTO:+0200
TZNAME:CEST
DTSTART:20260329T010000
END:DAYLIGHT
BEGIN:STANDARD
TZOFFSETFROM:+0200
TZOFFSETTO:+0100
TZNAME:CET
DTSTART:20261025T010000
END:STANDARD
END:VTIMEZONE
BEGIN:VEVENT
DTSTART;TZID=Europe/Berlin:20250701T140000
DTEND;TZID=Europe/Berlin:20250701T153000
DTSTAMP:20260423T214039
CREATED:20250616T101337Z
LAST-MODIFIED:20250616T111216Z
UID:10007355-1751378400-1751383800@www.aachen.digital
SUMMARY:Von Seed zu Speed  – Was gibt’s bei einer Finanzierungsrunde zu beachten?
DESCRIPTION:Um wirtschaftlich voll durchzustarten\, benötigt ein Start-up häufig früher oder später die Unterstützung eines Investors. Wie eine Finanzierungsrunde rechtlich abläuft und wie man gut vorbereitet in die Verhandlungen startet\, erklären Sebastian Brandt und Roman Wagner in diesem spannenden Workshop für Gründer:innen und Interessierte. \nHier anmelden!
URL:https://www.aachen.digital/en/event/von-seed-zu-speed-was-gibts-bei-einer-finanzierungsrunde-zu-beachten/
LOCATION:digitalHUB Aachen\, Jülicher Str. 72a\, Aachen\, Nordrhein-Westfalen\, 52070\, Germany
ATTACH;FMTTYPE=image/jpeg:https://www.aachen.digital/wp-content/uploads/2025/06/Design-ohne-Titel-2025-05-06T124649.588.jpg
END:VEVENT
BEGIN:VEVENT
DTSTART;TZID=Europe/Berlin:20211129T100000
DTEND;TZID=Europe/Berlin:20211129T120000
DTSTAMP:20260423T214039
CREATED:20210831T142901Z
LAST-MODIFIED:20211124T105012Z
UID:10005528-1638180000-1638187200@www.aachen.digital
SUMMARY:PwC Next Level meets  digitalHUB Aachen: What the heck is ESOP?
DESCRIPTION:Das erwartet euch bei der Workshopreihe: \n\n4 Events\nInsights & Best Practices\nSessions mit Next Level Expert:innen\nMatchmaking\n\nIn vier spannenden Workshops geben euch Expert:innen von PwC Next Level einen Überblick zu Themen\, die für junge\, wie auch bereits gewachsene Startups von großer Relevanz sind. \n  \nWorkshop 3: What the heck is ESOP? \nIn den USA sind virtuelle Mitarbeiter:innenbeteiligungsprogramme seit Langem etabliert. In Deutschland hat das Thema der virtuellen Mitarbeiter:innenbeteiligung auch in der Politik im Jahr 2020/2021 nochmals ordentlich Fahrt aufgenommen. Wieso? – Virtuelle Programme wie ESOP oder VSOP bieten insbesondere jungen Unternehmen ohne großen finanziellen Spielraum Möglichkeiten\, TOP-Talente in Schlüsselpositionen zu rekrutieren\, die am langfristigen Erfolg des Unternehmens incentiviert werden. Worauf kommt es aber an und welche rechtlichen und steuerlichen Fallstricke sollten beachtet werden? Der Workshop wird durchgeführt von Johannes auf dem Kampe\, Rebecca Lappeßen und Leila Momen von PwC. \nAnmeldung\nWeitere Workshops in der Reihe: \nWorkshop 4 (18.01.22) How to build high performing teams? \n  \n  \n 
URL:https://www.aachen.digital/en/event/pwc-next-level-meets-digitalhub-aachen-what-the-heck-is-esop/
LOCATION:Jülicher Strasse 72a\, Aachen\, 52070\, Germany
ATTACH;FMTTYPE=image/jpeg:https://www.aachen.digital/wp-content/uploads/2021/08/pwc_stage_1.jpg
ORGANIZER;CN="digitalHUB Aachen":MAILTO:kontakt@hubaachen.de
END:VEVENT
BEGIN:VEVENT
DTSTART;TZID=Europe/Berlin:20211105T100000
DTEND;TZID=Europe/Berlin:20211105T120000
DTSTAMP:20260423T214039
CREATED:20210831T142148Z
LAST-MODIFIED:20211025T115119Z
UID:10005525-1636106400-1636113600@www.aachen.digital
SUMMARY:PwC Next Level meets digitalHUB Aachen: Deal Terms - Do you speak VC?
DESCRIPTION:Das erwartet euch bei der Workshopreihe: \n\n4 Events\nInsights & Best Practices\nSessions mit Next Level Expert:innen\nMatchmaking\n\nIn vier spannenden Workshops geben euch Expert:innen von PwC Next Level einen Überblick zu Themen\, die für junge\, wie auch bereits gewachsene Startups von großer Relevanz sind. \n  \nWorkshop 2 (05.11.21): Deal Terms – Do you speak VC? \nJohannes Auf dem Kampe und Leila Momen gehen mit euch durch die wichtigsten Deal Terms in Venture Capital Transaktionen und machen euch fit für den Kontakt mit Investoren. Bei Full Ratchet Down Round Protection klingelt nichts? Hier bist du genau richtig! \nAnmeldung \n  \nWeitere Workshops in der Reihe: \nWorkshop 3 (29.11.21): What the heck ist ESOP? \nWorkshop 4 (20.01.22) How to build high performing teams? \n 
URL:https://www.aachen.digital/en/event/pwc-next-level-meets-digitalhub-aachen-do-you-speak-vc/
LOCATION:Jülicher Strasse 72a\, Aachen\, 52070\, Germany
ATTACH;FMTTYPE=image/jpeg:https://www.aachen.digital/wp-content/uploads/2021/08/pwc_stage_1.jpg
ORGANIZER;CN="digitalHUB Aachen":MAILTO:kontakt@hubaachen.de
END:VEVENT
BEGIN:VEVENT
DTSTART;TZID=Europe/Berlin:20210920T100000
DTEND;TZID=Europe/Berlin:20210920T120000
DTSTAMP:20260423T214039
CREATED:20210825T074118Z
LAST-MODIFIED:20210914T100855Z
UID:10005520-1632132000-1632139200@www.aachen.digital
SUMMARY:PwC Next Level meets digitalHUB Aachen: How to prep a business model?
DESCRIPTION:Das erwartet euch bei der Workshopreihe: \n\n4 Events\nInsights & Best Practices\nSessions mit Next Level Expert:innen\nMatchmaking\n\nIn vier spannenden Workshops geben euch Expert:innen von PwC Next Level einen Überblick zu Themen\, die für junge\, wie auch bereits gewachsene Startups von großer Relevanz sind. \nWorkshop 1 (20.09.21): How to prep a business model? \nFlorian P. Neubert weiß\, wie man eine Idee in kürzester Zeit am Kunden validiert und zum soliden Geschäftsmodell weiterentwickelt. Er zeigt Euch auf Basis seiner Erfahrungen und von Best Practices\, was Ihr im Rahmen einer agilen und nutzerzentrierten Produktentwicklung für Eure Services berücksichtigen müsst. \n  \nAnmeldung: Den Anmelde-Link erhalten die Mitglieder Startups per Mail (alternativ Anmeldung per Mail an events@hubaachen.de). \n  \nWeitere Workshops in der Reihe: \nWorkshop 2 (05.11.21): Deal Terms – Do you speak VC? \nWorkshop 3 (29.11.21): What the heck ist ESOP? \nWorkshop 4 (20.01.22) How to build high performing teams? \n  \n 
URL:https://www.aachen.digital/en/event/pwc-next-level-meets-digitalhub-aachen-how-to-prep-your-business-plan/
LOCATION:Jülicher Strasse 72a\, Aachen\, 52070\, Germany
ATTACH;FMTTYPE=image/jpeg:https://www.aachen.digital/wp-content/uploads/2021/08/pwc_stage_1.jpg
ORGANIZER;CN="digitalHUB Aachen":MAILTO:kontakt@hubaachen.de
END:VEVENT
BEGIN:VEVENT
DTSTART;TZID=Europe/Berlin:20210602T100000
DTEND;TZID=Europe/Berlin:20210602T113000
DTSTAMP:20260423T214039
CREATED:20210428T131806Z
LAST-MODIFIED:20210510T130611Z
UID:10005888-1622628000-1622633400@www.aachen.digital
SUMMARY:Workshop digitalSUMMIT: Kooperation im Rahmen von Venture Capital Transaktionen
DESCRIPTION:Workshop im Rahmenprogramm des digitalSUMMIT 2021\nIn unserem Rahmenprogramm nehmen wir zusammen mit unseren Partnern das Motto des diesjährigen digitalSUMMIT „CoOperate oder die: Zusammen in eine erfolgreiche Zukunft!“ auf und bieten etablierten Unternehmen und Startups an\, sich dem Thema „Kooperationen“ in interaktiven Workshops aus unterschiedlichen Perspektiven zu nähern. Erfahrt hier\, welche Arten von Kooperationen es gibt und wie diese euer Unternehmen voranbringen. \nDo you Speak Venture Capital? Als Rechtsanwält:innen und Steuerberater:innen wollen wir Euch einen Überblick über die einschlägigen Venture Capital Deal Terms für den Erstkontakt mit Investor:innen/Kooperationspartner:innen auf Augenhöhe geben. \nDer Workshop richtet sich an Startups vor der (substantiellen) Series A\, die also noch nicht auf einen Kooperationspartner (VC\, CVC) festgelegt und noch kein ESOP implementiert haben\, sowie Gründer:innen (oder die\, die es werden wollen) und alle sonst am Startup-Universum Interessierten. \nWorkshopleitung: PwC – PricewaterhouseCoopers GmbH Wirtschaftsprüfungsgesellschaft \nReferent:innen:\nDr. Leila Momen\, Steuerberaterin PwC GmbH\nRebecca Lappeßen\, Rechtsanwältin PwC Legal AG und\nDr. Johannes Auf dem Kampe\, Rechtsanwalt PwC Legal AG \nWir freuen uns auf Ihre Teilnahme! \nKostenlose Anmeldung\nDer Workshop findet im Rahmen des digitalSUMMIT Aachen statt. \nInfos unter: www.digitalSUMMIT.ac \n 
URL:https://www.aachen.digital/en/event/online-workshop-kooperation-im-rahmen-von-venture-capital-transaktionen/
LOCATION:Jülicher Strasse 72a\, Aachen\, 52070\, Germany
ATTACH;FMTTYPE=image/jpeg:https://www.aachen.digital/wp-content/uploads/2021/04/200901_Visuals_digitalSUMMIT2020_stage-ohne-Text.jpg
ORGANIZER;CN="digitalHUB Aachen":MAILTO:kontakt@hubaachen.de
END:VEVENT
BEGIN:VEVENT
DTSTART;TZID=Europe/Berlin:20200305T090000
DTEND;TZID=Europe/Berlin:20200305T113000
DTSTAMP:20260423T214039
CREATED:20200124T142611Z
LAST-MODIFIED:20200206T090808Z
UID:10004911-1583398800-1583407800@www.aachen.digital
SUMMARY:PwC Business Breakfast für Startups
DESCRIPTION:Unser Mitglied PwC – PricewaterhouseCoopers lädt Startups aus digitalHUB Aachen und RWTH Innovation GmbH zum Business Breakfast am 05. März in die digitalCHURCH ein. Dabei gibt es spannenden Input & Diskussion zu dem Thema “Tax & Legal: Steuerliche und rechtliche Herausforderungen bei der Gründung”. \nDie Veranstaltung ist für Startups aus dem digitalHUB Aachen und der RWTH Innovation GmbH kostenlos. Dazu wird ein Code benötigt. Bei Fragen dazu gerne an: events@hubaachen.de \nANMELDUNG \nDownload Flyer
URL:https://www.aachen.digital/en/event/pwc-business-breakfast/
LOCATION:digitalHUB Aachen\, Jülicher Str. 72a\, Aachen\, Nordrhein-Westfalen\, 52070\, Germany
ATTACH;FMTTYPE=image/jpeg:https://www.aachen.digital/wp-content/uploads/2020/01/pwc_breakfast_stage-1.jpg
END:VEVENT
END:VCALENDAR