BEGIN:VCALENDAR
VERSION:2.0
PRODID:-//digitalHUB Aachen - ECPv6.15.20//NONSGML v1.0//EN
CALSCALE:GREGORIAN
METHOD:PUBLISH
X-ORIGINAL-URL:https://www.aachen.digital/en/
X-WR-CALDESC:Events for digitalHUB Aachen
REFRESH-INTERVAL;VALUE=DURATION:PT1H
X-Robots-Tag:noindex
X-PUBLISHED-TTL:PT1H
BEGIN:VTIMEZONE
TZID:Europe/Berlin
BEGIN:DAYLIGHT
TZOFFSETFROM:+0100
TZOFFSETTO:+0200
TZNAME:CEST
DTSTART:20220327T010000
END:DAYLIGHT
BEGIN:STANDARD
TZOFFSETFROM:+0200
TZOFFSETTO:+0100
TZNAME:CET
DTSTART:20221030T010000
END:STANDARD
BEGIN:DAYLIGHT
TZOFFSETFROM:+0100
TZOFFSETTO:+0200
TZNAME:CEST
DTSTART:20230326T010000
END:DAYLIGHT
BEGIN:STANDARD
TZOFFSETFROM:+0200
TZOFFSETTO:+0100
TZNAME:CET
DTSTART:20231029T010000
END:STANDARD
BEGIN:DAYLIGHT
TZOFFSETFROM:+0100
TZOFFSETTO:+0200
TZNAME:CEST
DTSTART:20240331T010000
END:DAYLIGHT
BEGIN:STANDARD
TZOFFSETFROM:+0200
TZOFFSETTO:+0100
TZNAME:CET
DTSTART:20241027T010000
END:STANDARD
END:VTIMEZONE
BEGIN:VEVENT
DTSTART;TZID=Europe/Berlin:20230405T170000
DTEND;TZID=Europe/Berlin:20230405T183000
DTSTAMP:20260423T220754
CREATED:20230201T101755Z
LAST-MODIFIED:20230217T124602Z
UID:10005810-1680714000-1680719400@www.aachen.digital
SUMMARY:Mobilität und Wasserstoff: Klimaneutrale Antriebstechnologien für jeden Anwendungsfall
DESCRIPTION:Mobilität nur über elektrische Autos mit Batterie? Oder gibt es Alternativen\, die in manchen Fällen unbedingt nötig sind? \nAm 5. April 2023 trägt Prof. Dr.-Ing. Stefan Pischinger\, Lehrstuhl für Thermodynamik mobiler Energiewandlungssysteme\, RWTH Aachen\, vor in einem Zoom-Webinar und wir diskutieren. Der Eintritt ist frei. Kurz nach dem Vortrag steht auch das Video zur Verfügung. \nGrüner Wasserstoff ist ein chemischer Speicher mit dem Potential\, erneuerbar gewonnene Energie von Volatilität in Verfügbarkeit zu entkoppeln. In der Mobilität können dadurch lokale CO2-Neutralität und kurze Ladezeiten kombiniert werden. Die Energiewandlung in Antriebsleistung kann elektrochemisch in Brennstoffzellen erfolgen. Diese erzeugen hocheffizient Strom und speisen damit einen nahezu lautlosen\, elektrischen Antriebsstrang. \nAlternativ kann Wasserstoff in Verbrennungsmotoren eingesetzt werden. Diese wiederrum sind robust gegenüber Umwelteinflüssen\, Wasserstoffunreinheiten und können die Wärme besser abführen. Im Vortrag werden beide Technologien betrachtet und Stärken und Schwächen herausgearbeitet\, um daraus abschließend passende Einsatzgebiete abzuleiten. \nZoom-Zugang\nYoutube-Video Zugang
URL:https://www.aachen.digital/en/event/mobilitaet-und-wasserstoff-klimaneutrale-antriebstechnologien-fuer-jeden-anwendungsfall/
LOCATION:Jülicher Strasse 72a\, Aachen\, 52070\, Germany
ATTACH;FMTTYPE=image/jpeg:https://www.aachen.digital/wp-content/uploads/2023/02/AdobeStock_67844411-scaled.jpeg
END:VEVENT
END:VCALENDAR