BEGIN:VCALENDAR
VERSION:2.0
PRODID:-//digitalHUB Aachen - ECPv6.15.20//NONSGML v1.0//EN
CALSCALE:GREGORIAN
METHOD:PUBLISH
X-WR-CALNAME:digitalHUB Aachen
X-ORIGINAL-URL:https://www.aachen.digital/en/
X-WR-CALDESC:Events for digitalHUB Aachen
REFRESH-INTERVAL;VALUE=DURATION:PT1H
X-Robots-Tag:noindex
X-PUBLISHED-TTL:PT1H
BEGIN:VTIMEZONE
TZID:Europe/Berlin
BEGIN:DAYLIGHT
TZOFFSETFROM:+0100
TZOFFSETTO:+0200
TZNAME:CEST
DTSTART:20240331T010000
END:DAYLIGHT
BEGIN:STANDARD
TZOFFSETFROM:+0200
TZOFFSETTO:+0100
TZNAME:CET
DTSTART:20241027T010000
END:STANDARD
BEGIN:DAYLIGHT
TZOFFSETFROM:+0100
TZOFFSETTO:+0200
TZNAME:CEST
DTSTART:20250330T010000
END:DAYLIGHT
BEGIN:STANDARD
TZOFFSETFROM:+0200
TZOFFSETTO:+0100
TZNAME:CET
DTSTART:20251026T010000
END:STANDARD
BEGIN:DAYLIGHT
TZOFFSETFROM:+0100
TZOFFSETTO:+0200
TZNAME:CEST
DTSTART:20260329T010000
END:DAYLIGHT
BEGIN:STANDARD
TZOFFSETFROM:+0200
TZOFFSETTO:+0100
TZNAME:CET
DTSTART:20261025T010000
END:STANDARD
END:VTIMEZONE
BEGIN:VEVENT
DTSTART;TZID=Europe/Berlin:20250130T081500
DTEND;TZID=Europe/Berlin:20250130T120000
DTSTAMP:20260423T160231
CREATED:20250120T092754Z
LAST-MODIFIED:20250120T092754Z
UID:10007161-1738224900-1738238400@www.aachen.digital
SUMMARY:Potenziale nutzen: Durch Quereinsteigende\, Weiterbildungen und Beratungsangebote dem IT-Fachkräftemangel gemeinsam begegnen
DESCRIPTION:Der Fachkräftemangel in der IT stellt viele Unternehmen vor große Herausforderungen. \nDiese Veranstaltung der Revier-Akademie und des FachkräfteWandel e.V richtet sich daher an Geschäftsführende\, Teamleitende und Personalverantwortliche von Unternehmen im Rheinischen Revier\, die IT-Fachkräfte suchen oder sich über nachhaltige Lösungen und Fördermöglichkeiten für ihre Personalstrategie informieren möchten. \nWas erwartet Sie?\n\nBest-Practices und Praxisbeispiele aus der Region\, wie Unternehmen IT-Fachkräfte gewinnen und halten\nErfolgsgeschichten von Quereinsteigenden\, die den Einstieg in die IT geschafft haben und einen wertvollen Beitrag leisten\nFinanzierungs- und Fördermöglichkeiten\, die Ihre Einstiegsbarrieren senken können\nTeilqualifizierungen und Weiterbildungsmöglichkeiten für Ihre Mitarbeitenden\nNetzwerk aus Weiterbildungsträgern\, deren Alumni zu Ihren neuen digitalen Talenten werden können\n\nDie Veranstaltung bietet Ihnen die Gelegenheit\, sich mit anderen Unternehmen zu vernetzen\, Erfahrungen auszutauschen und wertvolle Impulse für Ihre Personalstrategie zu gewinnen. \n  \nHier anmelden und mehr erfahren
URL:https://www.aachen.digital/en/event/it-fachkraeftemangel-gemeinsam-begegnen/
LOCATION:Zukunftsagentur Rheinisches Revier\, Am Brainergy Park 6\, Jülich\, 52428\, Germany
ATTACH;FMTTYPE=image/jpeg:https://www.aachen.digital/wp-content/uploads/2025/01/IT-Fachkraefte-Eventvisuals-169.jpg
END:VEVENT
END:VCALENDAR