BEGIN:VCALENDAR
VERSION:2.0
PRODID:-//digitalHUB Aachen - ECPv6.15.20//NONSGML v1.0//EN
CALSCALE:GREGORIAN
METHOD:PUBLISH
X-ORIGINAL-URL:https://www.aachen.digital/en/
X-WR-CALDESC:Events for digitalHUB Aachen
REFRESH-INTERVAL;VALUE=DURATION:PT1H
X-Robots-Tag:noindex
X-PUBLISHED-TTL:PT1H
BEGIN:VTIMEZONE
TZID:Europe/Berlin
BEGIN:DAYLIGHT
TZOFFSETFROM:+0100
TZOFFSETTO:+0200
TZNAME:CEST
DTSTART:20240331T010000
END:DAYLIGHT
BEGIN:STANDARD
TZOFFSETFROM:+0200
TZOFFSETTO:+0100
TZNAME:CET
DTSTART:20241027T010000
END:STANDARD
BEGIN:DAYLIGHT
TZOFFSETFROM:+0100
TZOFFSETTO:+0200
TZNAME:CEST
DTSTART:20250330T010000
END:DAYLIGHT
BEGIN:STANDARD
TZOFFSETFROM:+0200
TZOFFSETTO:+0100
TZNAME:CET
DTSTART:20251026T010000
END:STANDARD
BEGIN:DAYLIGHT
TZOFFSETFROM:+0100
TZOFFSETTO:+0200
TZNAME:CEST
DTSTART:20260329T010000
END:DAYLIGHT
BEGIN:STANDARD
TZOFFSETFROM:+0200
TZOFFSETTO:+0100
TZNAME:CET
DTSTART:20261025T010000
END:STANDARD
END:VTIMEZONE
BEGIN:VEVENT
DTSTART;TZID=Europe/Berlin:20250702T093000
DTEND;TZID=Europe/Berlin:20250702T173000
DTSTAMP:20260423T204451
CREATED:20250417T115825Z
LAST-MODIFIED:20250627T092403Z
UID:10007305-1751448600-1751477400@www.aachen.digital
SUMMARY:chiotec 2025
DESCRIPTION:Was dich erwartet? \nEin Tag voller Impulse\, Diskussionen und konkreter Ansätze\, um gemeinsam wirtschaftliche und gesellschaftliche Transformation zu gestalten. \nAm 2. Juli begrüßen wir auf unserer Bühne unter anderem: \n• Dr. Karsten Wildberger\, Bundesminister für Digitales und Staatsmodernisierung \n• Andrew Parsons\, Präsident des Internationalen Paralympischen Komitees \n• Andreas Rettig\, Geschäftsführer DFB \n• Dr. Sebastian C. Schulte\, CEO DEUTZ AG \n• Dr. Steffen Merkel\, Geschäftsführer DFL \n• Mali M Baum\, CEO & Founder WLOUNGE | MAGDA GROUP | EIC board member European Commission \n• Dr. Rob Smith\, CEO KION Group AG \n• Michal Spiller\, CEO Lindt & Sprüngli GmbH \n• Stefanie Peters\, Geschäftsführende Gesellschafterin | NEUMAN & ESSER GROUP \n• Fabian Kienbaum\, Geschäftsführender Gesellschafter Kienbaum \n• Frank Blase\, CEO igus GmbH \n• Prof. Dr. Malte Brettel\, RWTH Aachen University \n…und viele mehr. \n👉 Die vorläufige Agenda findest du jetzt auf unserer Homepage: www.chiotec.com \n________________________________________ \nWas chiotec dir bietet: \n• Aktuelle Einblicke zu KI\, Digitalisierung & nachhaltigen Finanzierungsmodellen \n• Best Practices aus Wirtschaft\, Politik\, Forschung & Sport \n• Zugang zu Innovationspartnern – vom Start-up bis zum Konzern \n• Austausch mit Entscheidungsträger:innen und neuen Talenten \n• Neue Perspektiven für dich und dein Unternehmen \nStart-ups stehen bei chiotec im Fokus: Ob beim Pitchbattle\, in kuratierten Matchmaking-Formaten oder als Teil thematischer Panels – Unternehmen treffen auf frische Ideen\, mutige Gründer:innen und konkrete Anknüpfungspunkte für Zusammenarbeit. \n👉 Alle Infos & Tickets auf www.chiotec.com \n________________________________________ \nVeranstaltungsdetails \n📅 Datum: 02. Juli 2025 \n📍 Ort: DAS LIEBIG\, Aachen \n🔗 Tickets & weitere Informationen: www.chiotec.com \nchiotec findet im Rahmen der STARTUP WEEK AACHEN statt \n  \nJetzt anmelden
URL:https://www.aachen.digital/en/event/chiotec-2025/
LOCATION:DAS LIEBIG\, Liebigstraße 19\, Aachen\, 52070
ATTACH;FMTTYPE=image/jpeg:https://www.aachen.digital/wp-content/uploads/2025/04/chiotec-2025.jpg
END:VEVENT
END:VCALENDAR