BEGIN:VCALENDAR
VERSION:2.0
PRODID:-//digitalHUB Aachen - ECPv6.15.20//NONSGML v1.0//EN
CALSCALE:GREGORIAN
METHOD:PUBLISH
X-WR-CALNAME:digitalHUB Aachen
X-ORIGINAL-URL:https://www.aachen.digital/en/
X-WR-CALDESC:Events for digitalHUB Aachen
REFRESH-INTERVAL;VALUE=DURATION:PT1H
X-Robots-Tag:noindex
X-PUBLISHED-TTL:PT1H
BEGIN:VTIMEZONE
TZID:Europe/Berlin
BEGIN:DAYLIGHT
TZOFFSETFROM:+0100
TZOFFSETTO:+0200
TZNAME:CEST
DTSTART:20170326T010000
END:DAYLIGHT
BEGIN:STANDARD
TZOFFSETFROM:+0200
TZOFFSETTO:+0100
TZNAME:CET
DTSTART:20171029T010000
END:STANDARD
BEGIN:DAYLIGHT
TZOFFSETFROM:+0100
TZOFFSETTO:+0200
TZNAME:CEST
DTSTART:20180325T010000
END:DAYLIGHT
BEGIN:STANDARD
TZOFFSETFROM:+0200
TZOFFSETTO:+0100
TZNAME:CET
DTSTART:20181028T010000
END:STANDARD
BEGIN:DAYLIGHT
TZOFFSETFROM:+0100
TZOFFSETTO:+0200
TZNAME:CEST
DTSTART:20190331T010000
END:DAYLIGHT
BEGIN:STANDARD
TZOFFSETFROM:+0200
TZOFFSETTO:+0100
TZNAME:CET
DTSTART:20191027T010000
END:STANDARD
BEGIN:DAYLIGHT
TZOFFSETFROM:+0100
TZOFFSETTO:+0200
TZNAME:CEST
DTSTART:20200329T010000
END:DAYLIGHT
BEGIN:STANDARD
TZOFFSETFROM:+0200
TZOFFSETTO:+0100
TZNAME:CET
DTSTART:20201025T010000
END:STANDARD
END:VTIMEZONE
BEGIN:VEVENT
DTSTART;TZID=Europe/Berlin:20190611T180000
DTEND;TZID=Europe/Berlin:20190611T210000
DTSTAMP:20260423T190033
CREATED:20190430T102108Z
LAST-MODIFIED:20190430T102108Z
UID:10005007-1560276000-1560286800@www.aachen.digital
SUMMARY:Rheinland Pitch Halbfinale Aachen 2019
DESCRIPTION:Es ist wieder soweit! Das Rheinland-Pitch Halbfinale kommt bereits zum 2. mal nach Aachen in den DigitalHub und die besten Startups der Region kämpfen um einen der vier Plätze für das große Rheinland-Pitch Sommerfinale in Düsseldorf. \nWelches Team setzt sich wohl am Ende gegen die Konkurrenz durch\, überzeugt das Publikum und sichert sich einen Platz für Sommerfinale am 18.06. am Flughafen Düsseldorf ? \nWir sind gespannt! \nZuschauertickets sind kostenlos erhältlich unter: www.rheinlandpitch.de/zuschauen\n___________________________________________________________________ \nWas ist der Rheinland-Pitch? \nInitiiert vom STARTPLATZ in 2013 ist der Rheinland-Pitch mit bereits 65 absolvierten Veranstaltungen und insgesamt über 10.000 Besuchern der größte Startup-Pitch Wettbewerb in Deutschland. Der Rheinland-Pitch bietet eine Bühne für Startups\, auf der sich Gründer vor Investoren\, Unternehmen und Gleichgesinnten präsentieren können und bietet eine Plattform für einen Austausch auf Augenhöhe. \n___________________________________________________________________ \nMeldet euch jetzt mit eurem Startup an! So könnt ihr dabei sein: \n1.Runde: Bewerbung\nFür den Rheinland-Pitch könnt ihr euch als Gründer und Gründerteams bewerben\, egal in welcher Phase sich euer Startup befindet (Idee\, Seed oder Post-Seed). Bis 10 Tage vor der Rheinland-Pitch Veranstaltunge könnt ihr euch über das Bewerbungsformular unter diesem Link anmelden: Rheinland-Pitch in Aachen. \nAnhand von euren angegebenen Daten\, dem Elevator Pitch und dem Pitchdeck (bitte als PDF hochladen) wird ausgewählt\, ob ihr es in die 2. Runde schafft. \n2.Runde: Vorpitch\nHier können sich die vorausgewählten Startups während eines Vorpitches präsentieren. Dieser findet genau eine Woche vor der eigentlichen Veranstaltung in der DIGITAL CHURCH statt. (Der Vorpitch ist nicht öffentlich.) \nPro Vorpitch werden 3-4 Startups ausgewählt\, die sich dann letztendlich bei unserem Rheinland-Pitch auf der Bühne präsentieren. Die Auswahl der Startups wird dabei anhand der Startup-Idee\, der Pitchdeck Präsentation\, der Gründerpersönlichkeit\, sowie der bereits erreichten Erfolge getroffen. \nWir freuen uns auf ein aufregendes und spannendes Event!
URL:https://www.aachen.digital/en/event/rheinland-pitch-halbfinale-aachen-2019/
LOCATION:digitalHUB Aachen\, Jülicher Str. 72a\, Aachen\, Nordrhein-Westfalen\, 52070\, Germany
ATTACH;FMTTYPE=image/jpeg:https://www.aachen.digital/wp-content/uploads/2018/11/rheinland-pitch-aachen.jpg
END:VEVENT
BEGIN:VEVENT
DTSTART;TZID=Europe/Berlin:20181114T180000
DTEND;TZID=Europe/Berlin:20181114T210000
DTSTAMP:20260423T190033
CREATED:20181018T115907Z
LAST-MODIFIED:20181108T135058Z
UID:10004810-1542218400-1542229200@www.aachen.digital
SUMMARY:Rheinland Pitch Halbfinale im digitalHUB Aachen
DESCRIPTION:Es ist wieder soweit! Das Rheinland-Pitch Halbfinale ziehen durch NRW und die besten Startups der Region kämpfen um einen der vier Plätze für das Rheinland-Pitch Winterfinale. \nWelches Team setzt sich wohl am Ende gegen die Konkurrenz durch und sichert sich einen Platz für das große Winterfinale am 26.11. in Köln für die Gründerregion Aachen?\nWir sind gespannt! \nSicher dir jetzt dein Ticket für das Rheinland-Pitch Halbfinale in Aachen und erlebe live spannende Pitches der Startups aus Aachen und dem Umland. \nZuschauertickets sind kostenlos erhältlich unter: www.rheinlandpitch.de/zuschauen\n___________________________________________________________________ \nWas ist der Rheinland-Pitch? \nInitiiert vom STARTPLATZ in 2013 ist der Rheinland-Pitch mit bereits 65 absolvierten Veranstaltungen und insgesamt über 10.000 Besuchern der größte Startup-Pitch Wettbewerb in Deutschland. Der Rheinland-Pitch bietet eine Bühne für Startups\, auf der sich Gründer vor Investoren\, Unternehmen und Gleichgesinnten präsentieren können und bietet eine Plattform für einen Austausch auf Augenhöhe. \n___________________________________________________________________ \nMeldet euch jetzt mit eurem Startup an! So könnt ihr dabei sein: \n1.Runde: Bewerbung\nFür den Rheinland-Pitch könnt ihr euch als Gründer und Gründerteams bewerben\, egal in welcher Phase sich euer Startup befindet (Idee\, Seed oder Post-Seed). Bis 10 Tage vor der Rheinland-Pitch Veranstaltunge könnt ihr euch über das Bewerbungsformular unter diesem Link anmelden: Rheinland-Pitch in Aachen. \nAnhand von euren angegebenen Daten\, dem Elevator Pitch und dem Pitchdeck (bitte als PDF hochladen) wird ausgewählt\, ob ihr es in die 2. Runde schafft. \n2.Runde: Vorpitch\nHier können sich die vorausgewählten Startups während eines Vorpitches präsentieren. Dieser findet genau eine Woche vor der eigentlichen Veranstaltung in der DIGITAL CHURCH statt. (Der Vorpitch ist nicht öffentlich.) \nPro Vorpitch werden 3-4 Startups ausgewählt\, die sich dann letztendlich bei unserem Rheinland-Pitch auf der Bühne präsentieren. Die Auswahl der Startups wird dabei anhand der Startup-Idee\, der Pitchdeck Präsentation\, der Gründerpersönlichkeit\, sowie der bereits erreichten Erfolge getroffen. \nWir freuen uns auf ein aufregendes und spannendes Event!
URL:https://www.aachen.digital/en/event/1811_rheinland-pitch-halbfinale-im-digitalhub-aachen/
LOCATION:digitalHUB Aachen\, Jülicher Str. 72a\, Aachen\, Nordrhein-Westfalen\, 52070\, Germany
ATTACH;FMTTYPE=image/jpeg:https://www.aachen.digital/wp-content/uploads/2018/11/rheinland-pitch-aachen.jpg
END:VEVENT
END:VCALENDAR