BEGIN:VCALENDAR
VERSION:2.0
PRODID:-//digitalHUB Aachen - ECPv6.15.20//NONSGML v1.0//EN
CALSCALE:GREGORIAN
METHOD:PUBLISH
X-WR-CALNAME:digitalHUB Aachen
X-ORIGINAL-URL:https://www.aachen.digital/en/
X-WR-CALDESC:Events for digitalHUB Aachen
REFRESH-INTERVAL;VALUE=DURATION:PT1H
X-Robots-Tag:noindex
X-PUBLISHED-TTL:PT1H
BEGIN:VTIMEZONE
TZID:Europe/Berlin
BEGIN:DAYLIGHT
TZOFFSETFROM:+0100
TZOFFSETTO:+0200
TZNAME:CEST
DTSTART:20200329T010000
END:DAYLIGHT
BEGIN:STANDARD
TZOFFSETFROM:+0200
TZOFFSETTO:+0100
TZNAME:CET
DTSTART:20201025T010000
END:STANDARD
BEGIN:DAYLIGHT
TZOFFSETFROM:+0100
TZOFFSETTO:+0200
TZNAME:CEST
DTSTART:20210328T010000
END:DAYLIGHT
BEGIN:STANDARD
TZOFFSETFROM:+0200
TZOFFSETTO:+0100
TZNAME:CET
DTSTART:20211031T010000
END:STANDARD
BEGIN:DAYLIGHT
TZOFFSETFROM:+0100
TZOFFSETTO:+0200
TZNAME:CEST
DTSTART:20220327T010000
END:DAYLIGHT
BEGIN:STANDARD
TZOFFSETFROM:+0200
TZOFFSETTO:+0100
TZNAME:CET
DTSTART:20221030T010000
END:STANDARD
END:VTIMEZONE
BEGIN:VEVENT
DTSTART;TZID=Europe/Berlin:20211005T090000
DTEND;TZID=Europe/Berlin:20211007T130000
DTSTAMP:20260423T220641
CREATED:20210930T111516Z
LAST-MODIFIED:20210930T111516Z
UID:10006029-1633424400-1633611600@www.aachen.digital
SUMMARY:Zukunftskonferenz „Abenteuer Mittelstand – Orientierung in unsicheren Zeiten“
DESCRIPTION:Ein Unternehmen in Krisenzeiten zu führen\, gleicht einem Abenteuer. Man weiß nie\, welche Herausforderung als nächstes zu meistern ist. Gut\, dass die Zukunftskonferenz „Abenteuer Mittelstand – Orientierung in unsicheren Zeiten“ allen Abenteurer*innen eine Atempause verschafft\, um Kraft und Energie zu tanken und um sich neu zu orientieren. \nAn drei Tagen\, vom 5. bis 7. Oktober 2021\, bieten wir für alle\, die kleine und mittlere Unternehmen führen und entwickeln jeweils von 9 bis 13 Uhr Impulse\, Workshops und Netzwerk-Events rund um die Frage: Wie findet man in unsicheren Zeiten Orientierung und Halt? Der Nachmittag ist frei. Nutzen Sie ihn für „individuelle Trainingswanderungen“. Probieren Sie den einen oder anderen Impuls unmittelbar aus. \nDie Zukunftskonferenz findet ausschließlich online statt. Die Teilnahme ist kostenlos. Informationen und das Programm finden Sie hier. \nTermin: 05. bis 07. Oktober 2021\nUhrzeit: 9:00 bis 13:00 Uhr\nOrt: online\nAnmeldung: Eine Anmeldemöglichkeit finden Sie hier.\nKosten: kostenfrei\nVeranstalter: RKW Kompetenzzentrum
URL:https://www.aachen.digital/en/event/zukunftskonferenz-abenteuer-mittelstand-orientierung-in-unsicheren-zeiten/
LOCATION:Jülicher Strasse 72a\, Aachen\, 52070\, Germany
ATTACH;FMTTYPE=image/jpeg:https://www.aachen.digital/wp-content/uploads/2021/03/AdobeStock_237056416_Gruppe_Tisch_schreibend_turquois-scaled-1.jpg
END:VEVENT
END:VCALENDAR