BEGIN:VCALENDAR
VERSION:2.0
PRODID:-//digitalHUB Aachen - ECPv6.15.20//NONSGML v1.0//EN
CALSCALE:GREGORIAN
METHOD:PUBLISH
X-ORIGINAL-URL:https://www.aachen.digital/en/
X-WR-CALDESC:Events for digitalHUB Aachen
REFRESH-INTERVAL;VALUE=DURATION:PT1H
X-Robots-Tag:noindex
X-PUBLISHED-TTL:PT1H
BEGIN:VTIMEZONE
TZID:Europe/Berlin
BEGIN:DAYLIGHT
TZOFFSETFROM:+0100
TZOFFSETTO:+0200
TZNAME:CEST
DTSTART:20240331T010000
END:DAYLIGHT
BEGIN:STANDARD
TZOFFSETFROM:+0200
TZOFFSETTO:+0100
TZNAME:CET
DTSTART:20241027T010000
END:STANDARD
BEGIN:DAYLIGHT
TZOFFSETFROM:+0100
TZOFFSETTO:+0200
TZNAME:CEST
DTSTART:20250330T010000
END:DAYLIGHT
BEGIN:STANDARD
TZOFFSETFROM:+0200
TZOFFSETTO:+0100
TZNAME:CET
DTSTART:20251026T010000
END:STANDARD
BEGIN:DAYLIGHT
TZOFFSETFROM:+0100
TZOFFSETTO:+0200
TZNAME:CEST
DTSTART:20260329T010000
END:DAYLIGHT
BEGIN:STANDARD
TZOFFSETFROM:+0200
TZOFFSETTO:+0100
TZNAME:CET
DTSTART:20261025T010000
END:STANDARD
END:VTIMEZONE
BEGIN:VEVENT
DTSTART;TZID=Europe/Berlin:20251119T160000
DTEND;TZID=Europe/Berlin:20251119T180000
DTSTAMP:20260423T204334
CREATED:20251106T100742Z
LAST-MODIFIED:20251106T100742Z
UID:10007515-1763568000-1763575200@www.aachen.digital
SUMMARY:Cybersecurity Roadshow
DESCRIPTION:Die Roadshow für digitale Sicherheit macht am 19.11.2025 Halt in Stolberg! \nGemeinsam mit DIGITAL.SICHER.NRW – dem Kompetenzzentrum für Cybersicherheit in der Wirtschaft – bringen wir Expertinnen und Experten direkt zu Ihnen vor Ort. Auf der Agenda: Ein ethischer Hacker\, der zeigt\, wie Angriffe ablaufen und ein Unternehmen\, das von seinen Erfahrungen mit einem Cyberangriff berichtet. Außerdem informiert das Landeskriminalamt NRW über die aktuelle Lage zur Cyberkriminalität\, während DIGITAL.SICHER.NRW praktische Tipps gibt\, wie Sie sich im digitalen Raum am besten schützen können. Seien Sie dabei und stärken Sie die digitale Sicherheit Ihres Unternehmens – kostenfrei und in Ihrer Nähe! \n📅 Termin: 19.11.2025\, ab 16 Uhr \n📍 Ort: Zinkhütter Hof\, Cockerillstraße 90\, 52222 Stolberg \n💡 kostenfrei & direkt vor Ort \nANMELDUNG
URL:https://www.aachen.digital/en/event/cybersecurity-roadshow/
LOCATION:Zinkhütter Hof\, Cockerillstraße 90\, Stolberg\, 52222\, Deutschland
ATTACH;FMTTYPE=image/jpeg:https://www.aachen.digital/wp-content/uploads/2025/11/Design-ohne-Titel-20.jpg
END:VEVENT
END:VCALENDAR