BEGIN:VCALENDAR
VERSION:2.0
PRODID:-//digitalHUB Aachen - ECPv6.15.20//NONSGML v1.0//EN
CALSCALE:GREGORIAN
METHOD:PUBLISH
X-ORIGINAL-URL:https://www.aachen.digital/en/
X-WR-CALDESC:Events for digitalHUB Aachen
REFRESH-INTERVAL;VALUE=DURATION:PT1H
X-Robots-Tag:noindex
X-PUBLISHED-TTL:PT1H
BEGIN:VTIMEZONE
TZID:Europe/Berlin
BEGIN:DAYLIGHT
TZOFFSETFROM:+0100
TZOFFSETTO:+0200
TZNAME:CEST
DTSTART:20190331T010000
END:DAYLIGHT
BEGIN:STANDARD
TZOFFSETFROM:+0200
TZOFFSETTO:+0100
TZNAME:CET
DTSTART:20191027T010000
END:STANDARD
BEGIN:DAYLIGHT
TZOFFSETFROM:+0100
TZOFFSETTO:+0200
TZNAME:CEST
DTSTART:20200329T010000
END:DAYLIGHT
BEGIN:STANDARD
TZOFFSETFROM:+0200
TZOFFSETTO:+0100
TZNAME:CET
DTSTART:20201025T010000
END:STANDARD
BEGIN:DAYLIGHT
TZOFFSETFROM:+0100
TZOFFSETTO:+0200
TZNAME:CEST
DTSTART:20210328T010000
END:DAYLIGHT
BEGIN:STANDARD
TZOFFSETFROM:+0200
TZOFFSETTO:+0100
TZNAME:CET
DTSTART:20211031T010000
END:STANDARD
END:VTIMEZONE
BEGIN:VEVENT
DTSTART;TZID=Europe/Berlin:20201201T163000
DTEND;TZID=Europe/Berlin:20201201T203000
DTSTAMP:20260424T022619
CREATED:20201126T145609Z
LAST-MODIFIED:20201126T145609Z
UID:10005728-1606840200-1606854600@www.aachen.digital
SUMMARY:DIGIHEALTHSTART.NRW
DESCRIPTION:Ruhr-Universität Bochum und digital health lab veranstalten das Kick-Off Event „DIGITAL HEALTHCARE STARTUP ÖKOSYSTEM NRW“ auf YouTube\nOftmals sind es junge Unternehmen – Startups –\, die mit neuen Technologien und Geschäftsmodellen ganze Branchen nachhaltig verändern und (disruptive) Innovationen hervorbringen. Wenngleich das Gesundheitswesen noch als wenig digitalisiert gilt\, kommt es doch zu mehr und mehr Gründungen und gleichzeitig rücken Gesundheit und Medizin stärker in den Fokus von Gründungsförderung. Allerdings sehen sich Gründer:innen in der Branche mit spezifischen Herausforderungen konfrontiert; hierzu zählen vor allem die komplexen Innovations-\, Zulassung- und Refinanzierungsprozesse. Um diese Herausforderungen adressieren zu können\, ist es notwendig\, die Aktivitäten junger Unternehmen in Gesundheit und Medizin zu erfassen und eine Übersicht des bestehenden Startup Ökosystems zu zeichnen\, um passgenaue Förderangebote zu formulieren und Strategien zu entwickeln. \nDas Projekt „Digital Healthcare Startup Ökosystem NRW“ wird vom Land Nordrhein-Westfalen gefördert. Ziel ist es\, die Startup-Szene im Gesundheitsbereich zu stärken und eine Plattform für Kollaboration und Vernetzung aufzubauen. Kooperationspartner sind Ruhr-Universität Bochum mit dem Worldfactory-Start-up Center und das digital health lab Düsseldorf. \nAm 01.12.2020 findet die Kick-Off Veranstaltung des Projektes „DIGITAL HEALTHCARE STARTUP ÖKOSYSTEM NRW“ auf YouTube [LINK] statt. Mitveranstaltet wird das Ereignis vom digitalHUB Aachen e.V. Nach dem Grußwort von Staatssekretär Christoph Dammermann vom Ministerium für Wirtschaft\, Innovation\, Digitalisierung und Energie (MWIDE)\, hält Prof. Dr. Jörg Debatin vom health innovation hub (hih) in Berlin eine Keynote zur Bedeutung innovativer junger Unternehmen. Anschließend teilen Gesundheits-Start-ups aus NRW ihre Geschichten\, Erfahrungen\, Herausforderungen und berichten\, wie sie Hürden überwunden haben. Zusammen mit dem niederländischen Hub Qeske wird gezeigt\, wie grenzüberschreitende Kooperation möglich ist. \n  \nZUR VOLLSTÄNDIGEN AGENDA UND ANMELDUNG GEHT ES HIER
URL:https://www.aachen.digital/en/event/digihealthstart-nrw/
LOCATION:Jülicher Strasse 72a\, Aachen\, 52070\, Germany
ATTACH;FMTTYPE=image/jpeg:https://www.aachen.digital/wp-content/uploads/2020/11/DIGIHEALTHSTART.NRW_stage.jpg
END:VEVENT
END:VCALENDAR