BEGIN:VCALENDAR
VERSION:2.0
PRODID:-//digitalHUB Aachen - ECPv6.15.20//NONSGML v1.0//EN
CALSCALE:GREGORIAN
METHOD:PUBLISH
X-ORIGINAL-URL:https://www.aachen.digital/en/
X-WR-CALDESC:Events for digitalHUB Aachen
REFRESH-INTERVAL;VALUE=DURATION:PT1H
X-Robots-Tag:noindex
X-PUBLISHED-TTL:PT1H
BEGIN:VTIMEZONE
TZID:Europe/Berlin
BEGIN:DAYLIGHT
TZOFFSETFROM:+0100
TZOFFSETTO:+0200
TZNAME:CEST
DTSTART:20200329T010000
END:DAYLIGHT
BEGIN:STANDARD
TZOFFSETFROM:+0200
TZOFFSETTO:+0100
TZNAME:CET
DTSTART:20201025T010000
END:STANDARD
BEGIN:DAYLIGHT
TZOFFSETFROM:+0100
TZOFFSETTO:+0200
TZNAME:CEST
DTSTART:20210328T010000
END:DAYLIGHT
BEGIN:STANDARD
TZOFFSETFROM:+0200
TZOFFSETTO:+0100
TZNAME:CET
DTSTART:20211031T010000
END:STANDARD
BEGIN:DAYLIGHT
TZOFFSETFROM:+0100
TZOFFSETTO:+0200
TZNAME:CEST
DTSTART:20220327T010000
END:DAYLIGHT
BEGIN:STANDARD
TZOFFSETFROM:+0200
TZOFFSETTO:+0100
TZNAME:CET
DTSTART:20221030T010000
END:STANDARD
END:VTIMEZONE
BEGIN:VEVENT
DTSTART;TZID=Europe/Berlin:20210218T100000
DTEND;TZID=Europe/Berlin:20210218T113000
DTSTAMP:20260424T000737
CREATED:20210201T114227Z
LAST-MODIFIED:20210201T123256Z
UID:10005812-1613642400-1613647800@www.aachen.digital
SUMMARY:Webinar: Digital Product Management
DESCRIPTION:RTHWie die Beispiele von Netflix\, 365FarmNet oder ADAMOS zeigen\, werden digitale Geschäftsmodelle zunehmend wichtiger in der heutigen von Digitaltechnologien geprägten Wirtschaft. Das ist jedem Unternehmen bewusst\, denn die Jobbörsen sind voll von offenen Positionen rund um den Bereich digitales Produktmanagement.\nWir machen Sie zu diesem gesuchten Experten für digitales Produktmanagement. \nWas Sie in unserem Online-Event erwartet: \n\nStrategische Platzierung von digitalen Produkten\nUnterschiedliche Geschäftsmodelle für digitale Produkte\nEntwicklung\, Management und Vertrieb von digitalen Produkten\n\nZur Anmeldung
URL:https://www.aachen.digital/en/event/webinar-d/
LOCATION:Jülicher Strasse 72a\, Aachen\, 52070\, Germany
ATTACH;FMTTYPE=image/jpeg:https://www.aachen.digital/wp-content/uploads/2021/02/Visual-FIR12zu5.JPG.jpg
END:VEVENT
END:VCALENDAR