BEGIN:VCALENDAR
VERSION:2.0
PRODID:-//digitalHUB Aachen - ECPv6.15.20//NONSGML v1.0//EN
CALSCALE:GREGORIAN
METHOD:PUBLISH
X-ORIGINAL-URL:https://www.aachen.digital/en/
X-WR-CALDESC:Events for digitalHUB Aachen
REFRESH-INTERVAL;VALUE=DURATION:PT1H
X-Robots-Tag:noindex
X-PUBLISHED-TTL:PT1H
BEGIN:VTIMEZONE
TZID:Europe/Berlin
BEGIN:DAYLIGHT
TZOFFSETFROM:+0100
TZOFFSETTO:+0200
TZNAME:CEST
DTSTART:20190331T010000
END:DAYLIGHT
BEGIN:STANDARD
TZOFFSETFROM:+0200
TZOFFSETTO:+0100
TZNAME:CET
DTSTART:20191027T010000
END:STANDARD
BEGIN:DAYLIGHT
TZOFFSETFROM:+0100
TZOFFSETTO:+0200
TZNAME:CEST
DTSTART:20200329T010000
END:DAYLIGHT
BEGIN:STANDARD
TZOFFSETFROM:+0200
TZOFFSETTO:+0100
TZNAME:CET
DTSTART:20201025T010000
END:STANDARD
BEGIN:DAYLIGHT
TZOFFSETFROM:+0100
TZOFFSETTO:+0200
TZNAME:CEST
DTSTART:20210328T010000
END:DAYLIGHT
BEGIN:STANDARD
TZOFFSETFROM:+0200
TZOFFSETTO:+0100
TZNAME:CET
DTSTART:20211031T010000
END:STANDARD
END:VTIMEZONE
BEGIN:VEVENT
DTSTART;TZID=Europe/Berlin:20200819T130000
DTEND;TZID=Europe/Berlin:20200819T160000
DTSTAMP:20260424T014943
CREATED:20200720T100425Z
LAST-MODIFIED:20200812T132418Z
UID:10004960-1597842000-1597852800@www.aachen.digital
SUMMARY:Workshop zum Business Model Canvas
DESCRIPTION:Im Rahmen des Workshops zum Business Model Canvas mit anderen Unternehmen aus der Region möchten wir Ihnen die Möglichkeit geben\, sich Ihren „Pains“ beim Thema berufsbezogene Weiterbildung bzw. Qualifizierung systematisch zu nähern und Ideen für mögliche praktikable Lösungen zu definieren. \nDie Ergebnisse des Business Model Canvas sollen dazu beitragen\, kurz- \,mittel- und langfristig Maßnahmen bzw. Projekte auf den Weg zu bringen\, welche die Aachener Unternehmen bei der gezielten Weiterbildung bzw. Qualifizierung ihrer Beschäftigten vor dem Hintergrund der digitalen Transformation zielführend unterstützen können. Unser Ziel ist es in den Austausch darüber zu kommen\, was Bedarfe und Realitäten der Unternehmen sind. \nZielguppe:\nKleine und mittelständische Unternehmen\, die mit uns über ihre Bedarfe sprechen in Hinblick auf ihre Anpassung an die Digitalisierung\, an Schulungen und Weiterbildungsformate. \nDie Teilnahme ist kostenfrei.\nAnmeldungen bitte bis zum 07.08.2020 an Roman.vonderLohe@hubaachen.de \nBeteiligte Partner: IfU an der RWTH Aachen\, Lehrstuhl Informatik 5 der RWTH Aachen\, digitalHub Aachen e.V.\, Fachbereich\nWirtschaft\, Wissenschaft und Europa der Stadt Aachen
URL:https://www.aachen.digital/en/event/workshop-zum-business-model-canvas/
LOCATION:Verwaltungsgebäude Katschhof\, Johannes-Paul-II.-Straße 1\, Aachen\, NRW\, 52062\, Deutschland
ATTACH;FMTTYPE=image/jpeg:https://www.aachen.digital/wp-content/uploads/2020/07/Workshop-zum-Business-Model-Canvas-.jpg
END:VEVENT
END:VCALENDAR