BEGIN:VCALENDAR
VERSION:2.0
PRODID:-//digitalHUB Aachen - ECPv6.15.20//NONSGML v1.0//EN
CALSCALE:GREGORIAN
METHOD:PUBLISH
X-ORIGINAL-URL:https://www.aachen.digital/en/
X-WR-CALDESC:Events for digitalHUB Aachen
REFRESH-INTERVAL;VALUE=DURATION:PT1H
X-Robots-Tag:noindex
X-PUBLISHED-TTL:PT1H
BEGIN:VTIMEZONE
TZID:Europe/Berlin
BEGIN:DAYLIGHT
TZOFFSETFROM:+0100
TZOFFSETTO:+0200
TZNAME:CEST
DTSTART:20180325T010000
END:DAYLIGHT
BEGIN:STANDARD
TZOFFSETFROM:+0200
TZOFFSETTO:+0100
TZNAME:CET
DTSTART:20181028T010000
END:STANDARD
BEGIN:DAYLIGHT
TZOFFSETFROM:+0100
TZOFFSETTO:+0200
TZNAME:CEST
DTSTART:20190331T010000
END:DAYLIGHT
BEGIN:STANDARD
TZOFFSETFROM:+0200
TZOFFSETTO:+0100
TZNAME:CET
DTSTART:20191027T010000
END:STANDARD
BEGIN:DAYLIGHT
TZOFFSETFROM:+0100
TZOFFSETTO:+0200
TZNAME:CEST
DTSTART:20200329T010000
END:DAYLIGHT
BEGIN:STANDARD
TZOFFSETFROM:+0200
TZOFFSETTO:+0100
TZNAME:CET
DTSTART:20201025T010000
END:STANDARD
BEGIN:DAYLIGHT
TZOFFSETFROM:+0100
TZOFFSETTO:+0200
TZNAME:CEST
DTSTART:20210328T010000
END:DAYLIGHT
BEGIN:STANDARD
TZOFFSETFROM:+0200
TZOFFSETTO:+0100
TZNAME:CET
DTSTART:20211031T010000
END:STANDARD
BEGIN:DAYLIGHT
TZOFFSETFROM:+0100
TZOFFSETTO:+0200
TZNAME:CEST
DTSTART:20220327T010000
END:DAYLIGHT
BEGIN:STANDARD
TZOFFSETFROM:+0200
TZOFFSETTO:+0100
TZNAME:CET
DTSTART:20221030T010000
END:STANDARD
BEGIN:DAYLIGHT
TZOFFSETFROM:+0100
TZOFFSETTO:+0200
TZNAME:CEST
DTSTART:20230326T010000
END:DAYLIGHT
BEGIN:STANDARD
TZOFFSETFROM:+0200
TZOFFSETTO:+0100
TZNAME:CET
DTSTART:20231029T010000
END:STANDARD
BEGIN:DAYLIGHT
TZOFFSETFROM:+0100
TZOFFSETTO:+0200
TZNAME:CEST
DTSTART:20240331T010000
END:DAYLIGHT
BEGIN:STANDARD
TZOFFSETFROM:+0200
TZOFFSETTO:+0100
TZNAME:CET
DTSTART:20241027T010000
END:STANDARD
BEGIN:DAYLIGHT
TZOFFSETFROM:+0100
TZOFFSETTO:+0200
TZNAME:CEST
DTSTART:20250330T010000
END:DAYLIGHT
BEGIN:STANDARD
TZOFFSETFROM:+0200
TZOFFSETTO:+0100
TZNAME:CET
DTSTART:20251026T010000
END:STANDARD
BEGIN:DAYLIGHT
TZOFFSETFROM:+0100
TZOFFSETTO:+0200
TZNAME:CEST
DTSTART:20260329T010000
END:DAYLIGHT
BEGIN:STANDARD
TZOFFSETFROM:+0200
TZOFFSETTO:+0100
TZNAME:CET
DTSTART:20261025T010000
END:STANDARD
END:VTIMEZONE
BEGIN:VEVENT
DTSTART;VALUE=DATE:20250630
DTEND;VALUE=DATE:20250705
DTSTAMP:20260423T192429
CREATED:20250228T105409Z
LAST-MODIFIED:20250509T094510Z
UID:10007249-1751241600-1751673599@www.aachen.digital
SUMMARY:STARTUP WEEK AACHEN
DESCRIPTION:The full power of Aachen Area. 5 Days. 30+ Events. 1 Community.\nYou have a startup idea and would like to meet like-minded people? \nOr you have already founded and are searching for new customers\, fresh capital and exchange with other founders? \nSTARTUP WEEK AACHEN is the right place for you! Each year for one week\, the entire startup scene of the Aachen area will come together and share know-how\, experiences and exciting\, innovative ideas for the future. \nStay tuned:\nwww.startupweek.ac
URL:https://www.aachen.digital/en/event/startup-week-aachen/
LOCATION:digitalHUB Aachen\, Jülicher Str. 72a\, Aachen\, Nordrhein-Westfalen\, 52070\, Germany
ATTACH;FMTTYPE=image/jpeg:https://www.aachen.digital/wp-content/uploads/2025/05/startup-week-aachen-2025-16x9-1.jpg
ORGANIZER;CN="digitalHUB Aachen":MAILTO:kontakt@hubaachen.de
END:VEVENT
BEGIN:VEVENT
DTSTART;TZID=Europe/Berlin:20250605T153000
DTEND;TZID=Europe/Berlin:20250605T183000
DTSTAMP:20260423T192429
CREATED:20250603T131404Z
LAST-MODIFIED:20250603T131404Z
UID:10007343-1749137400-1749148200@www.aachen.digital
SUMMARY:QM-RA BaseCamp – Pragmatische QM-Lösungen
DESCRIPTION:Wie navigiert man als junges Unternehmen durch den Dschungel regulatorischer Anforderungen in der Medizintechnik? Welche Dokumentationen sind notwendig? Wie funktioniert eine Auditierung – und wie kann Künstliche Intelligenz dabei unterstützen? Antworten auf diese und viele weitere Fragen liefert das QM-RA BaseCamp von MedLife e. V. – eine kompakte\, interaktive Veranstaltung für Gründer*innen\, Start-ups und junge MedTech-Unternehmen. \nDas QM-RA BaseCamp (Qualitätsmanagement & Regulatory Affairs) richtet sich gezielt an Unternehmen\, die sich in der frühen Phase mit diesen Anforderungen auseinandersetzen – praxisnah\, verständlich und lösungsorientiert. \nNach einer einführenden Keynote zum Thema Dokumentation in der MedTechBranche erwartet die Teilnehmenden ein intensiver Austausch in den Workshops sowie eine gemeinsame Diskussion der Ergebnisse. \nProgramm: \n\nBegrüßung und Moderation (Dr. Theophil Rieger\, Rieger QMS)\nKeynote – Dokumentation in der MedTechBranche – Dokumente werden in allen Abteilungen eines Medizinprodukteunternehmens erstellt und benötigt. Aber was sind die Unterschiede der verschiedenen Dokumentationen? Ab wann muss man dokumentieren? (Melanie Oelbracht\, bytec LM GmbH)\nParallele Workshops\nPlenum Ergebnispräsentation\n\nThemen der Workshops: \n\nDiGA vs. Medizinprodukt – Was macht ein Medizinprodukt aus – und was unterscheidet eine DiGA davon? In diesem interaktiven Workshop erarbeiten Sie die regulatorischen Anforderungen beider Produktarten und präsentieren Ihre Ergebnisse. – Meike Kreutel (Kreutel Engineering GmbH)\, Dr. Marcus Reinartz (OAK Software GmbH)\nAuditierung – Gemeinsam erarbeiten wir in einem Workshop die Grundlagen eines Audits und sammeln die ersten Erfahrungen in der Bewertung von Auditsituationen – Melanie Oelbracht (bytec LM GmbH)\nKI tools im QM – KI-Software erleichtert und unterstützt an vielen Stellen unsere tägliche Arbeit. Wir wollen unsere Erfahrungen im QM-Bereich austauschen\, mögliche (weitere) Einsatzgebiete identifizieren und Anforderungen an QM-konforme KI-Tools zusammentragen\, um die Entscheidung für passende KI zu erleichtern. – Prof. Christina Feldmann (FH Aachen – Geräte- & Verfahrenstechnik in der Medizin) – Peter Knipp\, (qcmed GmbH)\n\nUnsere ExpertInnen: \n\nDr. Theophil Rieger (Dr. Rieger QMS)\nMelanie Oelbracht (bytec LM GmbH)\nMeike Kreutel (Kreutel Engineering GmbH)\nDr. Marcus Reinartz (OAK Software GmbH)\nProf. Christina Feldmann (FH Aachen)\nPeter Knipp (qcmed GmbH)\n\nBei der Anmeldung wählen Sie bitte den gewünschten Workshop aus! \nDer Workshop ist kostenfrei\, eine verbindliche Anmeldung bis zum 3. Juni ist jedoch erforderlich. \nOrt:\nCollective Incubator I Räume 1 OG\nJülicherstr. 209 s-q\n52070 Aachen \nEin Produktion der MedLife-Mitglieder\, dem Netzwerk für Life Sciences und BioMedTech in der Region Aachen gemeinsam mit den lokalen Akteuren und Unterstützern: \nRAZV\, AGITmbH\, Digital Hub Aachen e. V. und RWTH Innovation GmbH \n \n \nMit freundlicher Unterstüzung der RWTH Innovation GmbH:
URL:https://www.aachen.digital/en/event/qm-ra-basecamp-pragmatische-qm-loesungen/
LOCATION:Collective Incubator\, Jülicher Str. 209 q-s\, Aachen\, 52070
ATTACH;FMTTYPE=image/jpeg:https://www.aachen.digital/wp-content/uploads/2025/06/qm-ra-basecamp.jpg
END:VEVENT
BEGIN:VEVENT
DTSTART;TZID=Europe/Berlin:20200618T180000
DTEND;TZID=Europe/Berlin:20200618T190000
DTSTAMP:20260423T192429
CREATED:20200616T081423Z
LAST-MODIFIED:20200616T081423Z
UID:10005566-1592503200-1592506800@www.aachen.digital
SUMMARY:RWTH Incubation Life Science Panel
DESCRIPTION:Am 18.06.\, 18 – 19 Uhr werden wir im Rahmen unseres neu aufgelegten RWTH Inkubationsprogramms eine Panel-Diskussion über Zoom veranstalten und hierbei mit hochkarätigen Teilnehmern aus der Life Sciences-Branche sprechen: \n\nDr. Regina Hodits ist Managing Partner bei Wellington Partners und investiert vorranging in Technologie- und Life Science-Unternehmen\nChristian Miele ist General Partner bei e.ventures und Vorsitzender des Bundesverbands Deutscher Startups\nProf. Boris Hofmann verantwortet den Bereich Business Development und Corporate Venture Capital bei Aesculap / B.Braun und ist insbesondere im Bereich Investments in Medizintechnologie tätig\n\nThemenschwerpunkte der Diskussion werden u.a. die Entwicklung der Startup-Landschaft allgemein in Zeiten von Corona wie auch die Hürden der Finanzierung und Herausforderungen bei der Skalierung von Life Sciences-Startups sein. \nDas Event findet online via ZOOM statt. \nWEITERE INFOS & KOSTENLOSE ANMELDUNG
URL:https://www.aachen.digital/en/event/rwth-incubation-life-science-panel/
LOCATION:ZOOM
ATTACH;FMTTYPE=image/jpeg:https://www.aachen.digital/wp-content/uploads/2019/02/RWTH-Innovation-125.jpg
ORGANIZER;CN="RWTH Innovation GmbH":MAILTO:info@gruenderzentrum.rwth-aachen.de
END:VEVENT
BEGIN:VEVENT
DTSTART;TZID=Europe/Berlin:20200609T120000
DTEND;TZID=Europe/Berlin:20200609T200000
DTSTAMP:20260423T192429
CREATED:20200512T143103Z
LAST-MODIFIED:20200512T143103Z
UID:10005543-1591704000-1591732800@www.aachen.digital
SUMMARY:Online-Event: Tech Side Story
DESCRIPTION:Du bist auf der Suche nach einem Co-Founder mit BWL Hintergrund\, der deine Idee richtig herausfordert? \nDu bist gründungsinteressiert\, hast vielleicht schon eine erste Gründungsidee oder sogar schon etwas Konkretes vor Augen? \nDann nimm bei der diesjährigen 2. Ausführung der Tech Side Story teil\, und lerne deine/n potentiellen Mitgründer/in von der Universität Köln in einem eintägigen Online Event am 9. Juni 2020 kennen. Wir bringen Gründungsinterssierte mit verschiedenen fachlichen Hintergründen zusammen. \nDie letzte Tech Side Stoy war ein voller Erfolg! Schau dir gerne das Video dazu an. \nINFOS & REGISTRIERUNG
URL:https://www.aachen.digital/en/event/online-event-tech-side-story/
LOCATION:Jülicher Strasse 72a\, Aachen\, 52070\, Germany
ATTACH;FMTTYPE=image/jpeg:https://www.aachen.digital/wp-content/uploads/2020/05/Tech-Side-Story-Event-Foto_12zu5.jpg
ORGANIZER;CN="RWTH Innovation GmbH":MAILTO:info@gruenderzentrum.rwth-aachen.de
END:VEVENT
BEGIN:VEVENT
DTSTART;VALUE=DATE:20191021
DTEND;VALUE=DATE:20191025
DTSTAMP:20260423T192429
CREATED:20190716T085111Z
LAST-MODIFIED:20190716T085111Z
UID:10005350-1571616000-1571961599@www.aachen.digital
SUMMARY:38. Gründertraining der RWTH Innovation
DESCRIPTION:Wenn du dich für Unternehmertum allgemein oder die Gründung deines eigenen Unternehmens interessierst\, dann nutzt die Chance und sei dabei beim 38. Gründertraining der RWTH. \nIm bewährten 4 Tage Intensiv-Modus lernen Teilnehmer/innen die wichtigsten Basics zu: Business Model Entwicklung\, Finanzierung\, Marketing\, Gesellschaftsrecht\, uvm. Dazu gibt es ein Pitch-Training und (für mutige mit konkreten Geschäftsideen) einen Live-Pitch-Contest. Alles findet zwischen dem 21. und 24. Oktober 2019 statt und beinhaltet auch die Verpflegung für die 4 Tage. \nWeitere Infos und Anmeldung unter:www.xing-events.com/gruendertraining.html \nSichert euch die vergünstigen “Early Bird Tickets” bis Ende Juli.
URL:https://www.aachen.digital/en/event/38-gruendertraining-rwth-innovation/
ATTACH;FMTTYPE=image/jpeg:https://www.aachen.digital/wp-content/uploads/2019/02/RWTH-Innovation-125.jpg
ORGANIZER;CN="RWTH Innovation GmbH":MAILTO:info@gruenderzentrum.rwth-aachen.de
END:VEVENT
BEGIN:VEVENT
DTSTART;VALUE=DATE:20190408
DTEND;VALUE=DATE:20190412
DTSTAMP:20260423T192429
CREATED:20190206T134757Z
LAST-MODIFIED:20190716T084803Z
UID:10004949-1554681600-1555027199@www.aachen.digital
SUMMARY:37. Gründertraining des Gründerzentrums der RWTH Aachen
DESCRIPTION:Seit mehr als 10 Jahren organisiert das Gründerzentrum der RWTH Aachen das Gründertraining abwechselnd in den Räumlichkeiten der Sparkasse sowie der IHK Aachen. Bis dato haben über 1000 Teilnehmer an diesem 4-tägigen Kompaktseminar teilgenommen. Alleine aus den letzten 10 Gründertrainings gingen bereits über 100 Gründungen mit interessanten Geschäftsideen hervor. Das Ziel des Gründertrainings ist die praxisnahe Einführung in die wichtigsten Themengebiete rund um das Thema Unternehmensgründung. \n 
URL:https://www.aachen.digital/en/event/37-gruendertraining-des-gruenderzentrums-der-rwth-aachen/
LOCATION:S-Forum\, Münsterplatz 7-9\, Aachen\, 52062\, Deutschland
ATTACH;FMTTYPE=image/jpeg:https://www.aachen.digital/wp-content/uploads/2019/02/RWTH-Innovation-125.jpg
ORGANIZER;CN="RWTH Innovation GmbH":MAILTO:info@gruenderzentrum.rwth-aachen.de
END:VEVENT
END:VCALENDAR