BEGIN:VCALENDAR
VERSION:2.0
PRODID:-//digitalHUB Aachen - ECPv6.15.20//NONSGML v1.0//EN
CALSCALE:GREGORIAN
METHOD:PUBLISH
X-ORIGINAL-URL:https://www.aachen.digital/en/
X-WR-CALDESC:Events for digitalHUB Aachen
REFRESH-INTERVAL;VALUE=DURATION:PT1H
X-Robots-Tag:noindex
X-PUBLISHED-TTL:PT1H
BEGIN:VTIMEZONE
TZID:Europe/Berlin
BEGIN:DAYLIGHT
TZOFFSETFROM:+0100
TZOFFSETTO:+0200
TZNAME:CEST
DTSTART:20210328T010000
END:DAYLIGHT
BEGIN:STANDARD
TZOFFSETFROM:+0200
TZOFFSETTO:+0100
TZNAME:CET
DTSTART:20211031T010000
END:STANDARD
BEGIN:DAYLIGHT
TZOFFSETFROM:+0100
TZOFFSETTO:+0200
TZNAME:CEST
DTSTART:20220327T010000
END:DAYLIGHT
BEGIN:STANDARD
TZOFFSETFROM:+0200
TZOFFSETTO:+0100
TZNAME:CET
DTSTART:20221030T010000
END:STANDARD
BEGIN:DAYLIGHT
TZOFFSETFROM:+0100
TZOFFSETTO:+0200
TZNAME:CEST
DTSTART:20230326T010000
END:DAYLIGHT
BEGIN:STANDARD
TZOFFSETFROM:+0200
TZOFFSETTO:+0100
TZNAME:CET
DTSTART:20231029T010000
END:STANDARD
BEGIN:DAYLIGHT
TZOFFSETFROM:+0100
TZOFFSETTO:+0200
TZNAME:CEST
DTSTART:20240331T010000
END:DAYLIGHT
BEGIN:STANDARD
TZOFFSETFROM:+0200
TZOFFSETTO:+0100
TZNAME:CET
DTSTART:20241027T010000
END:STANDARD
BEGIN:DAYLIGHT
TZOFFSETFROM:+0100
TZOFFSETTO:+0200
TZNAME:CEST
DTSTART:20250330T010000
END:DAYLIGHT
BEGIN:STANDARD
TZOFFSETFROM:+0200
TZOFFSETTO:+0100
TZNAME:CET
DTSTART:20251026T010000
END:STANDARD
END:VTIMEZONE
BEGIN:VEVENT
DTSTART;TZID=Europe/Berlin:20240624T190000
DTEND;TZID=Europe/Berlin:20240624T220000
DTSTAMP:20260423T221400
CREATED:20240110T093450Z
LAST-MODIFIED:20240621T123200Z
UID:10006697-1719255600-1719266400@www.aachen.digital
SUMMARY:Gründer:innen Stammtisch - Stage One Edition
DESCRIPTION:Am 24. Juni findet unser Gründer:innen Stammtisch statt. Der Stammtisch wird veranstaltet\, um die Aachener Gründer:innenwelt in entspannter und ungezwungener Atmosphäre zusammenzubringen. \nAb 19 Uhr treffen wir uns mit der Startup Community vom digitalHUB Aachen\, RWTH Innovation \, AC.E – Aachener Entrepreneurship Team e.V.\, dem Gründungszentrum FH Aachen und dem Collective Incubator. \nWie immer werden 2-3 Ideen von (zukünftigen) Gründer:innen präsentiert. Es gibt ebenfalls die Möglichkeit\, spontan eine Idee zu präsentieren\, um Feedback von der Community zu erhalten. Ob spontan oder vorbereitet\, mit oder ohne Folien\, ist Euch überlassen. Während einer anschließenden Diskussionsrunde werden offene Fragen beantworten. \nJede:r\, der eine coole Idee hat und diese gerne teilen und diskutieren möchte\, ist beim Gründer:innen Stammtisch herzlich willkommen. Zudem bietet der Stammtisch eine perfekte Möglichkeit\, um zu networken bzw. Erfahrungen auszutauschen bei kalten Drinks und Pizza. \nSeid dabei! Wir freuen uns auf euch! \nJETZT ANMELDEN
URL:https://www.aachen.digital/en/event/gruenderinnen-stammtisch-18/
LOCATION:Collective Incubator\, Jülicher Str. 209 q-s\, Aachen\, 52070
ATTACH;FMTTYPE=image/jpeg:https://www.aachen.digital/wp-content/uploads/2024/01/Gruenderinnen-Stammtisch-2024-Stage.jpg
END:VEVENT
BEGIN:VEVENT
DTSTART;TZID=Europe/Berlin:20221102T140000
DTEND;TZID=Europe/Berlin:20221102T200000
DTSTAMP:20260423T221400
CREATED:20220928T080700Z
LAST-MODIFIED:20230922T072437Z
UID:10006316-1667397600-1667419200@www.aachen.digital
SUMMARY:Fempreneurs
DESCRIPTION:Der Anteil an Startup-Gründerinnen liegt bei 17\,7 %. Unser Ziel ist es noch mehr Frauen für das Thema Gründung zu begeistern und unterstützen dabei den Weg von der Idee bis zur Gründung. \nNeben inhaltlichen Sessions\, einer Panel Discussion und Workshops gibt es im Anschluss Networking und Abendprogramm.\nIhr könnt euch inhaltlich auf spannende Themen freuen: \n\nWie finde ich die richtige Finanzierung?\nGründen während des Studiums\nWeibliche Führung – Challenges und Benefits\nAnstellung / Selbstständigkeit / Unternehmertum – Wie wirkt sich die Wahl auf die work-life-balance aus?\n\nDabei wird die Veranstaltungen von Gründerinnen und Unternehmensvertreterinnen begleitet. Das Event wird auf deutsch veranstaltet. \nZUR ANMELDUNG
URL:https://www.aachen.digital/en/event/fempreneurs/
LOCATION:Collective Incubator\, Jülicher Str. 209 q-s\, Aachen\, 52070
ATTACH;FMTTYPE=image/jpeg:https://www.aachen.digital/wp-content/uploads/2022/09/banner.jpg
END:VEVENT
END:VCALENDAR