BEGIN:VCALENDAR
VERSION:2.0
PRODID:-//digitalHUB Aachen - ECPv6.15.20//NONSGML v1.0//EN
CALSCALE:GREGORIAN
METHOD:PUBLISH
X-ORIGINAL-URL:https://www.aachen.digital/en/
X-WR-CALDESC:Events for digitalHUB Aachen
REFRESH-INTERVAL;VALUE=DURATION:PT1H
X-Robots-Tag:noindex
X-PUBLISHED-TTL:PT1H
BEGIN:VTIMEZONE
TZID:Europe/Berlin
BEGIN:DAYLIGHT
TZOFFSETFROM:+0100
TZOFFSETTO:+0200
TZNAME:CEST
DTSTART:20200329T010000
END:DAYLIGHT
BEGIN:STANDARD
TZOFFSETFROM:+0200
TZOFFSETTO:+0100
TZNAME:CET
DTSTART:20201025T010000
END:STANDARD
BEGIN:DAYLIGHT
TZOFFSETFROM:+0100
TZOFFSETTO:+0200
TZNAME:CEST
DTSTART:20210328T010000
END:DAYLIGHT
BEGIN:STANDARD
TZOFFSETFROM:+0200
TZOFFSETTO:+0100
TZNAME:CET
DTSTART:20211031T010000
END:STANDARD
BEGIN:DAYLIGHT
TZOFFSETFROM:+0100
TZOFFSETTO:+0200
TZNAME:CEST
DTSTART:20220327T010000
END:DAYLIGHT
BEGIN:STANDARD
TZOFFSETFROM:+0200
TZOFFSETTO:+0100
TZNAME:CET
DTSTART:20221030T010000
END:STANDARD
END:VTIMEZONE
BEGIN:VEVENT
DTSTART;TZID=Europe/Berlin:20210406T093000
DTEND;TZID=Europe/Berlin:20210406T180000
DTSTAMP:20260424T023350
CREATED:20210308T103111Z
LAST-MODIFIED:20210308T103111Z
UID:10005402-1617701400-1617732000@www.aachen.digital
SUMMARY:IT-Trendkongress 2021
DESCRIPTION:Big Data und KI im Automobil- und Maschinenbau\n\n\n\n\n\n\n\nDas Kompetenzzentrum beteiligt sich am virtuellen IT-Trendkongress am 06. April 2021. Big Data und KI als treibende Kräfte für Innovation und digitale Transformation finden angesichts der anhaltenden COVID-19-Pandemie ihren bisher größten Schub. Wie Unternehmen Big Data und KI wirkungsvoll und sicher einsetzen und wer die erforderlichen Treiber und Schadenswächter dafür sind\, erfahren Sie auf dem IT-Trendkongress. \nÜber den IT-Trendkongress \n\nEs erwartet Sie ein spannender Mix aus Vorträgen\, Innovationen und Beratung. Der IT-Trendkongress gibt Einblicke in die Herausforderungen und Veränderungen durch die Digitalisierung. \nProgramm und Anmeldung
URL:https://www.aachen.digital/en/event/it-trendkongress-2021/
LOCATION:Jülicher Strasse 72a\, Aachen\, 52070\, Germany
ATTACH;FMTTYPE=image/jpeg:https://www.aachen.digital/wp-content/uploads/2021/03/AdobeStock_124996331-scaled-1.jpeg
END:VEVENT
END:VCALENDAR