BEGIN:VCALENDAR
VERSION:2.0
PRODID:-//digitalHUB Aachen - ECPv6.15.20//NONSGML v1.0//EN
CALSCALE:GREGORIAN
METHOD:PUBLISH
X-ORIGINAL-URL:https://www.aachen.digital/en/
X-WR-CALDESC:Events for digitalHUB Aachen
REFRESH-INTERVAL;VALUE=DURATION:PT1H
X-Robots-Tag:noindex
X-PUBLISHED-TTL:PT1H
BEGIN:VTIMEZONE
TZID:Europe/Berlin
BEGIN:DAYLIGHT
TZOFFSETFROM:+0100
TZOFFSETTO:+0200
TZNAME:CEST
DTSTART:20220327T010000
END:DAYLIGHT
BEGIN:STANDARD
TZOFFSETFROM:+0200
TZOFFSETTO:+0100
TZNAME:CET
DTSTART:20221030T010000
END:STANDARD
BEGIN:DAYLIGHT
TZOFFSETFROM:+0100
TZOFFSETTO:+0200
TZNAME:CEST
DTSTART:20230326T010000
END:DAYLIGHT
BEGIN:STANDARD
TZOFFSETFROM:+0200
TZOFFSETTO:+0100
TZNAME:CET
DTSTART:20231029T010000
END:STANDARD
BEGIN:DAYLIGHT
TZOFFSETFROM:+0100
TZOFFSETTO:+0200
TZNAME:CEST
DTSTART:20240331T010000
END:DAYLIGHT
BEGIN:STANDARD
TZOFFSETFROM:+0200
TZOFFSETTO:+0100
TZNAME:CET
DTSTART:20241027T010000
END:STANDARD
END:VTIMEZONE
BEGIN:VEVENT
DTSTART;TZID=Europe/Berlin:20230602T160000
DTEND;TZID=Europe/Berlin:20230605T210000
DTSTAMP:20260423T220145
CREATED:20230424T093923Z
LAST-MODIFIED:20230509T132236Z
UID:10006459-1685721600-1685998800@www.aachen.digital
SUMMARY:Circular Economy Challenge for Students powered by Saint-Gobain Sekurit
DESCRIPTION:Lust auf eine praxisnahe Herausforderung im Bereich der Kreislaufwirtschaft? \nSaint-Gobain Sekurit\, Hersteller von innovativer Fahrzeugverglasung\, veranstaltet vom 02. bis zum 05. Juni die “Circular Economy Challenge”\, ein “Techathon”\, bei der Studierende aus den Bereichen Wirtschaft\, Technologie\, IT und Logistik zusammen mit Expert:innen von Saint-Gobain Ideen zur Verbesserung der Zirkularität entwickeln.
URL:https://www.aachen.digital/en/event/circular-economy-challenge-for-students-powered-by-saint-gobain-sekurit/
LOCATION:INC Invention Center\, Campus Boulevard 30\, Aachen\, 52074\, Deutschland
ATTACH;FMTTYPE=image/jpeg:https://www.aachen.digital/wp-content/uploads/2023/05/General_Visuals_sustainabilityMonth_stage_ohneBalken.jpg
END:VEVENT
END:VCALENDAR