BEGIN:VCALENDAR
VERSION:2.0
PRODID:-//digitalHUB Aachen - ECPv6.15.20//NONSGML v1.0//EN
CALSCALE:GREGORIAN
METHOD:PUBLISH
X-WR-CALNAME:digitalHUB Aachen
X-ORIGINAL-URL:https://www.aachen.digital/en/
X-WR-CALDESC:Events for digitalHUB Aachen
REFRESH-INTERVAL;VALUE=DURATION:PT1H
X-Robots-Tag:noindex
X-PUBLISHED-TTL:PT1H
BEGIN:VTIMEZONE
TZID:Europe/Berlin
BEGIN:DAYLIGHT
TZOFFSETFROM:+0100
TZOFFSETTO:+0200
TZNAME:CEST
DTSTART:20230326T010000
END:DAYLIGHT
BEGIN:STANDARD
TZOFFSETFROM:+0200
TZOFFSETTO:+0100
TZNAME:CET
DTSTART:20231029T010000
END:STANDARD
BEGIN:DAYLIGHT
TZOFFSETFROM:+0100
TZOFFSETTO:+0200
TZNAME:CEST
DTSTART:20240331T010000
END:DAYLIGHT
BEGIN:STANDARD
TZOFFSETFROM:+0200
TZOFFSETTO:+0100
TZNAME:CET
DTSTART:20241027T010000
END:STANDARD
BEGIN:DAYLIGHT
TZOFFSETFROM:+0100
TZOFFSETTO:+0200
TZNAME:CEST
DTSTART:20250330T010000
END:DAYLIGHT
BEGIN:STANDARD
TZOFFSETFROM:+0200
TZOFFSETTO:+0100
TZNAME:CET
DTSTART:20251026T010000
END:STANDARD
END:VTIMEZONE
BEGIN:VEVENT
DTSTART;TZID=Europe/Berlin:20240704T153000
DTEND;TZID=Europe/Berlin:20240704T163000
DTSTAMP:20260423T220019
CREATED:20240522T074039Z
LAST-MODIFIED:20240614T082129Z
UID:10006797-1720107000-1720110600@www.aachen.digital
SUMMARY:Vertriebsteam – Der perfekte Vertriebsmitarbeiter für Startups
DESCRIPTION:Wie sieht euer:eure perfekte:r Vertriebsmitarbeiter:in aus? Reicht es aus\, ein BWL-Studium absolviert zu haben? Sollte es ein erfahrener Hase aus der Branche sein? Muss ein:e Vertriebler:in denselben Spirit mitbringen wie das Gründungsteam? \nIn 60 Minuten erhaltet ihr einen wertebasierten Ansatz\, um das Profil eines:r perfekten Vertriebsmitarbeiter:in zu erstellen sowie Tipps rund um das Matching-Gespräch mit einem:r Bewerber:in\, um sein:ihr Vertriebsprofil zu ergründen. \nDieses Event ist Teil der STARTUP WEEK AACHEN. \nJetzt anmelden \n  \nSTARTUP WEEK AACHEN: \nVom 01.07.2024 bis zum 05.07.2024 kommt die gesamte Startup-Szene der Aachener Region zusammen und teilt mit euch Know-how und spannende\, innovative Ideen für die Zukunft! In dieser Woche erwarten euch zahlreiche Veranstaltungen rund um die Themen Startup\, Wachstum\, Digitalisierung und Innovation. Das Angebot reicht von Workshops\, Keynotes und TalkUp Stories bis hin zum TOP-Event: #neuland x atec am 02. und 03.07.2024 (Aachener Technologie- und Entrepreneurship-Kongress). \nZur Webseite
URL:https://www.aachen.digital/en/event/vertriebsteam-der-perfekte-vertriebsmitarbeiter-fuer-start-ups/
ATTACH;FMTTYPE=image/jpeg:https://www.aachen.digital/wp-content/uploads/2024/06/stage-startupweek.jpg
END:VEVENT
BEGIN:VEVENT
DTSTART;TZID=Europe/Berlin:20240704T130000
DTEND;TZID=Europe/Berlin:20240704T170000
DTSTAMP:20260423T220019
CREATED:20240522T073650Z
LAST-MODIFIED:20240614T082019Z
UID:10006798-1720098000-1720112400@www.aachen.digital
SUMMARY:SALES MATCH | Wie gestalte ich als Startup meine Erstansprache per Telefon?
DESCRIPTION:ALES MATCH: Meistere die Kunst der Telefonakquise!\nseid dabei\, wenn ALES MATCH euch in die Welt der Telefonakquise einführt! In dieser einzigartigen\, gamifizierten Veranstaltung lernt ihr\, wie ihr eure Erstansprache per Telefon auf das nächste Level hebt. \nWarum ist Telefonakquise so entscheidend für euer Wachstum? Eine erfolgreiche Erstansprache kann den Unterschied zwischen Erfolg und Stagnation ausmachen. Wir zeigen euch\, wie ihr eure Gespräche strukturiert\, eure Botschaft klar und überzeugend kommuniziert und die Kaufmotivation eurer Zielgruppe effektiv aktiviert. \nFreut euch auf praxisnahe Tipps\, interaktive Übungen und spannende Spiele\, die euch helfen\, eure Telefonakquise zu perfektionieren. Nutzt die Chance\, wertvolle Fähigkeiten zu erwerben\, die euer Startup voranbringen. \nMeldet euch jetzt an und verwandelt eure Telefonakquise in einen Erfolgsgaranten! Wir freuen uns darauf\, euch bei ALES MATCH zu begrüßen. \nDieses Event ist Teil der STARTUP WEEK AACHEN. \nJetzt anmelden \n  \nSTARTUP WEEK AACHEN: \nVom 01.07.2024 bis zum 05.07.2024 kommt die gesamte Startup-Szene der Aachener Region zusammen und teilt mit euch Know-how und spannende\, innovative Ideen für die Zukunft! In dieser Woche erwarten euch zahlreiche Veranstaltungen rund um die Themen Startup\, Wachstum\, Digitalisierung und Innovation. Das Angebot reicht von Workshops\, Keynotes und TalkUp Stories bis hin zum TOP-Event: #neuland x atec am 02. und 03.07.2024 (Aachener Technologie- und Entrepreneurship-Kongress). \nZur Webseite
URL:https://www.aachen.digital/en/event/sales-match-wie-gestalte-ich-als-start-up-meine-erstansprache-per-telefon/
ATTACH;FMTTYPE=image/jpeg:https://www.aachen.digital/wp-content/uploads/2024/06/stage-startupweek.jpg
END:VEVENT
END:VCALENDAR