BEGIN:VCALENDAR
VERSION:2.0
PRODID:-//digitalHUB Aachen - ECPv6.15.20//NONSGML v1.0//EN
CALSCALE:GREGORIAN
METHOD:PUBLISH
X-WR-CALNAME:digitalHUB Aachen
X-ORIGINAL-URL:https://www.aachen.digital/en/
X-WR-CALDESC:Events for digitalHUB Aachen
REFRESH-INTERVAL;VALUE=DURATION:PT1H
X-Robots-Tag:noindex
X-PUBLISHED-TTL:PT1H
BEGIN:VTIMEZONE
TZID:Europe/Berlin
BEGIN:DAYLIGHT
TZOFFSETFROM:+0100
TZOFFSETTO:+0200
TZNAME:CEST
DTSTART:20240331T010000
END:DAYLIGHT
BEGIN:STANDARD
TZOFFSETFROM:+0200
TZOFFSETTO:+0100
TZNAME:CET
DTSTART:20241027T010000
END:STANDARD
BEGIN:DAYLIGHT
TZOFFSETFROM:+0100
TZOFFSETTO:+0200
TZNAME:CEST
DTSTART:20250330T010000
END:DAYLIGHT
BEGIN:STANDARD
TZOFFSETFROM:+0200
TZOFFSETTO:+0100
TZNAME:CET
DTSTART:20251026T010000
END:STANDARD
BEGIN:DAYLIGHT
TZOFFSETFROM:+0100
TZOFFSETTO:+0200
TZNAME:CEST
DTSTART:20260329T010000
END:DAYLIGHT
BEGIN:STANDARD
TZOFFSETFROM:+0200
TZOFFSETTO:+0100
TZNAME:CET
DTSTART:20261025T010000
END:STANDARD
END:VTIMEZONE
BEGIN:VEVENT
DTSTART;TZID=Europe/Berlin:20250701T150000
DTEND;TZID=Europe/Berlin:20250701T180000
DTSTAMP:20260423T213943
CREATED:20250616T103737Z
LAST-MODIFIED:20250616T111315Z
UID:10007356-1751382000-1751392800@www.aachen.digital
SUMMARY:From data chaos to AI-driven clarity:  How SMEs can use GenAI for smarter sales decisions
DESCRIPTION:Mid-sized manufacturing companies often sit on massive amounts of valuable operational and sales data — but lack the internal resources\, time\, or analytics teams needed to turn that data into meaningful business decisions. As a result\, crucial insights remain hidden\, and growth opportunities go untapped. \nIn this interactive session\, Scavenger AI will present a real-world case study from a German industrial SME to show how generative AI is changing the game. You’ll learn how the company used the no-code AI platform to analyze its internal data in a matter of hours — not weeks — and uncover actionable insights that directly improved commercial performance. \nYou’ll see an overview of how they: \n-identified hidden sales trends across product categories and customer segments\n-surfaced patterns in regional performance that were previously overlooked\n-increased profitability by enabling more targeted\, data-driven sales strategies\n-all without having to wait for dashboards or BI support \nWhether you’re a sales leader\, operations manager\, or innovation lead\, this session will give you a practical look at how GenAI can help SMEs make faster\, smarter decisions using the data they already have. \nsign up here!
URL:https://www.aachen.digital/en/event/from-data-chaos-to-ai-driven-clarity-how-smes-can-use-genai-for-smarter-sales-decisions/
LOCATION:digitalHUB Aachen\, Jülicher Str. 72a\, Aachen\, Nordrhein-Westfalen\, 52070\, Germany
ATTACH;FMTTYPE=image/jpeg:https://www.aachen.digital/wp-content/uploads/2025/06/Design-ohne-Titel.jpg
END:VEVENT
END:VCALENDAR