BEGIN:VCALENDAR
VERSION:2.0
PRODID:-//digitalHUB Aachen - ECPv6.15.20//NONSGML v1.0//EN
CALSCALE:GREGORIAN
METHOD:PUBLISH
X-ORIGINAL-URL:https://www.aachen.digital/en/
X-WR-CALDESC:Events for digitalHUB Aachen
REFRESH-INTERVAL;VALUE=DURATION:PT1H
X-Robots-Tag:noindex
X-PUBLISHED-TTL:PT1H
BEGIN:VTIMEZONE
TZID:Europe/Berlin
BEGIN:DAYLIGHT
TZOFFSETFROM:+0100
TZOFFSETTO:+0200
TZNAME:CEST
DTSTART:20180325T010000
END:DAYLIGHT
BEGIN:STANDARD
TZOFFSETFROM:+0200
TZOFFSETTO:+0100
TZNAME:CET
DTSTART:20181028T010000
END:STANDARD
BEGIN:DAYLIGHT
TZOFFSETFROM:+0100
TZOFFSETTO:+0200
TZNAME:CEST
DTSTART:20190331T010000
END:DAYLIGHT
BEGIN:STANDARD
TZOFFSETFROM:+0200
TZOFFSETTO:+0100
TZNAME:CET
DTSTART:20191027T010000
END:STANDARD
BEGIN:DAYLIGHT
TZOFFSETFROM:+0100
TZOFFSETTO:+0200
TZNAME:CEST
DTSTART:20200329T010000
END:DAYLIGHT
BEGIN:STANDARD
TZOFFSETFROM:+0200
TZOFFSETTO:+0100
TZNAME:CET
DTSTART:20201025T010000
END:STANDARD
END:VTIMEZONE
BEGIN:VEVENT
DTSTART;TZID=Europe/Berlin:20190204T183000
DTEND;TZID=Europe/Berlin:20190204T203000
DTSTAMP:20260424T002142
CREATED:20190123T143107Z
LAST-MODIFIED:20190204T104837Z
UID:10004702-1549305000-1549312200@www.aachen.digital
SUMMARY:SMART INDUSTRY - Schweden 4.0
DESCRIPTION:Ausstellungseröffnung und Podiumsdiskussion\nSchweden ist Partnerland der HANNOVER MESSE 2019. Mit der Beteiligung an der weltgrößten Industriemesse verstärkt Schweden die bilaterale Innovationspartnerschaft\, die Schweden und Deutschland Anfang 2017 unterzeichnet haben. Passend dazu veranschaulicht die Ausstellung SMART INDUSTRY – SCHWEDEN 4.0 in verschiedenen Bundesländern in acht Fallbeispielen\, wie die schwedische Industrie erfolgreich den digitalen Wandel vollzieht. \n  \nFliegende Rasenmäher\, sprechende Kugellager und ein ferngesteuertes Goldbergwerk erwarten Sie\, wenn die Ausstellung in dem Zeitraum vom 04. Feb – 14. Feb. 2019 in dem digitalHUB Aachen e.V. ausgestellt wird. Die Ausstellung ist vom 04. Bis 14. Februar wochentags jeweils von 9 bis 17 Uhr geöffnet. Samstag und Sonntag ist die Ausstellung geschlossen. \nIn Rahmen der Ausstellungseröffnung laden wir Sie zu einer Podiumsdiskussion zum Thema „Smart-Industries: Anwendungsfelder der Zukunft“ mit Vertreter schwedischer und deutscher Unternehmen ein. \nProgramm\n18.00 Uhr Einlass \n18.30 Uhr Begrüßung \n\nDr. Juliane Kronen\, Honorarkonsulin von Schweden in NRW\nDieter Begaß\, Fachbereichsleiter Wirtschaft\, Wissenschaft und Europa der Stadt Aachen\nDr. Oliver Grün\, Vorstandsvorsitzender des digitalHUB Aachen\n\n19.00 Uhr Eröffnung der Ausstellung \n19.10 Uhr Key-Note: “5G – Die Basis für Smart-Industries” – Jan-Peter Meyer-Kahlen\, Head ICT Development Center Aachen bei der Ericsson GmbH \n19.30 Uhr Diskussion “Smart-Industries: Anwendungsfelder der Zukunft” \n\nEricsson GmbH: Jan-Peter Meyer-Kahlen\, Head ICT Development Center Aachen\nTacton Systems GmbH: Ewa Johansson\, Senior Vice President DACH\nS O NAH UG: Thomas Grimm\, COO & Co-Founder\nLANCOM Systems GmbH: Dr. Tarik Erdemir\, VP Router & VPN-Gateways\n\nModeration: Anna Liberg\, Handelsbeauftragte Business Sweden\, Deutschland \n20.30 Uhr Ausklang & Get-Together \nSeinen Sie mit dabei\, stellen Sie Fragen und diskutieren Sie mit! \nkostenlose Anmeldung \n  \n \n           \n    \nDie Eröffnungsveranstaltung ist eine Kooperation zwischen der Schwedische Botschaft\, dem Wissenschaftsbüro der Stadt Aachen und dem digitalHUB Aachen e.V.\n(Foto: ABB)
URL:https://www.aachen.digital/en/event/smart-industry-schweden-4-0/
LOCATION:digitalHUB Aachen\, Jülicher Str. 72a\, Aachen\, Nordrhein-Westfalen\, 52070\, Germany
ATTACH;FMTTYPE=image/jpeg:https://www.aachen.digital/wp-content/uploads/2019/01/Visual-Smart-Industry-Schweden.jpg
END:VEVENT
BEGIN:VEVENT
DTSTART;TZID=Europe/Berlin:20190204T090000
DTEND;TZID=Europe/Berlin:20190214T170000
DTSTAMP:20260424T002142
CREATED:20190204T105140Z
LAST-MODIFIED:20190204T105140Z
UID:10004711-1549270800-1550163600@www.aachen.digital
SUMMARY:Ausstellung SMART INDUSTRY – Schweden 4.0 im digitalHUB Aachen
DESCRIPTION:Schweden ist Partnerland der HANNOVER MESSE 2019. Mit der Beteiligung an der weltgrößten Industriemesse verstärkt Schweden die bilaterale Innovationspartnerschaft\, die Schweden und Deutschland Anfang 2017 unterzeichnet haben. Passend dazu veranschaulicht die Ausstellung SMART INDUSTRY – SCHWEDEN 4.0 in verschiedenen Bundesländern in acht Fallbeispielen\, wie die schwedische Industrie erfolgreich den digitalen Wandel vollzieht. \nFliegende Rasenmäher\, sprechende Kugellager und ein ferngesteuertes Goldbergwerk erwarten Sie\, wenn die Ausstellung in dem Zeitraum vom 04. Feb – 14. Feb. 2019 in dem digitalHUB Aachen e.V. ausgestellt wird. \nDie Ausstellung ist vom 04. Bis 14. Februar wochentags jeweils von 9 bis 17 Uhr geöffnet. Samstag und Sonntag ist die Ausstellung geschlossen. \n  \n \n           \n     \n(Foto: ABB)
URL:https://www.aachen.digital/en/event/ausstellung-smart-industry-schweden/
LOCATION:digitalHUB Aachen\, Jülicher Str. 72a\, Aachen\, Nordrhein-Westfalen\, 52070\, Germany
ATTACH;FMTTYPE=image/jpeg:https://www.aachen.digital/wp-content/uploads/2019/01/Visual-Smart-Industry-Schweden.jpg
END:VEVENT
END:VCALENDAR