BEGIN:VCALENDAR
VERSION:2.0
PRODID:-//digitalHUB Aachen - ECPv6.15.20//NONSGML v1.0//EN
CALSCALE:GREGORIAN
METHOD:PUBLISH
X-ORIGINAL-URL:https://www.aachen.digital/en/
X-WR-CALDESC:Events for digitalHUB Aachen
REFRESH-INTERVAL;VALUE=DURATION:PT1H
X-Robots-Tag:noindex
X-PUBLISHED-TTL:PT1H
BEGIN:VTIMEZONE
TZID:Europe/Berlin
BEGIN:DAYLIGHT
TZOFFSETFROM:+0100
TZOFFSETTO:+0200
TZNAME:CEST
DTSTART:20210328T010000
END:DAYLIGHT
BEGIN:STANDARD
TZOFFSETFROM:+0200
TZOFFSETTO:+0100
TZNAME:CET
DTSTART:20211031T010000
END:STANDARD
BEGIN:DAYLIGHT
TZOFFSETFROM:+0100
TZOFFSETTO:+0200
TZNAME:CEST
DTSTART:20220327T010000
END:DAYLIGHT
BEGIN:STANDARD
TZOFFSETFROM:+0200
TZOFFSETTO:+0100
TZNAME:CET
DTSTART:20221030T010000
END:STANDARD
BEGIN:DAYLIGHT
TZOFFSETFROM:+0100
TZOFFSETTO:+0200
TZNAME:CEST
DTSTART:20230326T010000
END:DAYLIGHT
BEGIN:STANDARD
TZOFFSETFROM:+0200
TZOFFSETTO:+0100
TZNAME:CET
DTSTART:20231029T010000
END:STANDARD
BEGIN:DAYLIGHT
TZOFFSETFROM:+0100
TZOFFSETTO:+0200
TZNAME:CEST
DTSTART:20240331T010000
END:DAYLIGHT
BEGIN:STANDARD
TZOFFSETFROM:+0200
TZOFFSETTO:+0100
TZNAME:CET
DTSTART:20241027T010000
END:STANDARD
END:VTIMEZONE
BEGIN:VEVENT
DTSTART;TZID=Europe/Berlin:20230525T180000
DTEND;TZID=Europe/Berlin:20230525T200000
DTSTAMP:20260423T220713
CREATED:20230511T084434Z
LAST-MODIFIED:20230524T085559Z
UID:10006473-1685037600-1685044800@www.aachen.digital
SUMMARY:Measuring ESG and Impact for start-ups
DESCRIPTION:The event language is English. \nESGs are guidelines to ensure sustainability and impact within a company and can be the framework for e.g. investors or potential partners to evaluate a certain company. \nSEEu (Social Entrepreneurship Euregio network) invites you to join an evening of dialogue about ESGs and impact. These indicators become more and more important not only for social or impact start-ups but for all founders. \nWe will discuss why these topics are increasing in significance for investors and start-ups together with a representative of HTGF (Germany’s most active deep-tech investor) as well as the Aachen-born start-up circonomit who developed a tool to measure impact. \nREGISTRATION \nThis event is part of the STARTUP WEEK AACHEN 2023.
URL:https://www.aachen.digital/en/event/measuring-esg-and-impact-for-start-ups/
LOCATION:OecherLab\, Kapuzinergraben 19D\, 52062 Aachen
ATTACH;FMTTYPE=image/jpeg:https://www.aachen.digital/wp-content/uploads/2023/03/SUW-Stage-1632-×-644-px.jpg
END:VEVENT
BEGIN:VEVENT
DTSTART;TZID=Europe/Berlin:20220518T180000
DTEND;TZID=Europe/Berlin:20220518T203000
DTSTAMP:20260423T220713
CREATED:20220502T113958Z
LAST-MODIFIED:20220502T113958Z
UID:10006242-1652896800-1652905800@www.aachen.digital
SUMMARY:(Impact) Investment: Door opener for the next big step
DESCRIPTION:Save the date! \nGemeinsam mit der Stadt Aachen sprechen wir im Oecher Lab mit Aachener Sozialunternehmen\, die mit Hilfe eines (Impact) Investments Ihre innovativen Ideen zur Lösung gesellschaftlicher und sozialer Herausforderungen skalieren konnten. \nZur Anmeldung: hier \nWeitere Informationen zur Veranstaltung folgen in Kürze. \nWir freuen uns auf Sie!
URL:https://www.aachen.digital/en/event/impact-investment-door-opener-for-the-next-big-step/
LOCATION:OecherLab\, Kapuzinergraben 19D\, 52062 Aachen
ATTACH;FMTTYPE=image/jpeg:https://www.aachen.digital/wp-content/uploads/2022/05/SEEu_stage.jpg
END:VEVENT
END:VCALENDAR