BEGIN:VCALENDAR
VERSION:2.0
PRODID:-//digitalHUB Aachen - ECPv6.15.20//NONSGML v1.0//EN
CALSCALE:GREGORIAN
METHOD:PUBLISH
X-WR-CALNAME:digitalHUB Aachen
X-ORIGINAL-URL:https://www.aachen.digital/en/
X-WR-CALDESC:Events for digitalHUB Aachen
REFRESH-INTERVAL;VALUE=DURATION:PT1H
X-Robots-Tag:noindex
X-PUBLISHED-TTL:PT1H
BEGIN:VTIMEZONE
TZID:Europe/Berlin
BEGIN:DAYLIGHT
TZOFFSETFROM:+0100
TZOFFSETTO:+0200
TZNAME:CEST
DTSTART:20220327T010000
END:DAYLIGHT
BEGIN:STANDARD
TZOFFSETFROM:+0200
TZOFFSETTO:+0100
TZNAME:CET
DTSTART:20221030T010000
END:STANDARD
BEGIN:DAYLIGHT
TZOFFSETFROM:+0100
TZOFFSETTO:+0200
TZNAME:CEST
DTSTART:20230326T010000
END:DAYLIGHT
BEGIN:STANDARD
TZOFFSETFROM:+0200
TZOFFSETTO:+0100
TZNAME:CET
DTSTART:20231029T010000
END:STANDARD
BEGIN:DAYLIGHT
TZOFFSETFROM:+0100
TZOFFSETTO:+0200
TZNAME:CEST
DTSTART:20240331T010000
END:DAYLIGHT
BEGIN:STANDARD
TZOFFSETFROM:+0200
TZOFFSETTO:+0100
TZNAME:CET
DTSTART:20241027T010000
END:STANDARD
END:VTIMEZONE
BEGIN:VEVENT
DTSTART;VALUE=DATE:20231114
DTEND;VALUE=DATE:20231118
DTSTAMP:20260423T225456
CREATED:20231106T102330Z
LAST-MODIFIED:20231106T102441Z
UID:10005985-1699920000-1700265599@www.aachen.digital
SUMMARY:SEMICON Europa
DESCRIPTION:Die SEMICON Europa ist die größte europäische Elektronikplattform\, die Branchenführer aus der gesamten Design- und Fertigungskette zusammenbringt. \nDie Messe bietet den Teilnehmern die Möglichkeit zum Ideenaustausch und zur Förderung des technologischen Fortschritts\, wobei die fortschrittlichste und innovativste Elektronikfertigung in Europa im Mittelpunkt steht. \nEs werden mehrere Programmpunkte angeboten\, die sich mit den kritischen Themen und Herausforderungen der Mikroelektronikindustrie befassen\, wie z. B. das Executive Forum\, die Advanced Packaging Conference\, das Fab Management Forum und viele Networking-Veranstaltungen. \nInnovationen in Spitzentechnologien wie Smart Mobility\, Smart MedTech\, Advanced Packaging\, Fab Management und andere Wachstumstreiber der Halbleiterindustrie werden im Fokus stehen. Weitere Informationen zur SEMICON Europa finden Sie hier. \nFür Mitgliedsstartups aus dem digitalHUB ist der Eintritt kostenfrei. Bei Interesse an einem kostenfreien Ticket wendet euch bitte an Alke Karwelies: karwelies@tema.de
URL:https://www.aachen.digital/en/event/semicon-europa/
LOCATION:Messe München\, Am Messesee 2\, München\, Bayern\, 81829\, Germany
ATTACH;FMTTYPE=image/jpeg:https://www.aachen.digital/wp-content/uploads/2023/11/Stages-Mitgliederversammlung-Weihnachts-Come-Together-1.jpg
END:VEVENT
END:VCALENDAR