BEGIN:VCALENDAR
VERSION:2.0
PRODID:-//digitalHUB Aachen - ECPv6.15.20//NONSGML v1.0//EN
CALSCALE:GREGORIAN
METHOD:PUBLISH
X-ORIGINAL-URL:https://www.aachen.digital/en/
X-WR-CALDESC:Events for digitalHUB Aachen
REFRESH-INTERVAL;VALUE=DURATION:PT1H
X-Robots-Tag:noindex
X-PUBLISHED-TTL:PT1H
BEGIN:VTIMEZONE
TZID:Europe/Berlin
BEGIN:DAYLIGHT
TZOFFSETFROM:+0100
TZOFFSETTO:+0200
TZNAME:CEST
DTSTART:20220327T010000
END:DAYLIGHT
BEGIN:STANDARD
TZOFFSETFROM:+0200
TZOFFSETTO:+0100
TZNAME:CET
DTSTART:20221030T010000
END:STANDARD
BEGIN:DAYLIGHT
TZOFFSETFROM:+0100
TZOFFSETTO:+0200
TZNAME:CEST
DTSTART:20230326T010000
END:DAYLIGHT
BEGIN:STANDARD
TZOFFSETFROM:+0200
TZOFFSETTO:+0100
TZNAME:CET
DTSTART:20231029T010000
END:STANDARD
BEGIN:DAYLIGHT
TZOFFSETFROM:+0100
TZOFFSETTO:+0200
TZNAME:CEST
DTSTART:20240331T010000
END:DAYLIGHT
BEGIN:STANDARD
TZOFFSETFROM:+0200
TZOFFSETTO:+0100
TZNAME:CET
DTSTART:20241027T010000
END:STANDARD
END:VTIMEZONE
BEGIN:VEVENT
DTSTART;TZID=Europe/Berlin:20230531T164500
DTEND;TZID=Europe/Berlin:20230531T200000
DTSTAMP:20260423T230930
CREATED:20230413T090838Z
LAST-MODIFIED:20230525T082305Z
UID:10005869-1685551500-1685563200@www.aachen.digital
SUMMARY:Software for Industry – Accelerate your Business
DESCRIPTION:Discover how innovative software solutions can drive your business forward.  Learn how software\, service and digital platforms can optimize your engineering\, manufacturing and product lifecycle. During the event\, you will have the opportunities to: \nLearn from real-world success stories:\nLearn how other companies have increased their manufacturing efficiency and successfully transitioned to a smart factory. Be inspired by how one global engineering company reduced startup time and improved product quality. \nExplore potential collaborations:\nMeet experts and discuss custom collaboration opportunities tailored to your company’s needs. Whether you’re an SME\, a startup\, or a research institution\, take this opportunity to find out how the latest software solutions can drive innovation and advance your business. \nExpand your network:\nConnect with peers\, industry colleagues and members of digitalHUB Aachen. Build new relationships\, exchange ideas\, and lay the foundation for future collaborations. in the dynamic digital landscape. Additionally\, during the event\, you will also meet startups presenting their innovative solutions that have the potential to further advance your business. \nDon’t miss this opportunity to gain valuable knowledge\, make meaningful contacts and take your business to the next level with the help of digitalHUB Aachen.\nRegister now for the event and unleash the full potential of your business! \nREGISTRATION \nWe look forward to welcoming you on 31st May in the digitalCHURCH! \n>>>Please note that the event is held in english<<<<
URL:https://www.aachen.digital/en/event/siemens-software-wheel-your-business-accelerator/
LOCATION:digitalHUB Aachen\, Jülicher Str. 72a\, Aachen\, Nordrhein-Westfalen\, 52070\, Germany
ATTACH;FMTTYPE=image/jpeg:https://www.aachen.digital/wp-content/uploads/2023/04/Siemens-Stage1-scaled.jpg
END:VEVENT
END:VCALENDAR