BEGIN:VCALENDAR
VERSION:2.0
PRODID:-//digitalHUB Aachen - ECPv6.15.20//NONSGML v1.0//EN
CALSCALE:GREGORIAN
METHOD:PUBLISH
X-WR-CALNAME:digitalHUB Aachen
X-ORIGINAL-URL:https://www.aachen.digital/en/
X-WR-CALDESC:Events for digitalHUB Aachen
REFRESH-INTERVAL;VALUE=DURATION:PT1H
X-Robots-Tag:noindex
X-PUBLISHED-TTL:PT1H
BEGIN:VTIMEZONE
TZID:Europe/Berlin
BEGIN:DAYLIGHT
TZOFFSETFROM:+0100
TZOFFSETTO:+0200
TZNAME:CEST
DTSTART:20220327T010000
END:DAYLIGHT
BEGIN:STANDARD
TZOFFSETFROM:+0200
TZOFFSETTO:+0100
TZNAME:CET
DTSTART:20221030T010000
END:STANDARD
BEGIN:DAYLIGHT
TZOFFSETFROM:+0100
TZOFFSETTO:+0200
TZNAME:CEST
DTSTART:20230326T010000
END:DAYLIGHT
BEGIN:STANDARD
TZOFFSETFROM:+0200
TZOFFSETTO:+0100
TZNAME:CET
DTSTART:20231029T010000
END:STANDARD
BEGIN:DAYLIGHT
TZOFFSETFROM:+0100
TZOFFSETTO:+0200
TZNAME:CEST
DTSTART:20240331T010000
END:DAYLIGHT
BEGIN:STANDARD
TZOFFSETFROM:+0200
TZOFFSETTO:+0100
TZNAME:CET
DTSTART:20241027T010000
END:STANDARD
END:VTIMEZONE
BEGIN:VEVENT
DTSTART;TZID=Europe/Berlin:20231116T090000
DTEND;TZID=Europe/Berlin:20231116T180000
DTSTAMP:20260424T000144
CREATED:20231018T074516Z
LAST-MODIFIED:20231018T102813Z
UID:10006612-1700125200-1700157600@www.aachen.digital
SUMMARY:Smart Data Innovation Day 2023
DESCRIPTION:Zwei Partner\, ein Schloss\, ein Event im Herbst – Smart Data und West AI laden Sie herzlich ein zum Smart Data Innovation Day 2023 am Donnerstag\, den 16. November 2023.\nDieses Jahr gibt es eine Besonderheit: Zusätzlich zu den Möglichkeiten im Smart Data Innovation Lab werden Sie auch Einblicke in das Angebot des KI-Servicezentrums WestAI bekommen. \nBeim Smart Data Innovation Day 2023 lernen Sie die neusten KI-Services und kleinere Projekte aus Forschungskooperationen kennen. Erfahren Sie an lebendigen Beispielen\, wie Sie mit ihren Datenschätzen einen echten Mehrwert erzielen können. Insbesondere Unternehmen können sich durch spannenden Input und interaktive Diskussionen zur Innovation im eigenen Hause inspirieren lassen. \nDank SDI-S ist es für Unternehmen seit diesem Jahr noch einfacher\, das Transferdienstleistungsangebot des SDIL für sich zu nutzen: Der neue Service-Katalog gibt Ihnen schnell einen Überblick zu den passenden Optionen. \nAuch WestAI – Das KI-Servicezentrum im Westen Deutschlands – ermöglicht Akteuren aus Wirtschaft und Wissenschaft Zugang zu KI-Modellenn und leistungsstarken KI-Recheninfrastrukturen. West AI unterstützt Startups sowie kleine und mittelständische Unternehmen dabei\, hochmoderne KI-Technologien für sich zu nutzen und neue Anwendungsfelder zu erschließen. \nDer Smart Data Innovation Day ist eine kostenfreie Veranstaltung\, die im Schloss Birlinghoven stattfindet und insbesondere Unternehmen\, aber auch interessierten Forschenden die Möglichkeit zu Fragen und Diskusssionen mit den Beteiligten bietet. \nZUR ANMELDUNG
URL:https://www.aachen.digital/en/event/smart-data-innovation-day-2023/
LOCATION:Schloss Birlinghoven\, Deutschland
ATTACH;FMTTYPE=image/jpeg:https://www.aachen.digital/wp-content/uploads/2023/10/Smart-Data-Innovation-Day-2023-stage-1.jpg
END:VEVENT
END:VCALENDAR