BEGIN:VCALENDAR
VERSION:2.0
PRODID:-//digitalHUB Aachen - ECPv6.15.20//NONSGML v1.0//EN
CALSCALE:GREGORIAN
METHOD:PUBLISH
X-WR-CALNAME:digitalHUB Aachen
X-ORIGINAL-URL:https://www.aachen.digital/en/
X-WR-CALDESC:Events for digitalHUB Aachen
REFRESH-INTERVAL;VALUE=DURATION:PT1H
X-Robots-Tag:noindex
X-PUBLISHED-TTL:PT1H
BEGIN:VTIMEZONE
TZID:Europe/Berlin
BEGIN:DAYLIGHT
TZOFFSETFROM:+0100
TZOFFSETTO:+0200
TZNAME:CEST
DTSTART:20180325T010000
END:DAYLIGHT
BEGIN:STANDARD
TZOFFSETFROM:+0200
TZOFFSETTO:+0100
TZNAME:CET
DTSTART:20181028T010000
END:STANDARD
BEGIN:DAYLIGHT
TZOFFSETFROM:+0100
TZOFFSETTO:+0200
TZNAME:CEST
DTSTART:20190331T010000
END:DAYLIGHT
BEGIN:STANDARD
TZOFFSETFROM:+0200
TZOFFSETTO:+0100
TZNAME:CET
DTSTART:20191027T010000
END:STANDARD
BEGIN:DAYLIGHT
TZOFFSETFROM:+0100
TZOFFSETTO:+0200
TZNAME:CEST
DTSTART:20200329T010000
END:DAYLIGHT
BEGIN:STANDARD
TZOFFSETFROM:+0200
TZOFFSETTO:+0100
TZNAME:CET
DTSTART:20201025T010000
END:STANDARD
END:VTIMEZONE
BEGIN:VEVENT
DTSTART;TZID=Europe/Berlin:20190614T164500
DTEND;TZID=Europe/Berlin:20190614T193000
DTSTAMP:20260423T230303
CREATED:20190605T103038Z
LAST-MODIFIED:20190605T103038Z
UID:10005330-1560530700-1560540600@www.aachen.digital
SUMMARY:smart emma Abschlussevent
DESCRIPTION:Während der Abschlussveranstaltung von smart emma werden …\n• die Projektergebnisse des Forschungsprojekts präsentiert\n• die Ergebnisse der Testphasen gezeigt\n• eine Hands-On Session ermöglicht in der Sie die entwickelten Prototypen ausprobieren können. \nFür Ihr leibliches Wohl ist mit Getränken und einem kleinen Imbiss gesorgt! \nUm eine Anmeldung an sarah.guesken@ifu.rwth-aachen.de wird gebeten!
URL:https://www.aachen.digital/en/event/smart-emma-abschlussevent/
LOCATION:digitalHUB Aachen\, Jülicher Str. 72a\, Aachen\, Nordrhein-Westfalen\, 52070\, Germany
ATTACH;FMTTYPE=image/jpeg:https://www.aachen.digital/wp-content/uploads/2019/06/smart_emma.jpg
END:VEVENT
END:VCALENDAR