BEGIN:VCALENDAR
VERSION:2.0
PRODID:-//digitalHUB Aachen - ECPv6.15.20//NONSGML v1.0//EN
CALSCALE:GREGORIAN
METHOD:PUBLISH
X-ORIGINAL-URL:https://www.aachen.digital/en/
X-WR-CALDESC:Events for digitalHUB Aachen
REFRESH-INTERVAL;VALUE=DURATION:PT1H
X-Robots-Tag:noindex
X-PUBLISHED-TTL:PT1H
BEGIN:VTIMEZONE
TZID:Europe/Berlin
BEGIN:DAYLIGHT
TZOFFSETFROM:+0100
TZOFFSETTO:+0200
TZNAME:CEST
DTSTART:20200329T010000
END:DAYLIGHT
BEGIN:STANDARD
TZOFFSETFROM:+0200
TZOFFSETTO:+0100
TZNAME:CET
DTSTART:20201025T010000
END:STANDARD
BEGIN:DAYLIGHT
TZOFFSETFROM:+0100
TZOFFSETTO:+0200
TZNAME:CEST
DTSTART:20210328T010000
END:DAYLIGHT
BEGIN:STANDARD
TZOFFSETFROM:+0200
TZOFFSETTO:+0100
TZNAME:CET
DTSTART:20211031T010000
END:STANDARD
BEGIN:DAYLIGHT
TZOFFSETFROM:+0100
TZOFFSETTO:+0200
TZNAME:CEST
DTSTART:20220327T010000
END:DAYLIGHT
BEGIN:STANDARD
TZOFFSETFROM:+0200
TZOFFSETTO:+0100
TZNAME:CET
DTSTART:20221030T010000
END:STANDARD
END:VTIMEZONE
BEGIN:VEVENT
DTSTART;TZID=Europe/Berlin:20210708T170000
DTEND;TZID=Europe/Berlin:20210708T180000
DTSTAMP:20260424T013729
CREATED:20210628T080044Z
LAST-MODIFIED:20210702T073759Z
UID:10005479-1625763600-1625767200@www.aachen.digital
SUMMARY:Smart4Health - Starker Rücken leicht gemacht!
DESCRIPTION:Sie sind Mitglied des digitalHUB Aachen und wollen etwas für die Gesundheit Ihres Rückens tun? Dann haben wir ein exklusives Angebot für Sie: \nFür einen gesunden Rücken – nur 10 Minuten wöchentlich:\nIhr kostenloses Rücken-Trainingsprogramm mit persönlichem Coach an der einzigartigen computergestützten MedX-Rückentrainigs-Maschine! \nDie Teilnehmerzahl ist begrenzt! Melden Sie sich noch heute für einen der Online-Einführungstermine an.\nDort erfahren Sie\, wie Sie sich Ihren persönlichen Platz sichern! \nZeitraum:\n– 02.08. – 06.12.2021\n– Quereinsteiger sind auch gerne nach den Sommerferien willkommen. \nAufwand:\n– Einmalig 20 Minuten CheckIn Termin\n– Wöchentlich 10 Minuten persönliches Training in der digitalCHURCH \nAnmeldung zu Ihrem Online-Einführungstermin:\nDonnerstag\, 8. Juli 2021\, 17:00-18:00 \nWeiterführende Informationen finden Sie hier.
URL:https://www.aachen.digital/en/event/smart4health-starker-ruecken-leicht-gemacht-4/
LOCATION:digitalHUB Aachen\, Jülicher Str. 72a\, Aachen\, Nordrhein-Westfalen\, 52070\, Germany
ATTACH;FMTTYPE=image/jpeg:https://www.aachen.digital/wp-content/uploads/2021/06/ZS-Rueckentraining_stage.jpg
END:VEVENT
BEGIN:VEVENT
DTSTART;TZID=Europe/Berlin:20210707T093000
DTEND;TZID=Europe/Berlin:20210707T103000
DTSTAMP:20260424T013729
CREATED:20210628T075810Z
LAST-MODIFIED:20210702T073716Z
UID:10005951-1625650200-1625653800@www.aachen.digital
SUMMARY:Smart4Health - Starker Rücken leicht gemacht!
DESCRIPTION:Sie sind Mitglied des digitalHUB Aachen und wollen etwas für die Gesundheit Ihres Rückens tun? Dann haben wir ein exklusives Angebot für Sie: \nFür einen gesunden Rücken – nur 10 Minuten wöchentlich:\nIhr kostenloses Rücken-Trainingsprogramm mit persönlichem Coach an der einzigartigen computergestützten MedX-Rückentrainigs-Maschine! \nDie Teilnehmerzahl ist begrenzt! Melden Sie sich noch heute für einen der Online-Einführungstermine an.\nDort erfahren Sie\, wie Sie sich Ihren persönlichen Platz sichern! \nZeitraum:\n– 02.08. – 06.12.2021\n– Quereinsteiger sind auch gerne nach den Sommerferien willkommen. \nAufwand:\n– Einmalig 20 Minuten CheckIn Termin\n– Wöchentlich 10 Minuten persönliches Training in der digitalCHURCH \nAnmeldung zu Ihrem Online-Einführungstermin:\nMittwoch\, 7. Juli 2021\, 09:30-10:30 \nWeiterführende Informationen finden Sie hier.
URL:https://www.aachen.digital/en/event/smart4health-starker-ruecken-leicht-gemacht-3/
LOCATION:digitalHUB Aachen\, Jülicher Str. 72a\, Aachen\, Nordrhein-Westfalen\, 52070\, Germany
ATTACH;FMTTYPE=image/jpeg:https://www.aachen.digital/wp-content/uploads/2021/06/ZS-Rueckentraining_stage.jpg
END:VEVENT
BEGIN:VEVENT
DTSTART;TZID=Europe/Berlin:20210706T143000
DTEND;TZID=Europe/Berlin:20210706T153000
DTSTAMP:20260424T013729
CREATED:20210628T075503Z
LAST-MODIFIED:20210702T073537Z
UID:10005949-1625581800-1625585400@www.aachen.digital
SUMMARY:Smart4Health - Starker Rücken leicht gemacht!
DESCRIPTION:Sie sind Mitglied des digitalHUB Aachen und wollen etwas für die Gesundheit Ihres Rückens tun? Dann haben wir ein exklusives Angebot für Sie: \nFür einen gesunden Rücken – nur 10 Minuten wöchentlich:\nIhr kostenloses Rücken-Trainingsprogramm mit persönlichem Coach an der einzigartigen computergestützten MedX-Rückentrainigs-Maschine! \nDie Teilnehmerzahl ist begrenzt! Melden Sie sich noch heute für einen der Online-Einführungstermine an.\nDort erfahren Sie\, wie Sie sich Ihren persönlichen Platz sichern! \nZeitraum:\n– 02.08. – 06.12.2021\n– Quereinsteiger sind auch gerne nach den Sommerferien willkommen. \nAufwand:\n– Einmalig 20 Minuten CheckIn Termin\n– Wöchentlich 10 Minuten persönliches Training in der digitalCHURCH \nAnmeldung zu Ihrem Online-Einführungstermin:\nDienstag\, 6. Juli 2021\, 14:30-15:30 \nWeiterführende Informationen finden Sie hier.
URL:https://www.aachen.digital/en/event/smart4health-starker-ruecken-leicht-gemacht-2/
LOCATION:digitalHUB Aachen\, Jülicher Str. 72a\, Aachen\, Nordrhein-Westfalen\, 52070\, Germany
ATTACH;FMTTYPE=image/jpeg:https://www.aachen.digital/wp-content/uploads/2021/06/ZS-Rueckentraining_stage.jpg
END:VEVENT
BEGIN:VEVENT
DTSTART;TZID=Europe/Berlin:20210705T113000
DTEND;TZID=Europe/Berlin:20210705T123000
DTSTAMP:20260424T013729
CREATED:20210628T074843Z
LAST-MODIFIED:20210702T073632Z
UID:10005948-1625484600-1625488200@www.aachen.digital
SUMMARY:Smart4Health - Starker Rücken leicht gemacht!
DESCRIPTION:Sie sind Mitglied des digitalHUB Aachen und wollen etwas für die Gesundheit Ihres Rückens tun? Dann haben wir ein exklusives Angebot für Sie: \nFür einen gesunden Rücken – nur 10 Minuten wöchentlich:\nIhr kostenloses Rücken-Trainingsprogramm mit persönlichem Coach an der einzigartigen computergestützten MedX-Rückentrainigs-Maschine! \nDie Teilnehmerzahl ist begrenzt! Melden Sie sich noch heute für einen der Online-Einführungstermine an.\nDort erfahren Sie\, wie Sie sich Ihren persönlichen Platz sichern! \nZeitraum:\n– 02.08. – 06.12.2021\n– Quereinsteiger sind auch gerne nach den Sommerferien willkommen. \nAufwand:\n– Einmalig 20 Minuten CheckIn Termin\n– Wöchentlich 10 Minuten persönliches Training in der digitalCHURCH \nAnmeldung zu Ihrem Online-Einführungstermin:\nMontag\, 5. Juli 2021\, 11:30-12:30 \nWeiterführende Informationen finden Sie hier.
URL:https://www.aachen.digital/en/event/smart4health-starker-ruecken-leicht-gemacht/
LOCATION:digitalHUB Aachen\, Jülicher Str. 72a\, Aachen\, Nordrhein-Westfalen\, 52070\, Germany
ATTACH;FMTTYPE=image/jpeg:https://www.aachen.digital/wp-content/uploads/2021/06/ZS-Rueckentraining_stage.jpg
END:VEVENT
END:VCALENDAR