BEGIN:VCALENDAR
VERSION:2.0
PRODID:-//digitalHUB Aachen - ECPv6.15.20//NONSGML v1.0//EN
CALSCALE:GREGORIAN
METHOD:PUBLISH
X-ORIGINAL-URL:https://www.aachen.digital/en/
X-WR-CALDESC:Events for digitalHUB Aachen
REFRESH-INTERVAL;VALUE=DURATION:PT1H
X-Robots-Tag:noindex
X-PUBLISHED-TTL:PT1H
BEGIN:VTIMEZONE
TZID:Europe/Berlin
BEGIN:DAYLIGHT
TZOFFSETFROM:+0100
TZOFFSETTO:+0200
TZNAME:CEST
DTSTART:20200329T010000
END:DAYLIGHT
BEGIN:STANDARD
TZOFFSETFROM:+0200
TZOFFSETTO:+0100
TZNAME:CET
DTSTART:20201025T010000
END:STANDARD
BEGIN:DAYLIGHT
TZOFFSETFROM:+0100
TZOFFSETTO:+0200
TZNAME:CEST
DTSTART:20210328T010000
END:DAYLIGHT
BEGIN:STANDARD
TZOFFSETFROM:+0200
TZOFFSETTO:+0100
TZNAME:CET
DTSTART:20211031T010000
END:STANDARD
BEGIN:DAYLIGHT
TZOFFSETFROM:+0100
TZOFFSETTO:+0200
TZNAME:CEST
DTSTART:20220327T010000
END:DAYLIGHT
BEGIN:STANDARD
TZOFFSETFROM:+0200
TZOFFSETTO:+0100
TZNAME:CET
DTSTART:20221030T010000
END:STANDARD
END:VTIMEZONE
BEGIN:VEVENT
DTSTART;TZID=Europe/Berlin:20210217T105500
DTEND;TZID=Europe/Berlin:20210217T120000
DTSTAMP:20260423T230818
CREATED:20210129T102318Z
LAST-MODIFIED:20221213T114449Z
UID:10005805-1613559300-1613563200@www.aachen.digital
SUMMARY:6. 1-Stunde-Barcamp: Digitale Chancen in der Corona-Krise
DESCRIPTION:#MitgliederfürMitglieder \nUnser Mitglied spacepilots GmbH bietet diese Veranstaltung für digitalHUB Mitglieder exklusiv kostenlos an. \nAuch in 2021 wollen wir aus Herausforderungen Chancen machen\, und starten nach fünf erfolgreichen Runden mit dem 6. 1-Stunde-Barcamp! \n\nZu diesem Event \nEin radikales Umdenken wird auch 2021 Teil des Umgangs mit der Corona-Krise sein. Die Auswirkungen sind vielfältig und betreffen alle. Viele unserer Partner und Kunden können nicht mehr wie gewohnt arbeiten. Umsätze und ganze Geschäfte brechen weg. \nUm die Krise konkret und konstruktiv anzugehen\, beleuchten wir in dem Online-Barcamp gemeinsam mit EntscheiderInnen und UnternehmerInnen die Chancen\, die sich aus der Krise ergeben. \nFür wen ist das Barcamp? \nFür Leiterinnen und Leiter aus den Bereichen HR\, Sales\, Produktentwicklung oder Innovation sowie GeschäftsführerInnen aus mittleren Unternehmen mit einer Passion/Leidenschaft für Innovationen und digitalen Themen! \nWas hast du davon? \n\nDu bereicherst Dein Netzwerk mit mind. einer Hand voll Menschen mit gleichem Mindset.\nDu findest Lösungsansätze für den proaktiven Umgang mit Krisen in deinem Unternehmen.\nDu gehst Deine persönliche Herausforderung konkret an.\n\nUnser 60-Minütiger Zoom Call ist unterteilt in zwei Teile: \n1)  25 Minuten Inspiration & Netzwerken \nZwei inspirierende Kurzimpulse von Unternehmen\, die durch Corona neue Chancen erschaffen haben. \nTalk A: \n“Vom 0 – 8 – 15 Geschäftsreisbüro zum innovativen Serviceanbieter: Wie wir die Krise als Beschleuniger für eine digitale Unternehmensausrichtung nutzen” \n– Michael Holdkamp\, baldaja – Marke der Expert Travel GmbH \nTalk B: \n“Digitalisierungsfaul? Wie die Krise auch skeptische Branchen überzeugt” \n– Carolin Aschemeier\, Deutschfuchs Gesellschaft für digitalen Unterricht mbH \n2) 35 Minuten Herausforderung & Feedback \nDu teilst deine Herausforderung mit einer kleinen Gruppe der Teilnehmer und erhältst spontanes Feedback – vielleicht gehst du mit einer Entscheidung oder Lösungsidee aus dem Event. \nWir wünschen uns\, dass du dabei bist und jede/r TeilnehmerIn etwas mitnimmt. Du kannst bei jedem Barcamp neu dazu kommen. Die TeilnehmerInnen kennen sich vorab nur vereinzelt. Und das ist auch das Schöne daran. \nWas ist ein Barcamp? \nAls Barcamp bezeichnet man eine offene Tagung/Event\, deren Inhalte und Ablauf von den TeilnehmerInnen zu Beginn der Tagung selbst entwickelt und im weiteren Verlauf gestaltet werden. \nDu bist ein HUB-Mitglied? Dann besorge dir hier deinen persönlichen Discount-Code: events@hubaachen.de \nTICKETS \nWer sind die Initiatoren? \nMichael Heimrich \nChristoph Bresler \nSonja Nikon Umstätter
URL:https://www.aachen.digital/en/event/6-1-stunde-barcamp/
LOCATION:Jülicher Strasse 72a\, Aachen\, 52070\, Germany
ATTACH;FMTTYPE=image/jpeg:https://www.aachen.digital/wp-content/uploads/2021/01/event-spacepilotes_stage1.jpg
END:VEVENT
END:VCALENDAR