BEGIN:VCALENDAR
VERSION:2.0
PRODID:-//digitalHUB Aachen - ECPv6.15.20//NONSGML v1.0//EN
CALSCALE:GREGORIAN
METHOD:PUBLISH
X-ORIGINAL-URL:https://www.aachen.digital/en/
X-WR-CALDESC:Events for digitalHUB Aachen
REFRESH-INTERVAL;VALUE=DURATION:PT1H
X-Robots-Tag:noindex
X-PUBLISHED-TTL:PT1H
BEGIN:VTIMEZONE
TZID:Europe/Berlin
BEGIN:DAYLIGHT
TZOFFSETFROM:+0100
TZOFFSETTO:+0200
TZNAME:CEST
DTSTART:20210328T010000
END:DAYLIGHT
BEGIN:STANDARD
TZOFFSETFROM:+0200
TZOFFSETTO:+0100
TZNAME:CET
DTSTART:20211031T010000
END:STANDARD
BEGIN:DAYLIGHT
TZOFFSETFROM:+0100
TZOFFSETTO:+0200
TZNAME:CEST
DTSTART:20220327T010000
END:DAYLIGHT
BEGIN:STANDARD
TZOFFSETFROM:+0200
TZOFFSETTO:+0100
TZNAME:CET
DTSTART:20221030T010000
END:STANDARD
BEGIN:DAYLIGHT
TZOFFSETFROM:+0100
TZOFFSETTO:+0200
TZNAME:CEST
DTSTART:20230326T010000
END:DAYLIGHT
BEGIN:STANDARD
TZOFFSETFROM:+0200
TZOFFSETTO:+0100
TZNAME:CET
DTSTART:20231029T010000
END:STANDARD
BEGIN:DAYLIGHT
TZOFFSETFROM:+0100
TZOFFSETTO:+0200
TZNAME:CEST
DTSTART:20240331T010000
END:DAYLIGHT
BEGIN:STANDARD
TZOFFSETFROM:+0200
TZOFFSETTO:+0100
TZNAME:CET
DTSTART:20241027T010000
END:STANDARD
BEGIN:DAYLIGHT
TZOFFSETFROM:+0100
TZOFFSETTO:+0200
TZNAME:CEST
DTSTART:20250330T010000
END:DAYLIGHT
BEGIN:STANDARD
TZOFFSETFROM:+0200
TZOFFSETTO:+0100
TZNAME:CET
DTSTART:20251026T010000
END:STANDARD
END:VTIMEZONE
BEGIN:VEVENT
DTSTART;TZID=Europe/Berlin:20240701T133000
DTEND;TZID=Europe/Berlin:20240701T150000
DTSTAMP:20260423T230431
CREATED:20240522T074601Z
LAST-MODIFIED:20240614T081237Z
UID:10006799-1719840600-1719846000@www.aachen.digital
SUMMARY:Ideen umsetzen ist einfach
DESCRIPTION:Bist du bereit\, den ersten Schritt in die Selbstständigkeit zu wagen? \nDann laden wir dich herzlich zu unserer Veranstaltung „Ideen umsetzen ist einfach“ ein. \nDu erfährst alles\, was du wissen musst\, um in die berufliche Selbstständigkeit zu starten. \nWir geben dir wertvolle Tipps zu folgenden Themen: \n\nBusinessplan und Finanzierung: Wie erstellt man einen überzeugenden Businessplan und welche Finanzierungsoptionen stehen zur Verfügung?\nKreditvergabe: Was erwartet die Bank von dir und welche Unterlagen musst du bereitstellen um die Chancen auf einen Kredit zu maximieren?\nFörderprogramme: Welche staatlichen Fördermöglichkeiten gibt es für Existenzgründer und wie können sie beantragt werden?\n\nNutze die Gelegenheit um dich direkt mit dem Team der Existenzgründerberatung der Sparkasse Aachen auszutauschen und deine individuellen Fragen zu klären. \nDieses Event ist Teil der STARTUP WEEK AACHEN. \nJetzt anmelden \n  \nSTARTUP WEEK AACHEN: \nVom 01.07.2024 bis zum 05.07.2024 kommt die gesamte Startup-Szene der Aachener Region zusammen und teilt mit euch Know-how und spannende\, innovative Ideen für die Zukunft! In dieser Woche erwarten euch zahlreiche Veranstaltungen rund um die Themen Startup\, Wachstum\, Digitalisierung und Innovation. Das Angebot reicht von Workshops\, Keynotes und TalkUp Stories bis hin zum TOP-Event: #neuland x atec am 02. und 03.07.2024 (Aachener Technologie- und Entrepreneurship-Kongress). \nZur Webseite
URL:https://www.aachen.digital/en/event/ideen-umsetzen-ist-einfach/
ATTACH;FMTTYPE=image/jpeg:https://www.aachen.digital/wp-content/uploads/2024/06/stage-startupweek.jpg
END:VEVENT
BEGIN:VEVENT
DTSTART;TZID=Europe/Berlin:20220516T100000
DTEND;TZID=Europe/Berlin:20220516T130000
DTSTAMP:20260423T230431
CREATED:20220505T110521Z
LAST-MODIFIED:20220505T111332Z
UID:10005671-1652695200-1652706000@www.aachen.digital
SUMMARY:Sprechstunde der Sparkasse Aachen
DESCRIPTION:Eine Zukunft. Eine Region. Eine Sparkasse. \nIn dieser Sprechstunde geben wir einen Einblick in Finanzierungsmöglichkeit für Gründer:innen und Startups. Gerne beantworten wir eure individuellen Fragen rund um die KFW NRW Bank oder klassische Bankdarlehen. \nWir freuen uns auf euch! \nWir stehen euch am Montag 16.05. direkt im Anschluss an das Startup-Frühstück im Executive Room des digitalHUBs für ein persönliches Gespräch zur Verfügung. \nKeine Anmeldung notwendig. \nBitte beachtet\, dass der Zugang zur Sprechstunde gemäß der Coronaschutzverordnung des Landes NRW geregelt ist.
URL:https://www.aachen.digital/en/event/sprechstunde-mit-der-sparkasse-aachen/
LOCATION:digitalHUB Aachen\, Jülicher Str. 72a\, Aachen\, Nordrhein-Westfalen\, 52070\, Germany
ATTACH;FMTTYPE=image/jpeg:https://www.aachen.digital/wp-content/uploads/2022/05/Sprechstunde-Sparkasse-Stage.jpg
END:VEVENT
END:VCALENDAR