BEGIN:VCALENDAR
VERSION:2.0
PRODID:-//digitalHUB Aachen - ECPv6.15.20//NONSGML v1.0//EN
CALSCALE:GREGORIAN
METHOD:PUBLISH
X-WR-CALNAME:digitalHUB Aachen
X-ORIGINAL-URL:https://www.aachen.digital/en/
X-WR-CALDESC:Events for digitalHUB Aachen
REFRESH-INTERVAL;VALUE=DURATION:PT1H
X-Robots-Tag:noindex
X-PUBLISHED-TTL:PT1H
BEGIN:VTIMEZONE
TZID:Europe/Berlin
BEGIN:DAYLIGHT
TZOFFSETFROM:+0100
TZOFFSETTO:+0200
TZNAME:CEST
DTSTART:20230326T010000
END:DAYLIGHT
BEGIN:STANDARD
TZOFFSETFROM:+0200
TZOFFSETTO:+0100
TZNAME:CET
DTSTART:20231029T010000
END:STANDARD
BEGIN:DAYLIGHT
TZOFFSETFROM:+0100
TZOFFSETTO:+0200
TZNAME:CEST
DTSTART:20240331T010000
END:DAYLIGHT
BEGIN:STANDARD
TZOFFSETFROM:+0200
TZOFFSETTO:+0100
TZNAME:CET
DTSTART:20241027T010000
END:STANDARD
BEGIN:DAYLIGHT
TZOFFSETFROM:+0100
TZOFFSETTO:+0200
TZNAME:CEST
DTSTART:20250330T010000
END:DAYLIGHT
BEGIN:STANDARD
TZOFFSETFROM:+0200
TZOFFSETTO:+0100
TZNAME:CET
DTSTART:20251026T010000
END:STANDARD
END:VTIMEZONE
BEGIN:VEVENT
DTSTART;TZID=Europe/Berlin:20241126T100000
DTEND;TZID=Europe/Berlin:20241126T104000
DTSTAMP:20260423T175845
CREATED:20241030T115816Z
LAST-MODIFIED:20241030T115816Z
UID:10006256-1732615200-1732617600@www.aachen.digital
SUMMARY:What do old white men know about diversity? with Jack Godau
DESCRIPTION:What role do leaders traditionally perceived as privileged play in changing workplace diversity? How can technology enhance diversity initiatives? What strategies foster empathy and innovation while driving meaningful change\, and which ones do more harm than good? \nThen join this Event on Tuesday\, the 26th of November 2024\, at 10:00 – 10:40 CET for the Webinar “What do old white men know about diversity?”. Jack Godau discusses how leaders from all backgrounds can actively contribute to more inclusive workplaces and challenge assumptions about diversity. \nJack Godau is a Digital Evolution Expert and CTO with over 24 years of experience in driving transformation and innovation within complex environments. He specialises in bridging the gap between business goals\, strategy\, and technology\, enabling organisations to thrive in a rapidly evolving digital landscape. His empathetic leadership style fosters a culture of inclusion and innovation\, allowing him to build diverse\, high-performing teams across multiple industries. Committed to mentoring future leaders\, Jack actively supports initiatives that promote leadership development and digital innovation. \nThis is a free webinar. \nRegister here
URL:https://www.aachen.digital/en/event/what-do-old-white-men-know-about-diversity/
LOCATION:online
ATTACH;FMTTYPE=image/jpeg:https://www.aachen.digital/wp-content/uploads/2024/10/Spotlight-Event-Stage.jpg
END:VEVENT
END:VCALENDAR