BEGIN:VCALENDAR
VERSION:2.0
PRODID:-//digitalHUB Aachen - ECPv6.15.20//NONSGML v1.0//EN
CALSCALE:GREGORIAN
METHOD:PUBLISH
X-WR-CALNAME:digitalHUB Aachen
X-ORIGINAL-URL:https://www.aachen.digital/en/
X-WR-CALDESC:Events for digitalHUB Aachen
REFRESH-INTERVAL;VALUE=DURATION:PT1H
X-Robots-Tag:noindex
X-PUBLISHED-TTL:PT1H
BEGIN:VTIMEZONE
TZID:Europe/Berlin
BEGIN:DAYLIGHT
TZOFFSETFROM:+0100
TZOFFSETTO:+0200
TZNAME:CEST
DTSTART:20170326T010000
END:DAYLIGHT
BEGIN:STANDARD
TZOFFSETFROM:+0200
TZOFFSETTO:+0100
TZNAME:CET
DTSTART:20171029T010000
END:STANDARD
BEGIN:DAYLIGHT
TZOFFSETFROM:+0100
TZOFFSETTO:+0200
TZNAME:CEST
DTSTART:20180325T010000
END:DAYLIGHT
BEGIN:STANDARD
TZOFFSETFROM:+0200
TZOFFSETTO:+0100
TZNAME:CET
DTSTART:20181028T010000
END:STANDARD
BEGIN:DAYLIGHT
TZOFFSETFROM:+0100
TZOFFSETTO:+0200
TZNAME:CEST
DTSTART:20190331T010000
END:DAYLIGHT
BEGIN:STANDARD
TZOFFSETFROM:+0200
TZOFFSETTO:+0100
TZNAME:CET
DTSTART:20191027T010000
END:STANDARD
END:VTIMEZONE
BEGIN:VEVENT
DTSTART;TZID=Europe/Berlin:20181219T190000
DTEND;TZID=Europe/Berlin:20181219T210000
DTSTAMP:20260423T204339
CREATED:20181205T090321Z
LAST-MODIFIED:20190214T150553Z
UID:10004664-1545246000-1545253200@www.aachen.digital
SUMMARY:„Von Automobil bis autonom“ - Info-Abend im #PopupEMA
DESCRIPTION:Info-Abend im #PopupEMA (Markt 1\, 52062 Aachen): „Von Automobil bis autonom – Was kann das Fahrzeug der Zukunft?“ An dieser Debatte beteiligen sich Monika Wagener (Ford)\, Adrian Zlocki (fka)\, Ralph Hubert Peters und Helmut Tiesler-Wittig (Lumileds) sowie Bernd Jansen (FEV). \nDie Teilnahme ist kostenlos. Weiter Informationen \n\nDie Reihe „Von Science bis Fiction“ findet im Dezember immer mittwochs (5.12.\, 12.12.\, 19.12.\, jeweils 19.00-21.00h) im Pop-Up-Store der Erlebniswelt Mobilität Aachen (Markt 1) statt. Ausgehend von bekannten Science-Fiction-Inhalten aus Film und Fernsehen werden dort Expertinnen und Experten aus den Reihen der Partner der Erlebniswelt (z.B. e.GO\, Ford\, Stadt Aachen\, ASEAG) bürgernah darüber informieren\, welche technologischen Neuerungen uns im Bereich der Mobilität tatsächlich schon bald erwarten könnten.\nFür alle an der Erlebniswelt Mobilität Aachen Interessierten gibt es verschiedene Möglichkeiten sich aktiv zu beteiligen! Weitere Informationen zum Projekt finden Sie hier: www.erlebniswelt.ac/mitmachen/\n\nEMA Pop Up-Store (#PopupEMA)\n04. bis 20. Dezember 2018\nGeöffnet dienstags bis samstags von 11.00 – 17.00 Uhr\nMarkt 1\, 52062 Aachen\nEintritt frei
URL:https://www.aachen.digital/en/event/popupema-3/
LOCATION:#PopupEMA\, Markt 1\, Aachen\, 52062
ATTACH;FMTTYPE=image/jpeg:https://www.aachen.digital/wp-content/uploads/2018/12/AdobeStock_211845830.jpeg
ORGANIZER;CN="Stadt Aachen":MAILTO:stadt.aachen@mail.aachen.de
END:VEVENT
BEGIN:VEVENT
DTSTART;TZID=Europe/Berlin:20181212T190000
DTEND;TZID=Europe/Berlin:20181212T210000
DTSTAMP:20260423T204339
CREATED:20181205T085243Z
LAST-MODIFIED:20181205T090701Z
UID:10004834-1544641200-1544648400@www.aachen.digital
SUMMARY:„Von Postkutsche bis Paketdrohne“ - Info-Abend im #PopupEMA
DESCRIPTION:Info-Abend im #PopupEMA (Markt 1\, 52062 Aachen): Im Mittelpunkt steht das Thema „Von Postkutsche bis Paketdrohne – Wohin entwickelt sich unsere Logistik?“. Die Experten des Abends sind Paul Thomes (RWTH Aachen)\, Axel Costard (Stadt Aachen)\, Walter Pijls (Ford) und Dieter Moormann (RWTH Aachen). \nDie Teilnahme ist kostenlos. Weiter Informationen \n\nDie Reihe „Von Science bis Fiction“ findet im Dezember immer mittwochs (5.12.\, 12.12.\, 19.12.\, jeweils 19.00-21.00h) im Pop-Up-Store der Erlebniswelt Mobilität Aachen (Markt 1) statt. Ausgehend von bekannten Science-Fiction-Inhalten aus Film und Fernsehen werden dort Expertinnen und Experten aus den Reihen der Partner der Erlebniswelt (z.B. e.GO\, Ford\, Stadt Aachen\, ASEAG) bürgernah darüber informieren\, welche technologischen Neuerungen uns im Bereich der Mobilität tatsächlich schon bald erwarten könnten.\nFür alle an der Erlebniswelt Mobilität Aachen Interessierten gibt es verschiedene Möglichkeiten sich aktiv zu beteiligen! Weitere Informationen zum Projekt finden Sie hier: www.erlebniswelt.ac/mitmachen/\n\nEMA Pop Up-Store (#PopupEMA)\n04. bis 20. Dezember 2018\nGeöffnet dienstags bis samstags von 11.00 – 17.00 Uhr\nMarkt 1\, 52062 Aachen\nEintritt frei \n 
URL:https://www.aachen.digital/en/event/popupema-2/
LOCATION:#PopupEMA\, Markt 1\, Aachen\, 52062
ATTACH;FMTTYPE=image/jpeg:https://www.aachen.digital/wp-content/uploads/2018/12/AdobeStock_211845830.jpeg
ORGANIZER;CN="Stadt Aachen":MAILTO:stadt.aachen@mail.aachen.de
END:VEVENT
BEGIN:VEVENT
DTSTART;TZID=Europe/Berlin:20181205T190000
DTEND;TZID=Europe/Berlin:20181205T210000
DTSTAMP:20260423T204339
CREATED:20181205T084422Z
LAST-MODIFIED:20181205T090530Z
UID:10004833-1544036400-1544043600@www.aachen.digital
SUMMARY:„Von Mensch bis Maschine" - Info-Abend im #PopupEMA
DESCRIPTION:Info-Abend im #PopupEMA (Markt 1\, 52062 Aachen): „Von Mensch bis Maschine” – Was bedeutet Digitalisierung konkret für unsere Fortbewegung? Und was bringt es eigentlich\, wenn Maschinen den Menschen am Steuer unterstützen oder irgendwann sogar ersetzen? \nFolgende Fachleute kommen zu Wort: Markus Kowalski (e.GO)\, Katrin Driessen (ASEAG)\, Andera Gadeib (Dialego) sowie Uwe Müller und Wolfgang Pauels (beide Stadt Aachen). \nDie Teilnahme ist kostenlos. Weiter Informationen \n\nDie Reihe „Von Science bis Fiction“ findet im Dezember immer mittwochs (5.12.\, 12.12.\, 19.12.\, jeweils 19.00-21.00h) im Pop-Up-Store der Erlebniswelt Mobilität Aachen (Markt 1) statt. Ausgehend von bekannten Science-Fiction-Inhalten aus Film und Fernsehen werden dort Expertinnen und Experten aus den Reihen der Partner der Erlebniswelt (z.B. e.GO\, Ford\, Stadt Aachen\, ASEAG) bürgernah darüber informieren\, welche technologischen Neuerungen uns im Bereich der Mobilität tatsächlich schon bald erwarten könnten.\nFür alle an der Erlebniswelt Mobilität Aachen Interessierten gibt es verschiedene Möglichkeiten sich aktiv zu beteiligen! Weitere Informationen zum Projekt finden Sie hier: www.erlebniswelt.ac/mitmachen/\n\nEMA Pop Up-Store (#PopupEMA)\n04. bis 20. Dezember 2018\nGeöffnet dienstags bis samstags von 11.00 – 17.00 Uhr\nMarkt 1\, 52062 Aachen\nEintritt frei \n 
URL:https://www.aachen.digital/en/event/popupema-1/
LOCATION:#PopupEMA\, Markt 1\, Aachen\, 52062
ATTACH;FMTTYPE=image/jpeg:https://www.aachen.digital/wp-content/uploads/2018/12/AdobeStock_211845830.jpeg
ORGANIZER;CN="Stadt Aachen":MAILTO:stadt.aachen@mail.aachen.de
END:VEVENT
END:VCALENDAR