BEGIN:VCALENDAR
VERSION:2.0
PRODID:-//digitalHUB Aachen - ECPv6.15.20//NONSGML v1.0//EN
CALSCALE:GREGORIAN
METHOD:PUBLISH
X-ORIGINAL-URL:https://www.aachen.digital/en/
X-WR-CALDESC:Events for digitalHUB Aachen
REFRESH-INTERVAL;VALUE=DURATION:PT1H
X-Robots-Tag:noindex
X-PUBLISHED-TTL:PT1H
BEGIN:VTIMEZONE
TZID:Europe/Berlin
BEGIN:DAYLIGHT
TZOFFSETFROM:+0100
TZOFFSETTO:+0200
TZNAME:CEST
DTSTART:20200329T010000
END:DAYLIGHT
BEGIN:STANDARD
TZOFFSETFROM:+0200
TZOFFSETTO:+0100
TZNAME:CET
DTSTART:20201025T010000
END:STANDARD
BEGIN:DAYLIGHT
TZOFFSETFROM:+0100
TZOFFSETTO:+0200
TZNAME:CEST
DTSTART:20210328T010000
END:DAYLIGHT
BEGIN:STANDARD
TZOFFSETFROM:+0200
TZOFFSETTO:+0100
TZNAME:CET
DTSTART:20211031T010000
END:STANDARD
BEGIN:DAYLIGHT
TZOFFSETFROM:+0100
TZOFFSETTO:+0200
TZNAME:CEST
DTSTART:20220327T010000
END:DAYLIGHT
BEGIN:STANDARD
TZOFFSETFROM:+0200
TZOFFSETTO:+0100
TZNAME:CET
DTSTART:20221030T010000
END:STANDARD
END:VTIMEZONE
BEGIN:VEVENT
DTSTART;TZID=Europe/Berlin:20210601T180000
DTEND;TZID=Europe/Berlin:20210601T193000
DTSTAMP:20260423T220637
CREATED:20210512T061929Z
LAST-MODIFIED:20210512T061929Z
UID:10005452-1622570400-1622575800@www.aachen.digital
SUMMARY:Städtebauliches Kolloquium: Innovation und die Neuerfindung von Innenstadt und Region
DESCRIPTION:Die Veranstaltungsreihe befasst sich mit der Wechselbeziehung und den Synergieeffekten von Innovation und Raum. Aachen als exzellenter Hochschulstandort hat das Potenzial und die Ressource\, sich als „Modellstadt und Inkubator für Innovationen“ zu positionieren. Und das Rheinische Revier mit seinem anspruchsvollen Transformationsprozess will „Innovation Valley“ und europäische Modellregion werden. Der Frage der Entstehung von Innovation kommt vor diesem Hintergrund eine große Bedeutung für die Zukunft des Quartiers\, der Stadt und der Region zu.\nProf. Dipl.-Ing. Christa Reicher\, Leiterin des Lehrstuhls und Instituts für Städtebau möchte mit dem interessierten Publikum über die Wechselwirkungen von Innovation und Raum\, deren Einfluss auf die zukünftige Entwicklung urbaner Lebensräume und die dazu benötigten Schritte diskutieren. In drei Abendveranstaltungen wollen wir den Fragen nachgehen\, wie Innovationen entstehen\, welche Rolle der Raum dabei spielt und wie die Bürgerschaft soziale Innovationen mitgestalten kann. \nDie Veranstaltungsreihe „Städtebauliches Kolloquium“ will im Sommer 2021 an drei Abenden den Diskurs über die Rolle von Innovation und deren räumliche Aus- und Wechselwirkungen mit dem urbanen Raum anregen. Im Kolloquium sollen folgende Fragestellungen diskutiert werden: Wie entsteht Innovation? Inwiefern können Innovationen zur Neuerfindung der Innenstädte und den Ortskernen beitragen? Welche Wechselbeziehungen bestehen zwischen technischen und sozialen Innovationen? Wie können Innovationen die Beteiligungsprozesse mit der Bürgerschaft befördern? Können Innovationen einen Qualitätssprung in der Stadtentwicklung und -gestaltung befördern? \nUm an der Veranstaltung teilzunehmen\, treten Sie bitte dem digitalen Besprechungsraum in Zoom bei und geben Sie den darunter stehenden Kenncode ein: \nKenncode: 113923 \nMeeting-ID: 919 9904 3996 \nWeitere Informationen sowie den Link zur Veranstaltung finden Sie ebenfalls auf der Internetseite: www.staedtebau.rwth-aachen.de\nDie weiteren Veranstaltungen finden am 04.05.2021 und 29.06.2021 statt.
URL:https://www.aachen.digital/en/event/staedtebauliches-kolloquium-innovation-und-die-neuerfindung-von-innenstadt-und-region/
LOCATION:Jülicher Strasse 72a\, Aachen\, 52070\, Germany
ATTACH;FMTTYPE=image/jpeg:https://www.aachen.digital/wp-content/uploads/2021/03/AdobeStock_86653082-scaled-1.jpeg
END:VEVENT
END:VCALENDAR