BEGIN:VCALENDAR
VERSION:2.0
PRODID:-//digitalHUB Aachen - ECPv6.15.20//NONSGML v1.0//EN
CALSCALE:GREGORIAN
METHOD:PUBLISH
X-WR-CALNAME:digitalHUB Aachen
X-ORIGINAL-URL:https://www.aachen.digital/en/
X-WR-CALDESC:Events for digitalHUB Aachen
REFRESH-INTERVAL;VALUE=DURATION:PT1H
X-Robots-Tag:noindex
X-PUBLISHED-TTL:PT1H
BEGIN:VTIMEZONE
TZID:Europe/Berlin
BEGIN:DAYLIGHT
TZOFFSETFROM:+0100
TZOFFSETTO:+0200
TZNAME:CEST
DTSTART:20180325T010000
END:DAYLIGHT
BEGIN:STANDARD
TZOFFSETFROM:+0200
TZOFFSETTO:+0100
TZNAME:CET
DTSTART:20181028T010000
END:STANDARD
BEGIN:DAYLIGHT
TZOFFSETFROM:+0100
TZOFFSETTO:+0200
TZNAME:CEST
DTSTART:20190331T010000
END:DAYLIGHT
BEGIN:STANDARD
TZOFFSETFROM:+0200
TZOFFSETTO:+0100
TZNAME:CET
DTSTART:20191027T010000
END:STANDARD
BEGIN:DAYLIGHT
TZOFFSETFROM:+0100
TZOFFSETTO:+0200
TZNAME:CEST
DTSTART:20200329T010000
END:DAYLIGHT
BEGIN:STANDARD
TZOFFSETFROM:+0200
TZOFFSETTO:+0100
TZNAME:CET
DTSTART:20201025T010000
END:STANDARD
BEGIN:DAYLIGHT
TZOFFSETFROM:+0100
TZOFFSETTO:+0200
TZNAME:CEST
DTSTART:20210328T010000
END:DAYLIGHT
BEGIN:STANDARD
TZOFFSETFROM:+0200
TZOFFSETTO:+0100
TZNAME:CET
DTSTART:20211031T010000
END:STANDARD
BEGIN:DAYLIGHT
TZOFFSETFROM:+0100
TZOFFSETTO:+0200
TZNAME:CEST
DTSTART:20220327T010000
END:DAYLIGHT
BEGIN:STANDARD
TZOFFSETFROM:+0200
TZOFFSETTO:+0100
TZNAME:CET
DTSTART:20221030T010000
END:STANDARD
BEGIN:DAYLIGHT
TZOFFSETFROM:+0100
TZOFFSETTO:+0200
TZNAME:CEST
DTSTART:20230326T010000
END:DAYLIGHT
BEGIN:STANDARD
TZOFFSETFROM:+0200
TZOFFSETTO:+0100
TZNAME:CET
DTSTART:20231029T010000
END:STANDARD
BEGIN:DAYLIGHT
TZOFFSETFROM:+0100
TZOFFSETTO:+0200
TZNAME:CEST
DTSTART:20240331T010000
END:DAYLIGHT
BEGIN:STANDARD
TZOFFSETFROM:+0200
TZOFFSETTO:+0100
TZNAME:CET
DTSTART:20241027T010000
END:STANDARD
BEGIN:DAYLIGHT
TZOFFSETFROM:+0100
TZOFFSETTO:+0200
TZNAME:CEST
DTSTART:20250330T010000
END:DAYLIGHT
BEGIN:STANDARD
TZOFFSETFROM:+0200
TZOFFSETTO:+0100
TZNAME:CET
DTSTART:20251026T010000
END:STANDARD
BEGIN:DAYLIGHT
TZOFFSETFROM:+0100
TZOFFSETTO:+0200
TZNAME:CEST
DTSTART:20260329T010000
END:DAYLIGHT
BEGIN:STANDARD
TZOFFSETFROM:+0200
TZOFFSETTO:+0100
TZNAME:CET
DTSTART:20261025T010000
END:STANDARD
END:VTIMEZONE
BEGIN:VEVENT
DTSTART;TZID=Europe/Berlin:20251203T103000
DTEND;TZID=Europe/Berlin:20251203T120000
DTSTAMP:20260423T190033
CREATED:20251113T093440Z
LAST-MODIFIED:20251113T093440Z
UID:10007532-1764757800-1764763200@www.aachen.digital
SUMMARY:Personal im Fokus - Mindful Leadership
DESCRIPTION:Du bist Personaler*in\, Führungskraft oder gehörst zur Geschäftsführung und möchtest bewusste Entscheidungen treffen\, dein Team stärken und die Resilienz erhöhen? \nDr. Miriam Zeichner\, Director Corporate Consulting des digitalHUB Aachen zeigt\, wie Achtsamkeit als Haltung und Kompetenz die Führungskultur nachhaltig stärkt – und warum bewusste Selbstführung die Basis wirksamer Teamführung ist. \nIm Fokus stehen Themen wie: \n🔹 Führung neu denken: Warum Achtsamkeit eine Schlüsselkompetenz in der digitalen Arbeitswelt ist \n🔹 Selbstführung stärken: Innere Klarheit und Resilienz als Basis wirksamer Führung \n🔹 Teamdynamiken gestalten: Mit Präsenz\, Empathie und Vertrauen führen \n🔹 Praxis erleben: Achtsamkeitsübungen und Reflexionsimpulse für den Führungsalltag \n🗓️ Mittwoch\, 3. Dezember 2025 \n🕥 10:30 – 12:00 Uhr \n🌐 digital via Zoom \n✅ Die Veranstaltung ist kostenlos! \nℹ️ Die Veranstaltung findet in Kooperation mit der StädteRegion Aachen\, dem digitalHUB Aachen e.V. und der Competentia\, dem Kompetenzzentrum Frau & Beruf Region Aachen statt. \nANMELDUNG
URL:https://www.aachen.digital/en/event/personal-im-fokus-mindful-leadership/
LOCATION:online
ATTACH;FMTTYPE=image/jpeg:https://www.aachen.digital/wp-content/uploads/2025/11/Design-ohne-Titel-22.jpg
ORGANIZER;CN="St%C3%A4dteRegion Aachen":MAILTO:info@staedteregion-aachen.de
END:VEVENT
BEGIN:VEVENT
DTSTART;VALUE=DATE:20241114
DTEND;VALUE=DATE:20241116
DTSTAMP:20260423T190033
CREATED:20240715T062209Z
LAST-MODIFIED:20241111T162755Z
UID:10006832-1731542400-1731715199@www.aachen.digital
SUMMARY:Aachener Barcamp: Digitalisierung im Sozial- und Gesundheitswesen (leider abgesagt)
DESCRIPTION:Update 11.11.2024: Das Event musste leider abgesagt werden \nDie Praxis im Sozial- und Gesundheitswesen entwickelt sich weiter und nutzt zunehmend die Möglichkeiten der Digitalisierung\, Künstliche Intelligenz (KI) ist weiterhin in aller Munde. Hierdurch verändern sich in einem laufenden Prozess viele Lebensbereiche: Arbeitswelt\, Freizeit\, Konsum\, Wohnen\, soziale Beziehungen…\nInsbesondere In der Sozialen Arbeit und im Gesundheitswesen bedeutet das in allen Handlungsfeldern ständig neue Herausforderungen. Im Blick sind dabei vor allem Bereiche wie Pflege\, Gesundheit\, Jugendhilfe\, Behindertenhilfe\, Wohnungslosenarbeit. Das Barcamp beleuchtet Innovationen\, Ansätze und Konzepte\, die auch für die soziale Arbeit bzw. den Gesundheitssektor relevant sind\, die Auswirkungen auf die Zielgruppen haben oder die von den Akteuren im Sozial- und Gesundheitswesen genutzt werden können. Ziel ist es\, Impulse zu geben\, Raum zum Erfahrungsaustausch zu öffnen und Diskussionen anzustoßen. Wie kann es gelingen\, in den Arbeitsfeldern eine sinnvolle Nutzung der Digitalisierung voranzubringen? Solche und andere Fragen werden auf dem Barcamp aufgegriffen. \nZUR ANMELDUNG \nHier finden Sie auch weitere Informationen zum Format und zur Möglichkeit\, eine eigene Session anzubieten. Zu gegebener Zeit erfahren Sie hier auch\, wer die Keynote spricht. \nSie haben\n… Ideen für eine Session?\n… ein Thema\, das Sie mit anderen diskutieren möchten?\n… Erfahrungen\, von denen andere profitieren können?\nSie wollen Ihr Social StartUp bekannt machen? \nDann melden Sie bereits im Vorfeld eine Session an. In diesem Fall erstatten wir Ihnen die Teilnahmekosten! \nFür Rückfragen stehen Ihnen Herr Martin Stankewitz von der Bischöflichen Akademie (martin.stankewitz@bistum-aachen.de\, Tel.: 0241/47996-44) sowie die Unterzeichnerin gerne zur Verfügung. \n 
URL:https://www.aachen.digital/en/event/aachener-barcamp-digitalisierung-im-sozial-und-gesundheitswesen/
ATTACH;FMTTYPE=image/jpeg:https://www.aachen.digital/wp-content/uploads/2024/07/Kopie-von-Stage_Vorlage-1632x644-2.jpg
ORGANIZER;CN="St%C3%A4dteRegion Aachen":MAILTO:info@staedteregion-aachen.de
END:VEVENT
BEGIN:VEVENT
DTSTART;VALUE=DATE:20231114
DTEND;VALUE=DATE:20231116
DTSTAMP:20260423T190033
CREATED:20230605T080730Z
LAST-MODIFIED:20230605T082443Z
UID:10006489-1699920000-1700092799@www.aachen.digital
SUMMARY:3. Aachener Barcamp: Digitalisierung im Sozial- und Gesundheitswesen
DESCRIPTION:Künstliche Intelligenz (KI) ist in aller Munde\, dem Einsatz von textgenerierenden KI-Systemen scheinen in vielerlei Kontexten keine Grenzen gesetzt. KI ist ein Beispiel\, an dem sich zeigt\, dass die Digitalisierung Fluch und Segen zugleich sein kann\, je nach Einsatz und eigener Einstellung dazu. Fest steht\, dass die Digitalisierung in einem laufenden Prozess fast alle Lebensbereiche verändert: Arbeitswelt\, Freizeit\, Konsum\, Wohnen\, soziale Beziehungen und die soziale Arbeit\, auch im Gesundheitssektor. Dazu trägt sowohl die gesamtgesellschaftliche Entwicklung gerade nach der Pandemie\, aber auch die Gesetzgebung mit dem Onlinezugangs-Gesetz und E-Governmentgesetz bei. In der Sozialen Arbeit und im Gesundheitswesen bedeutet das in allen Handlungsfeldern neue Herausforderungen. \nDaher veranstaltet die StädteRegion Aachen in Kooperation mit der Bischöflichen Akademie Aachen auch in diesem Jahr ein Barcamp\, bei dem insbesondere Innovationen\, Wege\, Ansätze und Konzepte beleuchtet werden sollen\, die auch für die Soziale Arbeit bzw. das Gesundheitswesen relevant sind\, die Auswirkungen auf die Zielgruppen haben oder die von den Akteuren im Sozial- und Gesundheitswesen genutzt werden können. Das Barcamp gibt Impulse\, eröffnet Raum zum Erfahrungsaustausch und stößt Diskussionen an. Es thematisiert Auswirkungen und Möglichkeiten der Digitalisierung auf und für die Menschen und die Arbeitsfelder wie Pflege\, Gesundheit\, Jugendhilfe\, Behindertenhilfe\, Wohnungslosenarbeit und andere Arbeitsbereiche. Wie kann es gelingen\, in den Arbeitsfeldern eine sinnvolle Nutzung der Digitalisierung voranzubringen? Diese und weitere Fragen werden auf dem Barcamp „Digitalisierung im Sozial- und Gesundheitswesen“ beleuchtet. \nZielgruppe: \n\nalle\, die soziale Arbeit verrichten oder im Gesundheitssektor tätig sind (Mitarbeitende entsprechender Einrichtungen\, Verbände\, Institutionen\, …)\,\nEmpfänger:innen von sozialer Arbeit\,\nInteressierte\, Studierende und Social StartUps\n\nFür die Keynote konnten wir in diesem Jahr die Bildungsforscherin und Medienpädagogin Nele Hirsch gewinnen\, die u. a. Impulse\, Beratung und Unterstützung für gutes Lernen in einer digitalisierten Gesellschaft gibt.\nZum Ausklang des ersten Tages wird der aus Eschweiler stammende und mehrfache Preisträger verschiedener Comedyformate\, Herr Khalid Bounouar\, auftreten. \nWeitere Informationen und Anmeldung
URL:https://www.aachen.digital/en/event/3-aachener-barcamp-digitalisierung-im-sozial-und-gesundheitswesen/
ATTACH;FMTTYPE=image/jpeg:https://www.aachen.digital/wp-content/uploads/2023/04/AdobeStock_67844411-1-scaled.jpeg
ORGANIZER;CN="St%C3%A4dteRegion Aachen":MAILTO:info@staedteregion-aachen.de
END:VEVENT
BEGIN:VEVENT
DTSTART;TZID=Europe/Berlin:20221117T133000
DTEND;TZID=Europe/Berlin:20221118T140000
DTSTAMP:20260423T190033
CREATED:20220414T094119Z
LAST-MODIFIED:20221010T100310Z
UID:10006211-1668691800-1668780000@www.aachen.digital
SUMMARY:Barcamp „Digitalisierung Soziale Arbeit“
DESCRIPTION:Digitalisierung verändert in einem laufenden Prozess fast alle Lebensbereiche: Arbeitswelt\, Freizeit\, Konsum\, Wohnen\, soziale Beziehungen und auch die soziale Arbeit. Dazu trägt sowohl die gesamtgesellschaftliche Entwicklung nach der Pandemie\, aber auch die Gesetzgebung mit dem Online-Zugangs-Gesetz und E-Governmentgesetz bei. In der Sozialen Arbeit bedeutet das in allen Handlungsfeldern neue Herausforderungen. \nDaher veranstaltet die StädteRegion Aachen in Kooperation mit der Bischöflichen Akademie Aachen auch in diesem Jahr ein Barcamp\, bei dem insbesondere Innovationen\, Wege\, Ansätze und Konzepte beleuchtet werden sollen\, die auch für die Soziale Arbeit relevant sind\, die Auswirkungen auf die Zielgruppen haben oder die von den Akteuren in der Sozialen Arbeit genutzt werden können. Das Barcamp thematisiert Auswirkungen und Möglichkeiten der Digitalisierung auf und für die Menschen und die Arbeitsfelder wie Pflege\, Jugendhilfe\, Behindertenhilfe\, Wohnungslosenarbeit und andere Arbeitsbereiche. Wie kann es gelingen\, in den Arbeitsfeldern eine sinnvolle Nutzung der Digitalisierung voranzubringen? Diese und weitere Fragen werden auf dem Barcamp „Digitalisierung Soziale Arbeit“ beleuchtet \nWann: Donnerstag\, 17.11.2022 (ca. 13:30 Uhr-20.00 Uhr) bis Freitag\, 18.11.2022 (ca. 09:00 Uhr-14:00 Uhr)\nWo: Bischöfliche Akademie Aachen\, Leonhardstraße 18-20\, 52064 Aachen \nZielgruppe: \n\nalle\, die soziale Arbeit verrichten (Mitarbeitende entsprechender Einrichtungen\, Verbände\, Institutionen\, …)\,\nEmpfänger_innen von sozialer Arbeit\,\nInteressierte\, Studierende und Social StartUps\n\nAnmeldung & Session-Vorschläge: \nAlle Interessent:innen sind herzlich eingeladen Projekte\, Ideen\, Konzepte\, Themen und Fragen im Rahmen einer Session einzubringen. Ihr Diskussionsbeitrag ist gefragt zu Auswirkungen und Möglichkeiten der Digitalisierung auf und für die Menschen und die genannten Arbeitsfelder! Die Veranstalter freuen sich\, wenn Sie die Veranstaltung mit Ihrem Vorschlag zu einer Session bereichern und diese bereits im Vorfeld anmelden. \nWeitere Infos und Anmeldung unter: www.barcamp-ac.de
URL:https://www.aachen.digital/en/event/barcamp-digitalisierung-soziale-arbeit-2/
ATTACH;FMTTYPE=image/jpeg:https://www.aachen.digital/wp-content/uploads/2021/09/AdobeStock_343161566-scaled.jpeg
ORGANIZER;CN="St%C3%A4dteRegion Aachen":MAILTO:info@staedteregion-aachen.de
END:VEVENT
BEGIN:VEVENT
DTSTART;TZID=Europe/Berlin:20210923T130000
DTEND;TZID=Europe/Berlin:20210924T140000
DTSTAMP:20260423T190033
CREATED:20210916T101540Z
LAST-MODIFIED:20210916T101729Z
UID:10006016-1632402000-1632492000@www.aachen.digital
SUMMARY:Barcamp - Digitalisierung Soziale Arbeit
DESCRIPTION:Worum geht es?\nDurch die Digitalisierung verändern sich fast alle Lebensbereiche\, wie z.B. Arbeitswelt\, Freizeit\, Konsum\, Wohnen\, soziale Beziehungen und auch die soziale Arbeit. Angetrieben wird die Digitalisierung durch Innovationen\, die auch für die Soziale Arbeit relevant sind\, Auswirkungen auf die Zielgruppen haben bzw. auch von der Sozialen Arbeit genutzt werden können. \nEine wichtige gesellschaftliche Frage ist: Wie wird der Wandel gelingen? Welche Auswirkungen haben diese und andere gesellschaftliche Veränderungen auf die Menschen und die Arbeitsfelder\, wie Pflege\, Jugendhilfe\, Behindertenhilfe\, Wohnungslosenarbeit und andere Arbeitsbereiche? Wie positionieren sich die sozialen Verbände und Institutionen zu diesen gesellschaftlichen Entwicklungen und wie gelingt es in den Arbeitsfeldern eine sinnvolle Nutzung der Digitalisierung voran zu bringen? Mit diesen und weiteren Fragen will sich das Barcamp „Digitalisierung Soziale Arbeit“ beschäftigen.
URL:https://www.aachen.digital/en/event/barcamp-digitalisierung-soziale-arbeit/
ATTACH;FMTTYPE=image/jpeg:https://www.aachen.digital/wp-content/uploads/2021/09/AdobeStock_343161566-scaled.jpeg
ORGANIZER;CN="St%C3%A4dteRegion Aachen":MAILTO:info@staedteregion-aachen.de
END:VEVENT
BEGIN:VEVENT
DTSTART;TZID=Europe/Berlin:20210826T140000
DTEND;TZID=Europe/Berlin:20210826T180000
DTSTAMP:20260423T190033
CREATED:20210809T075640Z
LAST-MODIFIED:20210809T075840Z
UID:10005995-1629986400-1630000800@www.aachen.digital
SUMMARY:Virtuelle Job- und Qualifizierungsbörse für Aachen
DESCRIPTION:für Jobsuchende\, Unternehmen und Bildungsträger\n\nBei der ersten virtuellen Job- und Qualifizierungsbörse bringt die Stadt Aachen zusammen mit der Städteregion Aachen\, dem Jobcenter der StädteRegion Aachen und der Bundesagentur für Arbeit Aachen – Düren Arbeitssuchende\, Beschäftigte\, Helfer\, Un- und Angelernte\, Fachkräfte und alle die auf der Suche nach einer neuen beruflichen Tätigkeit sind mit Unternehmen aus der Region zusammen. Das Besondere an dem Event ist die gezielte Involvierung von regionalen Bildungsträgern. Denn sollten evtl. Qualifikationen oder Kenntnisse für den perfekten Job / die perfekte Fachkraft fehlen\, wird am Veranstaltungstag direkt der passende Bildungsträger zur Seite gestellt. \nÜber die eingebundene Matching-Plattform von Anny\, eines unserer Startups aus der digitalHUB Community\, können Jobsuchende direkt die passende Stelle finden. \nDie Anmeldung für Unternehmen und Bildungsträger ist noch bis zum 12. August möglich. \nAnmeldung und weitere Informationen: https://www.jobboerse.ac/
URL:https://www.aachen.digital/en/event/virtuelle-job-und-qualifizierungsboerse-fuer-aachen/
LOCATION:Jülicher Strasse 72a\, Aachen\, 52070\, Germany
ATTACH;FMTTYPE=image/jpeg:https://www.aachen.digital/wp-content/uploads/2021/08/stage-jobboerse.jpg
END:VEVENT
BEGIN:VEVENT
DTSTART;TZID=Europe/Berlin:20201209T153000
DTEND;TZID=Europe/Berlin:20201209T173000
DTSTAMP:20260423T190033
CREATED:20201201T082421Z
LAST-MODIFIED:20201201T082421Z
UID:10005731-1607527800-1607535000@www.aachen.digital
SUMMARY:Innovativ trotz Krise: Weiter- und Vordenken (Seminar)
DESCRIPTION:Der Aachener Industrie-Dialog ist ein Zusammenschluss von Unternehmen aus dem produzierenden und verarbeitenden Gewerbe mit Produktionsstandort in der Region Aachen. Gemeinsam mit engagierten Unternehmen soll die Attraktivität des Industriestandorts Region Aachen verbessert werden. Zielsetzung ist es\, die Bekanntheit der regionalen Betriebe zu stärken und diese öffentlich präsenter miteinander zu vernetzen. \nAnmelden können Sie sich ab dem 23.11.2020 unter www.ekm-aachen.de. \nDie Teilnahme am Webseminar ist kostenlos. \nFür Rückfragen steht Ihnen Frau Iris Gerdom gerne unter 0241 – 5198 2132 oder per Mail unter iris.gerdom@staedteregion-aachen.de zur Verfügung.
URL:https://www.aachen.digital/en/event/innovativ-trotz-krise-weiter-und-vordenken-seminar/
LOCATION:Jülicher Strasse 72a\, Aachen\, 52070\, Germany
ATTACH;FMTTYPE=image/jpeg:https://www.aachen.digital/wp-content/uploads/2020/09/AdobeStock_93452229.jpeg
ORGANIZER;CN="St%C3%A4dteRegion Aachen":MAILTO:info@staedteregion-aachen.de
END:VEVENT
BEGIN:VEVENT
DTSTART;TZID=Europe/Berlin:20200923T180000
DTEND;TZID=Europe/Berlin:20200923T193000
DTSTAMP:20260423T190033
CREATED:20200828T094524Z
LAST-MODIFIED:20200921T071659Z
UID:10005626-1600884000-1600889400@www.aachen.digital
SUMMARY:Webseminar „Der digitalHUB Aachen e.V. stellt sich vor“
DESCRIPTION:Sie wollten schon immer wissen\, was der digitalHUB Aachen e.V. für die Digitalisierung der Region Aachen unternimmt und wie man mit Startups in Verbindung kommt? \nWebseminar der StädteRegion Aachen in Kooperation mit dem digitalHUB Aachen e.V. und der Stadt Monschau \nDer Verein digitalHUB Aachen setzt sich für die Digitalisierung der Wirtschaft und der öffentlichen Hand der Region Aachen ein. Mitglieder sind Mittelstand\, Industrie\, Startups und Institutionen\, welche die Ziele des Vereins unterstützen. Das Digitalisierungszentrum des digitalHUB Aachen bringt Startups und IT-Mittelstand (digitale „Enabler“) mit klassischem Mittelstand und Industrie als Anwender (digitale „User“) an einem Ort zusammen\, um gemeinsam neue digitale Geschäftsmodelle zu entwickeln und zu realisieren. Unterstützt wird dies durch Region und Wissenschaft („Supporter“). \n  \nProgramm:\n18:00 – 18:10   Begrüßung – digitalHUB Aachen\, Roman von der Lohe\, und StädteRegion Aachen\, Iris Gerdom \n18:10 – 18:25    „Zusammenarbeit mit dem digitalHUB Aachen“ – ein Impulsvortrag der Firma Dr. BABOR GmbH & Co. KG. \n18:25 – 18:35    Vorstellung digitalHUB Angebot und Leistungen  – Udo Glaser\, digitalHUB Aachen \n  \n18:35 – 19:30   5 Startups stellen sich vor: \n\nBrajuu\, Melanie Wagenfort\, Gründerin\nRyde Up\, Yannic Schwarz\, Gründer\nAmberoad\, Julian Johannes Reinauer\, Gründer\nMIA\, Gero Gerke\, Gründer\nBooking-Buddy\, Lucian Holtwiesche\, Gründer\n\nDie Teilnahme ist kostenfrei. Anmeldung erforderlich. \nAnmeldung \n  \n  \n 
URL:https://www.aachen.digital/en/event/webseminar-der-digitalhub-aachen-e-v-stellt-sich-vor/
LOCATION:Jülicher Strasse 72a\, Aachen\, 52070\, Germany
ATTACH;FMTTYPE=image/jpeg:https://www.aachen.digital/wp-content/uploads/2020/08/webseminar.jpg
ORGANIZER;CN="St%C3%A4dteRegion Aachen":MAILTO:info@staedteregion-aachen.de
END:VEVENT
BEGIN:VEVENT
DTSTART;TZID=Europe/Berlin:20191106T180000
DTEND;TZID=Europe/Berlin:20191106T203000
DTSTAMP:20260423T190033
CREATED:20191017T130206Z
LAST-MODIFIED:20191017T130206Z
UID:10005446-1573063200-1573072200@www.aachen.digital
SUMMARY:Der digitalHUB Aachen stellt sich vor
DESCRIPTION:Sie wollten schon immer wissen\, was der digitalHUB Aachen e.V. für die Digitalisierung der Region Aachen unternimmt und wie man mit Startups in Verbindung kommt? \nDann laden wir Sie in Kooperation mit der StädteRegion Aachen und dem TPH Herzogenrath  herzlich ein zur Veranstaltung \n  \n„Der digitalHUB Aachen e.V. stellt sich vor“  \nam Mittwoch\, den 6. November 2019 von 18:00 – 20:30 Uhr  \nim Technologie-Park Herzogenrath\, Kaiserstr. 100\, 52134 Herzogenrath \n  \nMelden Sie sich jetzt unter folgendem Link an: \n  \nKostenlose Anmeldung \nDer Verein digitalHUB Aachen setzt sich für die Digitalisierung der Wirtschaft und der öffentlichen Hand der Region Aachen ein. Mitglieder sind Mittelstand\, Industrie\, Startups und Institutionen\, welche die Ziele des Vereins unterstützen. Das Digitalisierungszentrum des digitalHUB Aachen bringt Startups und IT-Mittelstand (digitale „Enabler“) mit klassischem Mittelstand und Industrie als Anwender (digitale „User“) an einem Ort zusammen\, um gemeinsam neue digitale Geschäftsmodelle zu entwickeln und zu realisieren. Unterstützt wird dies durch Region und Wissenschaft („Supporter“). \n  \nProgramm: \n18:00 – 18:15    Begrüßung Christoph von den Driesch – Bürgermeister Herzogenrath & Michael Eßers – Geschäftsführer TPH GmbH \n18:15 – 18:30    „Zusammenarbeit mit dem digitalHUB Aachen“ – ein Impuls von Jörg Ewert – Strategic Product Management – Ericsson \n18:30 – 18:45    Vorstellung digitalHUB Angebot und Leistungen  – Udo Glaser digitalHUB Aachen \n18:45 – 20:00    4 Startups stellen sich vor \n–             Saym – Everyday carpooling simplified \n–             Crisp.studio – Design Sprint \n–             Energycortex – the independent energy cloud \n–             MoFleWo – More Flexible Work \nAnschließend: \n–             Networking & Fingerfood
URL:https://www.aachen.digital/en/event/der-digitalhub-aachen-stellt-sich-vor/
LOCATION:TPH Herzogenrath
ATTACH;FMTTYPE=image/jpeg:https://www.aachen.digital/wp-content/uploads/2018/08/20180305_111812.jpg
ORGANIZER;CN="St%C3%A4dteRegion Aachen":MAILTO:info@staedteregion-aachen.de
END:VEVENT
BEGIN:VEVENT
DTSTART;TZID=Europe/Berlin:20190704T080000
DTEND;TZID=Europe/Berlin:20190704T113000
DTSTAMP:20260423T190033
CREATED:20190612T113406Z
LAST-MODIFIED:20190613T125316Z
UID:10005338-1562227200-1562239800@www.aachen.digital
SUMMARY:EarlyBirds - das Technologiefrühstück der StädteRegion Aachen
DESCRIPTION:Früh aufstehen und an morgen denken… Das Format “Early Birds – Das Technologiefrühstück” richtet sich an aufgeweckte Unternehmer\, die sich zu früher Stunde und frühzeitig mit Zukunftsfragen\, die für die Entwicklung ihrer Firma von Relevanz sein können\, auseinandersetzen wollen. In dieser Veranstaltungsreihe möchten wir Sie zum Nachdenken und Querdenken inspirieren und Sie in lockerer Frühstücksatmosphäre bei einem gastgebenden regionalen Unternehmen zum Netzwerken einladen. Absicht ist\, den innovativen oder innovationsinteressierten Unternehmen eine nachhaltige Plattform zum Austausch untereinander und zur unkomplizierten Kontaktaufnahme zu den Hochschulen und Forschungseinrichtungen der Region zu schaffen. \nProgramm: \n08:00 Uhr Eröffnung des Frühstücksbuffets \n08:15 Uhr Begrüßung\, Vorstellung und Start\n– Iris Wilhelmi\, Geschäftsführerin des digitalHUB Aachen e.V. \n08:30 Uhr EarlyBirds Impuls und Unternehmensvorstellung\nInnovation ohne Grenzen: Über die Vernetzung von Technologie\, Forschung und Wirtschaft\n– Thomas Kuckelkorn\, Manager PR & Kommunikation bei BCT Enterprise Information Management \n09:15 Uhr Zeit zum Netzwerken\, Nachfragen\nVorstellung des Unternehmens BCT Deutschland \n09:45 Uhr Vorstellung ausgewählter Unternehmen aus dem digitalHUB Aachen e.V. \nund Austauschen am Frühstücksbuffet \nca.\n10:30 Uhr Ende der Veranstaltung \n  \nAnmeldung \nbitte bis zum 01. Juli 2019 über das Seminarportal der StädteRegion Aachen \noder per E-Mail an wirtschaftsfoerderung@staedteregion-aachen.de \n  \nDie Teilnehmerzahl ist begrenzt. Mit der Anmeldung zu dieser Veranstaltung erklären Sie sich damit einverstanden\, dass Ihre Angaben auf der Teilnehmerliste erscheinen\, sowie Foto- und Filmaufnahmen\, auf denen Sie zu sehen sein könnten\, veröffentlicht werden.
URL:https://www.aachen.digital/en/event/earlybirds-das-technologiefruehstueck-der-staedteregion-aachen/
LOCATION:digitalHUB Aachen\, Jülicher Str. 72a\, Aachen\, Nordrhein-Westfalen\, 52070\, Germany
ATTACH;FMTTYPE=image/jpeg:https://www.aachen.digital/wp-content/uploads/2019/06/earlybirds_stage.jpg
ORGANIZER;CN="St%C3%A4dteRegion Aachen":MAILTO:info@staedteregion-aachen.de
END:VEVENT
BEGIN:VEVENT
DTSTART;TZID=Europe/Berlin:20190618T153000
DTEND;TZID=Europe/Berlin:20190618T180000
DTSTAMP:20260423T190033
CREATED:20190612T114528Z
LAST-MODIFIED:20190612T114528Z
UID:10005339-1560871800-1560880800@www.aachen.digital
SUMMARY:Fördermittel für Investitionen und Innovationen im Mittelstand
DESCRIPTION:ScienceLink ist ein gemeinschaftliches Projekt von AGIT\, Stadt Aachen\, StädteRegion Aachen und Zweckverband Region Aachen\, welches durch die RWTH Aachen Campus GmbH und die IHK Aachen unterstützt wird. Ziel des Projekts ist es regional ansässige kleine und mittelständische Unternehmen (KMU) mit den Forschungseinrichtungen der Technologieregion Aachen stärker zu vernetzten. \nTechnischer Fortschritt und Innovationen werden allgemein als Schlüsselfaktoren für wirtschaftliches Wachstum und gesellschaftlichen Wohlstand angesehen. Gerade für kleine und mittelständische Unternehmen gibt es daher verschiedene Fördermittelprogramme\, die Sie bei Investitionen in neue Technologien oder Prozesse unterstützen.\nIn Zusammenarbeit mit dem Business Park Alsdorf möchten wir im Rahmen der Veranstaltung verschiedene Fördermittelprogramme und Initiativen in der Region vorstellen. Dazu werden Frau Havva Coskun – Dogan von der AGIT mbH und Frau Gerti Steffens von der StädteRegion Aachen ausgewählte FuE-Förderprogramme und –instrumente für KMU\, sowie das Förderprogramm RWP im Detail erläutern. Anschließend wird Herr Dr. John Kettler Einblicke geben\, wie sich das Unternehmen AiNT mithilfe der finanziellen Förderung durch das Programm RWP weiterentwickeln konnte. \nProgramm\n15:30 Begrüßung\, Marc Knisch\, Geschäftsführer Business Park Alsdorf\n15:40 Kurzvorstellung des digitalHUB Aachen e.V.\, Geschäftsführung des digitalHUB Aachen e.V.\n16:00 Ausgewählte FuE-Förderprogramme und -instrumente für KMU\, Havva Coskun-Dogan\, AGIT mbH\n16:45 RWP – Investitionszuschüsse für KMU\, Gerti Steffens\, StädteRegion Aachen\n17:15 Praxisbeispiel: Aachen Institute for Nuclear Training GmbH (AiNT)\, Dr. John Kettler\, Geschäftsführer AiNT \nIm Anschluss: Imbiss und Ausklang \nFür Rückfragen steht Ihnen Frau Iris Gerdom gerne unter 0241 – 5198 2132 oder per Mail unter iris.gerdom@staedteregion-aachen.de zur Verfügung. \nAnmeldung über das Seminarportal der StädteRegion Aachen
URL:https://www.aachen.digital/en/event/foerdermittel-fuer-investitionen-und-innovationen-im-mittelstand/
LOCATION:ENERGETICON Alsdorf\, Konrad-Adenauer- Allee 7\, Alsdorf\, 52477
ORGANIZER;CN="St%C3%A4dteRegion Aachen":MAILTO:info@staedteregion-aachen.de
END:VEVENT
BEGIN:VEVENT
DTSTART;TZID=Europe/Berlin:20190605T170000
DTEND;TZID=Europe/Berlin:20190605T190000
DTSTAMP:20260423T190033
CREATED:20190527T085304Z
LAST-MODIFIED:20190527T085453Z
UID:10005009-1559754000-1559761200@www.aachen.digital
SUMMARY:Personal im Fokus - Microteaching zur internen Weiterbildung in Ihrem Unternehmen
DESCRIPTION:Impulsvortrag mit Imbiss und get together \nMicroteaching – Vom Wissensleuchtturm zur Wissenslandschaft\nReferentin: Laura Lenz\, M.Sc.\, Center für Lehr- und Lernservices (CLS) der RWTH Aachen University \nJeder kann alles lernen! – Aber vermitteln Sie in Ihrem Unternehmen Wissen? Dabei kann es doch so einfach sein … \nLernen Sie gemeinsam mit uns den innovativen Ansatz des Microteachings kennen und erfahren Sie\, wie Sie wertvolles Wissen bspw. über Produktionsmethoden\, Kundenbeziehungen\, Beratungen\, mehrsprachige Unternehmenskommunikation und vieles mehr in Ihrem Unternehmen halten und sogar verbreiten können. Rücken\nSie das Wissen Ihrer Mitarbeiterinnen und Mitarbeiter in den Fokus und setzen Sie die effiziente Microteaching-Methode für Weiterbildung und Wissenstransfer ein. In Zeiten des demographischen Wandels gewähren Sie Ihren besten Köpfen mit Mircoteaching Zugang zu impliziertem Wissen und sichern gleichzeitig wertvolles Know-how erfahrener Mitarbeiterinnen und Mitarbeiter. \nNutzen Sie die Chance und lassen Sie sich von unserer Referentin Laura Lenz die Grundzüge der Microteaching-Methode vorstellen. Zudem werden Ihnen die Vor- und Nachteile dieser Methode an einem Praxisbeispiel erläutert. \nWeitere Informationen finden Sie im Flyer. \nANMELDUNG ZUR VERANSTALTUNG
URL:https://www.aachen.digital/en/event/personal-im-fokus-microteaching-zur-internen-weiterbildung-in-ihrem-unternehmen/
LOCATION:Museum Zinkhütter Hof\, Cockerillstraße 90\, Stolberg\, NRW\, 52222\, Deutschland
ATTACH;FMTTYPE=image/jpeg:https://www.aachen.digital/wp-content/uploads/2019/05/Hyperegio.jpg
ORGANIZER;CN="St%C3%A4dteRegion Aachen":MAILTO:info@staedteregion-aachen.de
END:VEVENT
END:VCALENDAR