BEGIN:VCALENDAR
VERSION:2.0
PRODID:-//digitalHUB Aachen - ECPv6.15.20//NONSGML v1.0//EN
CALSCALE:GREGORIAN
METHOD:PUBLISH
X-ORIGINAL-URL:https://www.aachen.digital/en/
X-WR-CALDESC:Events for digitalHUB Aachen
REFRESH-INTERVAL;VALUE=DURATION:PT1H
X-Robots-Tag:noindex
X-PUBLISHED-TTL:PT1H
BEGIN:VTIMEZONE
TZID:Europe/Berlin
BEGIN:DAYLIGHT
TZOFFSETFROM:+0100
TZOFFSETTO:+0200
TZNAME:CEST
DTSTART:20200329T010000
END:DAYLIGHT
BEGIN:STANDARD
TZOFFSETFROM:+0200
TZOFFSETTO:+0100
TZNAME:CET
DTSTART:20201025T010000
END:STANDARD
BEGIN:DAYLIGHT
TZOFFSETFROM:+0100
TZOFFSETTO:+0200
TZNAME:CEST
DTSTART:20210328T010000
END:DAYLIGHT
BEGIN:STANDARD
TZOFFSETFROM:+0200
TZOFFSETTO:+0100
TZNAME:CET
DTSTART:20211031T010000
END:STANDARD
BEGIN:DAYLIGHT
TZOFFSETFROM:+0100
TZOFFSETTO:+0200
TZNAME:CEST
DTSTART:20220327T010000
END:DAYLIGHT
BEGIN:STANDARD
TZOFFSETFROM:+0200
TZOFFSETTO:+0100
TZNAME:CET
DTSTART:20221030T010000
END:STANDARD
BEGIN:DAYLIGHT
TZOFFSETFROM:+0100
TZOFFSETTO:+0200
TZNAME:CEST
DTSTART:20230326T010000
END:DAYLIGHT
BEGIN:STANDARD
TZOFFSETFROM:+0200
TZOFFSETTO:+0100
TZNAME:CET
DTSTART:20231029T010000
END:STANDARD
BEGIN:DAYLIGHT
TZOFFSETFROM:+0100
TZOFFSETTO:+0200
TZNAME:CEST
DTSTART:20240331T010000
END:DAYLIGHT
BEGIN:STANDARD
TZOFFSETFROM:+0200
TZOFFSETTO:+0100
TZNAME:CET
DTSTART:20241027T010000
END:STANDARD
BEGIN:DAYLIGHT
TZOFFSETFROM:+0100
TZOFFSETTO:+0200
TZNAME:CEST
DTSTART:20250330T010000
END:DAYLIGHT
BEGIN:STANDARD
TZOFFSETFROM:+0200
TZOFFSETTO:+0100
TZNAME:CET
DTSTART:20251026T010000
END:STANDARD
END:VTIMEZONE
BEGIN:VEVENT
DTSTART;VALUE=DATE:20241031
DTEND;VALUE=DATE:20241101
DTSTAMP:20260423T191549
CREATED:20241025T115711Z
LAST-MODIFIED:20241025T115949Z
UID:10006900-1730332800-1730419199@www.aachen.digital
SUMMARY:Startup-Wettbewerb Stage Two Finals
DESCRIPTION:Stage Two is the pan-European competition for the best startups spinning out of leading universities. \nStage Two Finals\nNominated teams pitch during finals. Access to a European network of investors and industry leaders. \nmore information
URL:https://www.aachen.digital/en/event/startup-wettbewerb-stage-two-finals/
LOCATION:Radialsystem\, Holzmarktstraße 33\, Berlin\, 10243
ATTACH;FMTTYPE=image/jpeg:https://www.aachen.digital/wp-content/uploads/2021/10/stagetwo_stage.jpg
END:VEVENT
BEGIN:VEVENT
DTSTART;TZID=Europe/Berlin:20230215T170000
DTEND;TZID=Europe/Berlin:20230215T180000
DTSTAMP:20260423T191549
CREATED:20230206T135328Z
LAST-MODIFIED:20230206T135328Z
UID:10005811-1676480400-1676484000@www.aachen.digital
SUMMARY:Microsoft Founders Hub Workshop (virtual)
DESCRIPTION:You are interested in … \n• …how to get access to powerful development and productivity tools or to unlock up to USD 150\,000 in Azure credits? \n• …how to receive valuable mentorship and guidance from business leaders and technical experts? \n• …how fellow founders have benefited from this opportunity? \nDon’t miss the chance to join Microsoft Founders Hub Workshop on February 15\, 2023 at 5-6pm (CET).  \n  \nWhat can you expect? \n• You will get to know the Microsoft for Startups Founders Hub \n• Be introduced to a Founders Hub participant and learn how Microsoft helped them along the journey \n• The opportunity to ask us anything you want! \n  \nSign up here to learn more about Microsoft for Startups Founders Hub: \nCollaeb
URL:https://www.aachen.digital/en/event/microsoft-founders-hub-workshop-virtual/
LOCATION:online
ATTACH;FMTTYPE=image/jpeg:https://www.aachen.digital/wp-content/uploads/2023/02/foundershub-1632x644-1.jpg
END:VEVENT
BEGIN:VEVENT
DTSTART;VALUE=DATE:20221020
DTEND;VALUE=DATE:20221022
DTSTAMP:20260423T191549
CREATED:20220706T082358Z
LAST-MODIFIED:20220706T082358Z
UID:10005689-1666224000-1666396799@www.aachen.digital
SUMMARY:Startup-Wettbewerb "Stage Two: For Our Beyond"
DESCRIPTION:Live-Pitching von 48 Start-ups\, die von 45 Spitzenuniversitäten aus 21 europäischen Ländern nominiert wurden und 3 Wildcard-Picks von Unternehmenspartnern.
URL:https://www.aachen.digital/en/event/startup-wettbewerb-stage-two-for-our-beyond/
LOCATION:Radialsystem\, Holzmarktstraße 33\, Berlin\, 10243
ATTACH;FMTTYPE=image/jpeg:https://www.aachen.digital/wp-content/uploads/2022/07/StageTwo_stage-1.jpg
END:VEVENT
BEGIN:VEVENT
DTSTART;TZID=Europe/Berlin:20211029T080000
DTEND;TZID=Europe/Berlin:20211029T210000
DTSTAMP:20260423T191549
CREATED:20211004T083730Z
LAST-MODIFIED:20211025T125114Z
UID:10006031-1635494400-1635541200@www.aachen.digital
SUMMARY:Startup-Wettbewerb "Stage Two: For Our Beyond"
DESCRIPTION:18 EU-Länder – 30 Top-Universitäten – 60 Startups und 30+ Investoren
URL:https://www.aachen.digital/en/event/stage-two-for-our-beyond/
LOCATION:Radialsystem\, Holzmarktstraße 33\, Berlin\, 10243
ATTACH;FMTTYPE=image/jpeg:https://www.aachen.digital/wp-content/uploads/2021/10/stagetwo_stage.jpg
END:VEVENT
END:VCALENDAR