BEGIN:VCALENDAR
VERSION:2.0
PRODID:-//digitalHUB Aachen - ECPv6.15.20//NONSGML v1.0//EN
CALSCALE:GREGORIAN
METHOD:PUBLISH
X-ORIGINAL-URL:https://www.aachen.digital/en/
X-WR-CALDESC:Events for digitalHUB Aachen
REFRESH-INTERVAL;VALUE=DURATION:PT1H
X-Robots-Tag:noindex
X-PUBLISHED-TTL:PT1H
BEGIN:VTIMEZONE
TZID:Europe/Berlin
BEGIN:DAYLIGHT
TZOFFSETFROM:+0100
TZOFFSETTO:+0200
TZNAME:CEST
DTSTART:20240331T010000
END:DAYLIGHT
BEGIN:STANDARD
TZOFFSETFROM:+0200
TZOFFSETTO:+0100
TZNAME:CET
DTSTART:20241027T010000
END:STANDARD
BEGIN:DAYLIGHT
TZOFFSETFROM:+0100
TZOFFSETTO:+0200
TZNAME:CEST
DTSTART:20250330T010000
END:DAYLIGHT
BEGIN:STANDARD
TZOFFSETFROM:+0200
TZOFFSETTO:+0100
TZNAME:CET
DTSTART:20251026T010000
END:STANDARD
BEGIN:DAYLIGHT
TZOFFSETFROM:+0100
TZOFFSETTO:+0200
TZNAME:CEST
DTSTART:20260329T010000
END:DAYLIGHT
BEGIN:STANDARD
TZOFFSETFROM:+0200
TZOFFSETTO:+0100
TZNAME:CET
DTSTART:20261025T010000
END:STANDARD
END:VTIMEZONE
BEGIN:VEVENT
DTSTART;TZID=Europe/Berlin:20250526T180000
DTEND;TZID=Europe/Berlin:20250526T213000
DTSTAMP:20260423T202344
CREATED:20250423T080615Z
LAST-MODIFIED:20250423T080615Z
UID:10007308-1748282400-1748295000@www.aachen.digital
SUMMARY:Start2 Connect Night: Deep Tech Edition
DESCRIPTION:Get ready for an exciting event organized by Start2 Group in the Collective Incubator in Aachen on May 26th\, 2025. Join us for an evening dedicated to deep tech innovation and meaningful connections. \nWhy You Should Join: \nWhether you’re a seasoned entrepreneur\, a corporate innovator\, or an investor in the deep tech space\, this event will provide you with invaluable networking opportunities and insights into Germany´s vibrant Deep Tech startup ecosystem. Connect with like-minded innovators and take your business to the next level. \nWhat to Expect: \n\nNetworking Opportunities: Connect with entrepreneurs\, industry professionals\, and potential collaborators in a relaxed\, engaging atmosphere.\nMeet Key Stakeholders: Engage with founders\, mentors\, corporates\, and investors to explore partnerships and funding opportunities.\nStartup Pitches: Listen to the pitches of six highly curated deep tech startups pushing the boundaries of innovation.\n\nSign up here!
URL:https://www.aachen.digital/en/event/start2-connect-night-deep-tech-edition/
LOCATION:Collective Incubator\, Jülicher Str. 209 q-s\, Aachen\, 52070
ATTACH;FMTTYPE=image/jpeg:https://www.aachen.digital/wp-content/uploads/2025/04/202504_Startup-Fruehstueck-Eventbrite-1920-x-1080-px.jpg
END:VEVENT
END:VCALENDAR