BEGIN:VCALENDAR
VERSION:2.0
PRODID:-//digitalHUB Aachen - ECPv6.15.20//NONSGML v1.0//EN
CALSCALE:GREGORIAN
METHOD:PUBLISH
X-WR-CALNAME:digitalHUB Aachen
X-ORIGINAL-URL:https://www.aachen.digital/en/
X-WR-CALDESC:Events for digitalHUB Aachen
REFRESH-INTERVAL;VALUE=DURATION:PT1H
X-Robots-Tag:noindex
X-PUBLISHED-TTL:PT1H
BEGIN:VTIMEZONE
TZID:Europe/Berlin
BEGIN:DAYLIGHT
TZOFFSETFROM:+0100
TZOFFSETTO:+0200
TZNAME:CEST
DTSTART:20190331T010000
END:DAYLIGHT
BEGIN:STANDARD
TZOFFSETFROM:+0200
TZOFFSETTO:+0100
TZNAME:CET
DTSTART:20191027T010000
END:STANDARD
BEGIN:DAYLIGHT
TZOFFSETFROM:+0100
TZOFFSETTO:+0200
TZNAME:CEST
DTSTART:20200329T010000
END:DAYLIGHT
BEGIN:STANDARD
TZOFFSETFROM:+0200
TZOFFSETTO:+0100
TZNAME:CET
DTSTART:20201025T010000
END:STANDARD
BEGIN:DAYLIGHT
TZOFFSETFROM:+0100
TZOFFSETTO:+0200
TZNAME:CEST
DTSTART:20210328T010000
END:DAYLIGHT
BEGIN:STANDARD
TZOFFSETFROM:+0200
TZOFFSETTO:+0100
TZNAME:CET
DTSTART:20211031T010000
END:STANDARD
BEGIN:DAYLIGHT
TZOFFSETFROM:+0100
TZOFFSETTO:+0200
TZNAME:CEST
DTSTART:20220327T010000
END:DAYLIGHT
BEGIN:STANDARD
TZOFFSETFROM:+0200
TZOFFSETTO:+0100
TZNAME:CET
DTSTART:20221030T010000
END:STANDARD
BEGIN:DAYLIGHT
TZOFFSETFROM:+0100
TZOFFSETTO:+0200
TZNAME:CEST
DTSTART:20230326T010000
END:DAYLIGHT
BEGIN:STANDARD
TZOFFSETFROM:+0200
TZOFFSETTO:+0100
TZNAME:CET
DTSTART:20231029T010000
END:STANDARD
BEGIN:DAYLIGHT
TZOFFSETFROM:+0100
TZOFFSETTO:+0200
TZNAME:CEST
DTSTART:20240331T010000
END:DAYLIGHT
BEGIN:STANDARD
TZOFFSETFROM:+0200
TZOFFSETTO:+0100
TZNAME:CET
DTSTART:20241027T010000
END:STANDARD
END:VTIMEZONE
BEGIN:VEVENT
DTSTART;TZID=Europe/Berlin:20230612T170000
DTEND;TZID=Europe/Berlin:20230612T203000
DTSTAMP:20260423T203529
CREATED:20230316T103408Z
LAST-MODIFIED:20230323T105530Z
UID:10005844-1686589200-1686601800@www.aachen.digital
SUMMARY:Sustainable Start-up Day
DESCRIPTION:Gemeinsam die Zukunft gestalten – Mittelstand meets Start-ups \nDer Sustainable Start-up Day dient als Treffpunkt von nachhaltigen\, innovativen Start-ups und kleinen und mittelständischen Unternehmen der Region. Besucher*innen können spannende wissensbasierte Start-ups aus unterschiedlichen Branchen kennenlernen\, von Expert*innen wertvolle Inputs erhalten\, Gründer*innen ihre Fragen stellen und sich vernetzen. Der Veranstaltungsraum wird in einen großen Messebereich\, eine Speaker Stage und in kleinere Spotlight Flächen aufgeteilt. \nAm Abend erwarten die Besucher*innen vier spannende Insights von erfahrenen Expert*innen sowie interaktive moderierte und offene Angebote zum Vernetzen. Im Anschluss wird Raum zum Austauschen und Netzwerken bei Getränken und Snacks geboten. \nDas Programm: \n\n\n\n17.00-17.30 Uhr Ankommen und Netzwerken\n17.30-17.40 Uhr Begrüßung\n17.40-18.40 Uhr Spotlights + Messe\n18.40-19.40 Uhr Bühnenprogramm\n19.45-20.05 Speeddating an den Ständen der Start-ups\n20.15-20.30 Abschluss und Siegerehrung\n\n\n\nFür Anmeldungen gerne bei Stella Bredenhöller Bredenhoeller@wiwi.uni-wuppertal.de melden.
URL:https://www.aachen.digital/en/event/sustainable-start-up-day/
LOCATION:Glashalle der Stadtsparkasse Wuppertal\, Johannisberg 1\, Wuppertal\, 42103
ATTACH;FMTTYPE=image/png:https://www.aachen.digital/wp-content/uploads/2023/03/sustainable-startup-day-2.png
END:VEVENT
BEGIN:VEVENT
DTSTART;TZID=Europe/Berlin:20201123T140000
DTEND;TZID=Europe/Berlin:20201123T170000
DTSTAMP:20260423T203529
CREATED:20201021T122750Z
LAST-MODIFIED:20201021T122750Z
UID:10005665-1606140000-1606150800@www.aachen.digital
SUMMARY:EXISTENZIA (Kreis Aachen)
DESCRIPTION:Erfolg ist das Ergebnis zielgerichteter und strategischer Arbeit\, die auf einem fundierten Wissen aufbaut. Gießen Sie Ihr stabiles Fundament für den Aufbau einer langfristig tragfähigen und gewinnbringenden Existenz. \nLaufen lernt man am besten an einer sicheren Hand! \nEgal\, ob Sie schon eine konkrete Idee für Ihr eigenes Unternehmen haben\, oder\, ob Sie sich allgemein über alle wichtigen Fragen im Zusammenhang mit der Unternehmensgründung informieren möchten\, wir bieten Ihnen dazu Informationen\, Tipps und Orientierung an. Das Seminar für Existenzgründer geht dazu auf alle notwendigen Grundlagen und Schritte ein: Von der persönlichen Eignung über Anmeldeformalitäten\, betriebliche und private Versicherungen\, bis hin zur Investitionsplanung und Rentabilitätsvorschau. Wir begleiten seit vielen Jahren die konzeptionelle Entwicklung von Geschäftsmodellen und deren Umsetzung – nutzen Sie unser Wissen und unsere Erfahrung für Ihren eigenen Erfolgsweg. \nAuf eigenen Beinen sicher durch den Behördendschungel! \nFördergelder und zinsgünstige Darlehen erleichtern Ihnen sicher den Start. Die clevere Finanzierung und Liquiditätsplanung für die Existenzgründungsphase der ersten Jahre ist ein zentraler Erfolgsfaktor. Wir zeigen Ihnen die aktuellen Angebote\, aber auch die Wege und Möglichkeiten\, diese zu nutzen. \nMachen Sie sich auf den Weg und melden Sie sich an!\nSeminargebühr incl. Seminarunterlagen und Teilnahmebescheinigung\n20 Euro \nKontakt\nTelefon: 0241 471-130; E-Mail: startercenter@gruenderregion.de \nEntgelt\n20 Euro \nAnmeldung\nHIER GEHT’S ZUR ANMELDUNG.
URL:https://www.aachen.digital/en/event/existenzia-kreis-aachen/
ATTACH;FMTTYPE=image/jpeg:https://www.aachen.digital/wp-content/uploads/2019/05/gruenderegion.jpg
END:VEVENT
BEGIN:VEVENT
DTSTART;TZID=Europe/Berlin:20201118T130000
DTEND;TZID=Europe/Berlin:20201118T160000
DTSTAMP:20260423T203529
CREATED:20201021T121837Z
LAST-MODIFIED:20201021T121837Z
UID:10005664-1605704400-1605715200@www.aachen.digital
SUMMARY:Existenzia (Kreis Düren)
DESCRIPTION:Erfolg ist das Ergebnis zielgerichteter und strategischer Arbeit\, die auf einem fundierten Wissen aufbaut. Gießen Sie Ihr stabiles Fundament für den Aufbau einer langfristig tragfähigen und gewinnbringenden Existenz. \nLaufen lernt man am besten an einer sicheren Hand! \nEgal\, ob Sie schon eine konkrete Idee für Ihr eigenes Unternehmen haben\, oder\, ob Sie sich allgemein über alle wichtigen Fragen im Zusammenhang mit der Unternehmensgründung informieren möchten\, wir bieten Ihnen dazu Informationen\, Tipps und Orientierung an. Das Seminar für Existenzgründer geht dazu auf alle notwendigen Grundlagen und Schritte ein: Von der persönlichen Eignung über Anmeldeformalitäten\, betriebliche und private Versicherungen\, bis hin zur Investitionsplanung und Rentabilitätsvorschau. Wir begleiten seit vielen Jahren die konzeptionelle Entwicklung von Geschäftsmodellen und deren Umsetzung – nutzen Sie unser Wissen und unsere Erfahrung für Ihren eigenen Erfolgsweg. \nAuf eigenen Beinen sicher durch den Behördendschungel! \nFördergelder und zinsgünstige Darlehen erleichtern Ihnen sicher den Start. Die clevere Finanzierung und Liquiditätsplanung für die Existenzgründungsphase der ersten Jahre ist ein zentraler Erfolgsfaktor. Wir zeigen Ihnen die aktuellen Angebote\, aber auch die Wege und Möglichkeiten\, diese zu nutzen. \nMachen Sie sich auf den Weg und melden Sie sich an!\nSeminargebühr incl. Seminarunterlagen und Teilnahmebescheinigung\n20 Euro \nKontakt\nTelefon: 0241 471-130; E-Mail: startercenter@gruenderregion.de \nEntgelt\n20 Euro \nAnmeldung\nHIER GEHT’S ZUR ANMELDUNG. \n 
URL:https://www.aachen.digital/en/event/existenz/
LOCATION:Kreisverwaltung Düren\, Bismarckstr. 16\, Düren\, 52351
ATTACH;FMTTYPE=image/jpeg:https://www.aachen.digital/wp-content/uploads/2019/05/gruenderegion.jpg
END:VEVENT
BEGIN:VEVENT
DTSTART;TZID=Europe/Berlin:20201103T100000
DTEND;TZID=Europe/Berlin:20201103T160000
DTSTAMP:20260423T203529
CREATED:20201021T102337Z
LAST-MODIFIED:20201021T102337Z
UID:10005661-1604397600-1604419200@www.aachen.digital
SUMMARY:EXISTENZIA (Kreis Euskirchen)
DESCRIPTION:Erfolg ist das Ergebnis zielgerichteter und strategischer Arbeit\, die auf einem fundierten Wissen aufbaut. Gießen Sie Ihr stabiles Fundament für den Aufbau einer langfristig tragfähigen und gewinnbringenden Existenz. \nLaufen lernt man am besten an einer sicheren Hand! \nEgal\, ob Sie schon eine konkrete Idee für Ihr eigenes Unternehmen haben\, oder\, ob Sie sich allgemein über alle wichtigen Fragen im Zusammenhang mit der Unternehmensgründung informieren möchten\, wir bieten Ihnen dazu Informationen\, Tipps und Orientierung an. Das Seminar für Existenzgründer geht dazu auf alle notwendigen Grundlagen und Schritte ein: Von der persönlichen Eignung über Anmeldeformalitäten\, betriebliche und private Versicherungen\, bis hin zur Investitionsplanung und Rentabilitätsvorschau. Wir begleiten seit vielen Jahren die konzeptionelle Entwicklung von Geschäftsmodellen und deren Umsetzung – nutzen Sie unser Wissen und unsere Erfahrung für Ihren eigenen Erfolgsweg. \nAuf eigenen Beinen sicher durch den Behördendschungel! \nFördergelder und zinsgünstige Darlehen erleichtern Ihnen sicher den Start. Die clevere Finanzierung und Liquiditätsplanung für die Existenzgründungsphase der ersten Jahre ist ein zentraler Erfolgsfaktor. Wir zeigen Ihnen die aktuellen Angebote\, aber auch die Wege und Möglichkeiten\, diese zu nutzen. \nMachen Sie sich auf den Weg und melden Sie sich an! \nHIER GEHT’S ZUR ANMELDUNG. \nSeminargebühr incl. Seminarunterlagen und Teilnahmebescheinigung\n20 Euro \nKontakt \nTel.: 0241 471-130\,  E-Mail: startercenter@gruenderregion.de \nEntgelt \n20 Euro
URL:https://www.aachen.digital/en/event/existenzia-kreis-euskirchen/
LOCATION:Kreisverwaltung Euskirchen\, Jülicher Ring 32\, Euskirchen\, 53879\, Deutschland
ATTACH;FMTTYPE=image/jpeg:https://www.aachen.digital/wp-content/uploads/2019/05/gruenderegion.jpg
END:VEVENT
BEGIN:VEVENT
DTSTART;TZID=Europe/Berlin:20200917T100000
DTEND;TZID=Europe/Berlin:20200917T130000
DTSTAMP:20260423T203529
CREATED:20200814T123629Z
LAST-MODIFIED:20200814T123629Z
UID:10005605-1600336800-1600347600@www.aachen.digital
SUMMARY:EXISTENZIA (Kreis Heinsberg )
DESCRIPTION:Laufen lernt man am besten an einer sicheren Hand!\nErfolg ist das Ergebnis zielgerichteter und strategischer Arbeit\, die auf einem fundierten Wissen aufbaut. Gießen Sie Ihr stabiles Fundament für den Aufbau einer langfristig tragfähigen und gewinnbringenden Existenz. \nEgal\, ob Sie schon eine konkrete Idee für Ihr eigenes Unternehmen haben\, oder\, ob Sie sich allgemein über alle wichtigen Fragen im Zusammenhang mit der Unternehmensgründung informieren möchten\, wir bieten Ihnen dazu Informationen\, Tipps und Orientierung an. \nDas Seminar für Existenzgründer geht dazu auf alle notwendigen Grundlagen und Schritte ein: Von der persönlichen Eignung über Anmeldeformalitäten\, betriebliche und private Versicherungen\, bis hin zur Investitionsplanung und Rentabilitätsvorschau. Wir begleiten seit vielen Jahren die konzeptionelle Entwicklung von Geschäftsmodellen und deren Umsetzung – nutzen Sie unser Wissen und unsere Erfahrung für Ihren eigenen Erfolgsweg. \nAuf eigenen Beinen sicher durch den Behördendschungel! \nFördergelder und zinsgünstige Darlehen erleichtern Ihnen sicher den Start. Die clevere Finanzierung und Liquiditätsplanung für die Existenzgründungsphase der ersten Jahre ist ein zentraler Erfolgsfaktor. Wir zeigen Ihnen die aktuellen Angebote\, aber auch die Wege und Möglichkeiten\, diese zu nutzen. \nMachen Sie sich auf den Weg und melden Sie sich an!\nSeminargebühr incl. Seminarunterlagen und Teilnahmebescheinigung: 20 Euro. \nKontakt: startercenter@gruenderregion.de \nWEITERE INFOS & ANMELDUNG
URL:https://www.aachen.digital/en/event/existenzia-kreis-heinsberg/
LOCATION:Gründer- und Service-Zentrum Hückelhoven\, Rheinstr. 7\, Hückelhoven\, 41836\, Deutschland
ATTACH;FMTTYPE=image/jpeg:https://www.aachen.digital/wp-content/uploads/2019/05/gruenderegion.jpg
END:VEVENT
BEGIN:VEVENT
DTSTART;TZID=Europe/Berlin:20200907T130000
DTEND;TZID=Europe/Berlin:20200907T160000
DTSTAMP:20260423T203529
CREATED:20200814T123133Z
LAST-MODIFIED:20200814T123133Z
UID:10005603-1599483600-1599494400@www.aachen.digital
SUMMARY:EXISTENZIA (Stadt Aachen)
DESCRIPTION:Laufen lernt man am besten an einer sicheren Hand!\nErfolg ist das Ergebnis zielgerichteter und strategischer Arbeit\, die auf einem fundierten Wissen aufbaut. Gießen Sie Ihr stabiles Fundament für den Aufbau einer langfristig tragfähigen und gewinnbringenden Existenz. \nEgal\, ob Sie schon eine konkrete Idee für Ihr eigenes Unternehmen haben\, oder\, ob Sie sich allgemein über alle wichtigen Fragen im Zusammenhang mit der Unternehmensgründung informieren möchten\, wir bieten Ihnen dazu Informationen\, Tipps und Orientierung an. \nDas Seminar für Existenzgründer geht dazu auf alle notwendigen Grundlagen und Schritte ein: Von der persönlichen Eignung über Anmeldeformalitäten\, betriebliche und private Versicherungen\, bis hin zur Investitionsplanung und Rentabilitätsvorschau. Wir begleiten seit vielen Jahren die konzeptionelle Entwicklung von Geschäftsmodellen und deren Umsetzung – nutzen Sie unser Wissen und unsere Erfahrung für Ihren eigenen Erfolgsweg. \nAuf eigenen Beinen sicher durch den Behördendschungel! \nFördergelder und zinsgünstige Darlehen erleichtern Ihnen sicher den Start. Die clevere Finanzierung und Liquiditätsplanung für die Existenzgründungsphase der ersten Jahre ist ein zentraler Erfolgsfaktor. Wir zeigen Ihnen die aktuellen Angebote\, aber auch die Wege und Möglichkeiten\, diese zu nutzen. \nMachen Sie sich auf den Weg und melden Sie sich an!\nSeminargebühr incl. Seminarunterlagen und Teilnahmebescheinigung: 20 Euro. \nKontakt: startercenter@gruenderregion.de \nWEITERE INFOS & ANMELDUNG
URL:https://www.aachen.digital/en/event/existenzia-stadt-aachen/
LOCATION:IHK Aachen\, Theaterstraße 6 - 10\, Aachen\, 52062\, Deutschland
ATTACH;FMTTYPE=image/jpeg:https://www.aachen.digital/wp-content/uploads/2019/05/gruenderegion.jpg
END:VEVENT
BEGIN:VEVENT
DTSTART;TZID=Europe/Berlin:20200901T100000
DTEND;TZID=Europe/Berlin:20200901T130000
DTSTAMP:20260423T203529
CREATED:20200710T075404Z
LAST-MODIFIED:20200812T132422Z
UID:10005593-1598954400-1598965200@www.aachen.digital
SUMMARY:EXISTENZIA (Region: Kreis Euskirchen)
DESCRIPTION:Laufen lernt man am besten an einer sicheren Hand!\nErfolg ist das Ergebnis zielgerichteter und strategischer Arbeit\, die auf einem fundierten Wissen aufbaut. Gießen Sie Ihr stabiles Fundament für den Aufbau einer langfristig tragfähigen und gewinnbringenden Existenz. \nEgal\, ob Sie schon eine konkrete Idee für Ihr eigenes Unternehmen haben\, oder\, ob Sie sich allgemein über alle wichtigen Fragen im Zusammenhang mit der Unternehmensgründung informieren möchten\, wir bieten Ihnen dazu Informationen\, Tipps und Orientierung an. \nDas Seminar für Existenzgründer geht dazu auf alle notwendigen Grundlagen und Schritte ein: Von der persönlichen Eignung über Anmeldeformalitäten\, betriebliche und private Versicherungen\, bis hin zur Investitionsplanung und Rentabilitätsvorschau. Wir begleiten seit vielen Jahren die konzeptionelle Entwicklung von Geschäftsmodellen und deren Umsetzung – nutzen Sie unser Wissen und unsere Erfahrung für Ihren eigenen Erfolgsweg. \nAuf eigenen Beinen sicher durch den Behördendschungel! \nFördergelder und zinsgünstige Darlehen erleichtern Ihnen sicher den Start. Die clevere Finanzierung und Liquiditätsplanung für die Existenzgründungsphase der ersten Jahre ist ein zentraler Erfolgsfaktor. Wir zeigen Ihnen die aktuellen Angebote\, aber auch die Wege und Möglichkeiten\, diese zu nutzen. \nMachen Sie sich auf den Weg und melden Sie sich an!\nSeminargebühr incl. Seminarunterlagen und Teilnahmebescheinigung: 20 Euro. \nKontakt: startercenter@gruenderregion.de \nWEITERE INFOS & ANMELDUNG
URL:https://www.aachen.digital/en/event/existenzia-31/
LOCATION:Kreisverwaltung Euskirchen\, Jülicher Ring 32\, Euskirchen\, 53879\, Deutschland
ATTACH;FMTTYPE=image/jpeg:https://www.aachen.digital/wp-content/uploads/2019/08/stage_gruenderregion-1.jpg
END:VEVENT
BEGIN:VEVENT
DTSTART;TZID=Europe/Berlin:20200826T100000
DTEND;TZID=Europe/Berlin:20200826T130000
DTSTAMP:20260423T203529
CREATED:20200731T092052Z
LAST-MODIFIED:20200731T092052Z
UID:10005596-1598436000-1598446800@www.aachen.digital
SUMMARY:EXISTENZIA (Kreis Düren)
DESCRIPTION:Laufen lernt man am besten an einer sicheren Hand!\nErfolg ist das Ergebnis zielgerichteter und strategischer Arbeit\, die auf einem fundierten Wissen aufbaut. Gießen Sie Ihr stabiles Fundament für den Aufbau einer langfristig tragfähigen und gewinnbringenden Existenz. \nEgal\, ob Sie schon eine konkrete Idee für Ihr eigenes Unternehmen haben\, oder\, ob Sie sich allgemein über alle wichtigen Fragen im Zusammenhang mit der Unternehmensgründung informieren möchten\, wir bieten Ihnen dazu Informationen\, Tipps und Orientierung an. \nDas Seminar für Existenzgründer geht dazu auf alle notwendigen Grundlagen und Schritte ein: Von der persönlichen Eignung über Anmeldeformalitäten\, betriebliche und private Versicherungen\, bis hin zur Investitionsplanung und Rentabilitätsvorschau. Wir begleiten seit vielen Jahren die konzeptionelle Entwicklung von Geschäftsmodellen und deren Umsetzung – nutzen Sie unser Wissen und unsere Erfahrung für Ihren eigenen Erfolgsweg. \nAuf eigenen Beinen sicher durch den Behördendschungel! \nFördergelder und zinsgünstige Darlehen erleichtern Ihnen sicher den Start. Die clevere Finanzierung und Liquiditätsplanung für die Existenzgründungsphase der ersten Jahre ist ein zentraler Erfolgsfaktor. Wir zeigen Ihnen die aktuellen Angebote\, aber auch die Wege und Möglichkeiten\, diese zu nutzen. \nMachen Sie sich auf den Weg und melden Sie sich an!\nSeminargebühr incl. Seminarunterlagen und Teilnahmebescheinigung: 20 Euro. \nKontakt: startercenter@gruenderregion.de \nWEITERE INFOS & ANMELDUNG
URL:https://www.aachen.digital/en/event/existenzia-kreis-dueren/
LOCATION:Kreisverwaltung Düren\, Bismarckstr. 16\, Düren\, 52351
ATTACH;FMTTYPE=image/jpeg:https://www.aachen.digital/wp-content/uploads/2019/05/gruenderegion.jpg
END:VEVENT
BEGIN:VEVENT
DTSTART;TZID=Europe/Berlin:20200820T100000
DTEND;TZID=Europe/Berlin:20200820T130000
DTSTAMP:20260423T203529
CREATED:20200731T091646Z
LAST-MODIFIED:20200731T092212Z
UID:10005595-1597917600-1597928400@www.aachen.digital
SUMMARY:EXISTENZIA (Kreis Heinsberg)
DESCRIPTION:Laufen lernt man am besten an einer sicheren Hand!\nErfolg ist das Ergebnis zielgerichteter und strategischer Arbeit\, die auf einem fundierten Wissen aufbaut. Gießen Sie Ihr stabiles Fundament für den Aufbau einer langfristig tragfähigen und gewinnbringenden Existenz. \nEgal\, ob Sie schon eine konkrete Idee für Ihr eigenes Unternehmen haben\, oder\, ob Sie sich allgemein über alle wichtigen Fragen im Zusammenhang mit der Unternehmensgründung informieren möchten\, wir bieten Ihnen dazu Informationen\, Tipps und Orientierung an. \nDas Seminar für Existenzgründer geht dazu auf alle notwendigen Grundlagen und Schritte ein: Von der persönlichen Eignung über Anmeldeformalitäten\, betriebliche und private Versicherungen\, bis hin zur Investitionsplanung und Rentabilitätsvorschau. Wir begleiten seit vielen Jahren die konzeptionelle Entwicklung von Geschäftsmodellen und deren Umsetzung – nutzen Sie unser Wissen und unsere Erfahrung für Ihren eigenen Erfolgsweg. \nAuf eigenen Beinen sicher durch den Behördendschungel! \nFördergelder und zinsgünstige Darlehen erleichtern Ihnen sicher den Start. Die clevere Finanzierung und Liquiditätsplanung für die Existenzgründungsphase der ersten Jahre ist ein zentraler Erfolgsfaktor. Wir zeigen Ihnen die aktuellen Angebote\, aber auch die Wege und Möglichkeiten\, diese zu nutzen. \nMachen Sie sich auf den Weg und melden Sie sich an!\nSeminargebühr incl. Seminarunterlagen und Teilnahmebescheinigung: 20 Euro. \nKontakt: startercenter@gruenderregion.de \nWEITERE INFOS & ANMELDUNG
URL:https://www.aachen.digital/en/event/existenzia-33/
LOCATION:Gründer- und Service-Zentrum Hückelhoven\, Rheinstr. 7\, Hückelhoven\, 41836\, Deutschland
ATTACH;FMTTYPE=image/jpeg:https://www.aachen.digital/wp-content/uploads/2019/05/gruenderegion.jpg
END:VEVENT
BEGIN:VEVENT
DTSTART;TZID=Europe/Berlin:20200817T140000
DTEND;TZID=Europe/Berlin:20200817T140000
DTSTAMP:20260423T203529
CREATED:20200717T085002Z
LAST-MODIFIED:20200731T092100Z
UID:10004957-1597672800-1597672800@www.aachen.digital
SUMMARY:EXISTENZIA (Region: Stadt Aachen)
DESCRIPTION:Laufen lernt man am besten an einer sicheren Hand!\nErfolg ist das Ergebnis zielgerichteter und strategischer Arbeit\, die auf einem fundierten Wissen aufbaut. Gießen Sie Ihr stabiles Fundament für den Aufbau einer langfristig tragfähigen und gewinnbringenden Existenz. \nEgal\, ob Sie schon eine konkrete Idee für Ihr eigenes Unternehmen haben\, oder\, ob Sie sich allgemein über alle wichtigen Fragen im Zusammenhang mit der Unternehmensgründung informieren möchten\, wir bieten Ihnen dazu Informationen\, Tipps und Orientierung an. \nDas Seminar für Existenzgründer geht dazu auf alle notwendigen Grundlagen und Schritte ein: Von der persönlichen Eignung über Anmeldeformalitäten\, betriebliche und private Versicherungen\, bis hin zur Investitionsplanung und Rentabilitätsvorschau. Wir begleiten seit vielen Jahren die konzeptionelle Entwicklung von Geschäftsmodellen und deren Umsetzung – nutzen Sie unser Wissen und unsere Erfahrung für Ihren eigenen Erfolgsweg. \nAuf eigenen Beinen sicher durch den Behördendschungel! \nFördergelder und zinsgünstige Darlehen erleichtern Ihnen sicher den Start. Die clevere Finanzierung und Liquiditätsplanung für die Existenzgründungsphase der ersten Jahre ist ein zentraler Erfolgsfaktor. Wir zeigen Ihnen die aktuellen Angebote\, aber auch die Wege und Möglichkeiten\, diese zu nutzen. \nMachen Sie sich auf den Weg und melden Sie sich an!\nSeminargebühr incl. Seminarunterlagen und Teilnahmebescheinigung: 20 Euro. \nKontakt: startercenter@gruenderregion.de \nWEITERE INFOS & ANMELDUNG
URL:https://www.aachen.digital/en/event/existenzia-32/
ATTACH;FMTTYPE=image/jpeg:https://www.aachen.digital/wp-content/uploads/2019/08/stage_gruenderregion-1.jpg
END:VEVENT
BEGIN:VEVENT
DTSTART;TZID=Europe/Berlin:20200526T190000
DTEND;TZID=Europe/Berlin:20200526T200000
DTSTAMP:20260423T203529
CREATED:20200525T084628Z
LAST-MODIFIED:20200525T084951Z
UID:10004930-1590519600-1590523200@www.aachen.digital
SUMMARY:Online Roadshow NEUE GRÜNDERZEIT NRW aus Aachen
DESCRIPTION:Nehmen Sie teil am Livestream der sechsten Roadshow NEUE GRÜNDERZEIT NRW aus Aachen. Hier haben Gründerinnen und Gründer die Chance\, ihre Geschäftsideen einer Jury vorzustellen und 2.000€ zu gewinnen.\nProgramm:\n19.00 Begrüßung durch die Moderatorin Maike Greine\n19.05 Begrüßung durch Prof. Dr. Andreas Pinkwart\, Minister für Wirtschaft\, Innovation\, Digitalisierung und Energie des Landes Nordrhein-Westfalen\n19.10 Vorstellung der Startercenter und GründerRegion Aachen\n19.15 Pitch-Sessions: \n\nAES Autonome Energiesysteme GmbH\nBL Thermodynamics\nEntorganics GmbH\nMH Farben Manufaktur GmbH\nWayu (Agusti Cordano und Rummler GbR)\n\n19.50 Verkündung des Gewinners \nLink zum Youtube Channel \n 
URL:https://www.aachen.digital/en/event/online-roadshow-neue-gruenderzeit-nrw-aachen/
LOCATION:Jülicher Strasse 72a\, Aachen\, 52070\, Germany
ATTACH;FMTTYPE=image/jpeg:https://www.aachen.digital/wp-content/uploads/2020/05/stage-Roadshow.jpg
END:VEVENT
END:VCALENDAR