BEGIN:VCALENDAR
VERSION:2.0
PRODID:-//digitalHUB Aachen - ECPv6.15.20//NONSGML v1.0//EN
CALSCALE:GREGORIAN
METHOD:PUBLISH
X-ORIGINAL-URL:https://www.aachen.digital/en/
X-WR-CALDESC:Events for digitalHUB Aachen
REFRESH-INTERVAL;VALUE=DURATION:PT1H
X-Robots-Tag:noindex
X-PUBLISHED-TTL:PT1H
BEGIN:VTIMEZONE
TZID:Europe/Berlin
BEGIN:DAYLIGHT
TZOFFSETFROM:+0100
TZOFFSETTO:+0200
TZNAME:CEST
DTSTART:20210328T010000
END:DAYLIGHT
BEGIN:STANDARD
TZOFFSETFROM:+0200
TZOFFSETTO:+0100
TZNAME:CET
DTSTART:20211031T010000
END:STANDARD
BEGIN:DAYLIGHT
TZOFFSETFROM:+0100
TZOFFSETTO:+0200
TZNAME:CEST
DTSTART:20220327T010000
END:DAYLIGHT
BEGIN:STANDARD
TZOFFSETFROM:+0200
TZOFFSETTO:+0100
TZNAME:CET
DTSTART:20221030T010000
END:STANDARD
BEGIN:DAYLIGHT
TZOFFSETFROM:+0100
TZOFFSETTO:+0200
TZNAME:CEST
DTSTART:20230326T010000
END:DAYLIGHT
BEGIN:STANDARD
TZOFFSETFROM:+0200
TZOFFSETTO:+0100
TZNAME:CET
DTSTART:20231029T010000
END:STANDARD
BEGIN:DAYLIGHT
TZOFFSETFROM:+0100
TZOFFSETTO:+0200
TZNAME:CEST
DTSTART:20240331T010000
END:DAYLIGHT
BEGIN:STANDARD
TZOFFSETFROM:+0200
TZOFFSETTO:+0100
TZNAME:CET
DTSTART:20241027T010000
END:STANDARD
END:VTIMEZONE
BEGIN:VEVENT
DTSTART;TZID=Europe/Berlin:20230504T093000
DTEND;TZID=Europe/Berlin:20230504T173000
DTSTAMP:20260423T230356
CREATED:20230324T092759Z
LAST-MODIFIED:20230324T101603Z
UID:10006437-1683192600-1683221400@www.aachen.digital
SUMMARY:FUTURE logistics – Innovationsmesse von startport
DESCRIPTION:Der Innovationhub startport lädt am 04. Mai zum zweiten Mal in die coole Location „Binnenschifffahrtsmuseum in #Duisburg“ ein. Es wird wieder spannende Logistik-Diskussionen und Keynotes sowie Messestände mit innovativen #Startups und #Corporates geben. \nAngekündigte Speaker:innen sind u.a. Dana von der Heide (Gründerin von Parcel Perform und Mitglied des BVL-Beirates) und Nicolaus Schefenacker (Co-Founder & Chief Strategy Officer von sennder). \nDieses Jahr neu: ein großer Foodmarket und Livemusik in der Mittagspause! \nZUR ANMELDUNG
URL:https://www.aachen.digital/en/event/future-logistics-innovationsmesse-von-startport/
LOCATION:Museum der Deutschen Binnenschifffahrt\, Apostelstraße 84\, Duisburg\, 47119
ATTACH;FMTTYPE=image/jpeg:https://www.aachen.digital/wp-content/uploads/2023/03/Stage_innovationsmesse-2.jpg
END:VEVENT
BEGIN:VEVENT
DTSTART;TZID=Europe/Berlin:20220505T100000
DTEND;TZID=Europe/Berlin:20220505T163000
DTSTAMP:20260423T230356
CREATED:20220329T120036Z
LAST-MODIFIED:20220329T120253Z
UID:10006183-1651744800-1651768200@www.aachen.digital
SUMMARY:FUTURE logistics - Die Innovationsmesse von startport
DESCRIPTION:Innovative Logistik vor Ort erleben und anfassen? Mit Innovatoren und Gründer:innen der Logistik sprechen? An einem spannenden Rahmenprogramm teilnehmen? \nWenn du das willst\, bist du auf der FUTURE logistics\, der Innovationsmesse unseres Partners startport GmbH genau richtig. Los geht’s am 5. Mai im Duisburger Binnenschifffahrtsmuseum. \nAnmeldung \nSolltest du es nicht nach Duisburg schaffen\, das Rahmenprogramm wird auch gestreamt.
URL:https://www.aachen.digital/en/event/future-logistics-die-innovationsmesse-von-startport/
LOCATION:Museum der Deutschen Binnenschifffahrt\, Apostelstraße 84\, Duisburg\, 47119
ATTACH;FMTTYPE=image/jpeg:https://www.aachen.digital/wp-content/uploads/2022/03/Design-ohne-Titel-22.jpg
END:VEVENT
END:VCALENDAR