BEGIN:VCALENDAR
VERSION:2.0
PRODID:-//digitalHUB Aachen - ECPv6.15.20//NONSGML v1.0//EN
CALSCALE:GREGORIAN
METHOD:PUBLISH
X-ORIGINAL-URL:https://www.aachen.digital/en/
X-WR-CALDESC:Events for digitalHUB Aachen
REFRESH-INTERVAL;VALUE=DURATION:PT1H
X-Robots-Tag:noindex
X-PUBLISHED-TTL:PT1H
BEGIN:VTIMEZONE
TZID:Europe/Berlin
BEGIN:DAYLIGHT
TZOFFSETFROM:+0100
TZOFFSETTO:+0200
TZNAME:CEST
DTSTART:20210328T010000
END:DAYLIGHT
BEGIN:STANDARD
TZOFFSETFROM:+0200
TZOFFSETTO:+0100
TZNAME:CET
DTSTART:20211031T010000
END:STANDARD
BEGIN:DAYLIGHT
TZOFFSETFROM:+0100
TZOFFSETTO:+0200
TZNAME:CEST
DTSTART:20220327T010000
END:DAYLIGHT
BEGIN:STANDARD
TZOFFSETFROM:+0200
TZOFFSETTO:+0100
TZNAME:CET
DTSTART:20221030T010000
END:STANDARD
BEGIN:DAYLIGHT
TZOFFSETFROM:+0100
TZOFFSETTO:+0200
TZNAME:CEST
DTSTART:20230326T010000
END:DAYLIGHT
BEGIN:STANDARD
TZOFFSETFROM:+0200
TZOFFSETTO:+0100
TZNAME:CET
DTSTART:20231029T010000
END:STANDARD
END:VTIMEZONE
BEGIN:VEVENT
DTSTART;TZID=Europe/Berlin:20221024T190000
DTEND;TZID=Europe/Berlin:20221024T220000
DTSTAMP:20260423T215135
CREATED:20221012T091033Z
LAST-MODIFIED:20221012T091338Z
UID:10006326-1666638000-1666648800@www.aachen.digital
SUMMARY:PITCH & PROST
DESCRIPTION:Afterwork Stammtisch by Startup-Verband NRW\nDie Landessprechenden des Startup-Verbandes in NRW laden Euch herzlich zum ersten offiziellen Stammtisch seit Launch der Landesgruppe ein. \nWas Euch an dem Abend erwartet: \nDas Treffen soll vor allem dem ungezwungenen Austausch und lockeren Kennenlernen dienen. Hier könnt ihr eure Anliegen\, Vorstellungen und Vorschläge rund um das Startup Ökosystem ansprechen. \nGemeinsam mit  Christoph J. Stresing und Prof. Dr. Kollmann diskutieren wir über die Ergebnisse der 10. Ausgabe des Deutschen Startup-Monitors sowie über die Verbesserung der Rahmenbedingungen für Mitarbeiterbeteiligungen #ESOPasap. \nDie Anzahl der Plätze ist begrenzt. Wir freuen uns sehr auf Eure Teilnahme und den gemeinsamen Austausch! \nMit dabei: \n\nChristoph J. Stresing\nGeschäftsführer Startup-Verband\nProf. Dr. Tobias Kollmann\nUniversität Duisburg-Essen\nSophia Tran\, Viviane Wilde & Timo Marks\nLandessprechende Startup-Verband NRW\n\nZUR ANMELDUNG
URL:https://www.aachen.digital/en/event/pitch-prost/
LOCATION:Domstube im Gaffel am Dom\, Bahnhofsvorpatz. 1\, Köln\, 50667
ATTACH;FMTTYPE=image/jpeg:https://www.aachen.digital/wp-content/uploads/2022/10/pitchandprost_nl.jpg
END:VEVENT
END:VCALENDAR