BEGIN:VCALENDAR
VERSION:2.0
PRODID:-//digitalHUB Aachen - ECPv6.15.20//NONSGML v1.0//EN
CALSCALE:GREGORIAN
METHOD:PUBLISH
X-ORIGINAL-URL:https://www.aachen.digital/en/
X-WR-CALDESC:Events for digitalHUB Aachen
REFRESH-INTERVAL;VALUE=DURATION:PT1H
X-Robots-Tag:noindex
X-PUBLISHED-TTL:PT1H
BEGIN:VTIMEZONE
TZID:Europe/Berlin
BEGIN:DAYLIGHT
TZOFFSETFROM:+0100
TZOFFSETTO:+0200
TZNAME:CEST
DTSTART:20200329T010000
END:DAYLIGHT
BEGIN:STANDARD
TZOFFSETFROM:+0200
TZOFFSETTO:+0100
TZNAME:CET
DTSTART:20201025T010000
END:STANDARD
BEGIN:DAYLIGHT
TZOFFSETFROM:+0100
TZOFFSETTO:+0200
TZNAME:CEST
DTSTART:20210328T010000
END:DAYLIGHT
BEGIN:STANDARD
TZOFFSETFROM:+0200
TZOFFSETTO:+0100
TZNAME:CET
DTSTART:20211031T010000
END:STANDARD
BEGIN:DAYLIGHT
TZOFFSETFROM:+0100
TZOFFSETTO:+0200
TZNAME:CEST
DTSTART:20220327T010000
END:DAYLIGHT
BEGIN:STANDARD
TZOFFSETFROM:+0200
TZOFFSETTO:+0100
TZNAME:CET
DTSTART:20221030T010000
END:STANDARD
END:VTIMEZONE
BEGIN:VEVENT
DTSTART;TZID=Europe/Berlin:20210701T180000
DTEND;TZID=Europe/Berlin:20210701T200000
DTSTAMP:20260423T230356
CREATED:20210616T111939Z
LAST-MODIFIED:20210616T112214Z
UID:10005944-1625162400-1625169600@www.aachen.digital
SUMMARY:OecherCoLab - Innovativ\, vernetzt & intelligent? Studierende entwerfen Aachens Mobilität der Zukunft!
DESCRIPTION:Am Mobility Hub vom autonomen Elektro-Shuttle in das Flugtaxi steigen? Die Shopping-Einkäufe bequem vom DuckTrain einsammeln und nach Hause liefern lassen\, anstatt selbst zu schleppen? Wie könnte die Zukunft einer smarten und gleichzeitig nachhaltigen urbanen Logistik & Mobilität in Aachen aussehen? Zusammen mit euch entwickeln wir in diesem Workshop frische Szenarien und Use-Cases! \n\nBürgerwerkstadt des Projektes Suleica \nDer Workshop richtet sich an Studierende und erfordert eine Anmeldung.
URL:https://www.aachen.digital/en/event/oechercolab-innovativ-vernetzt-intelligent-studierende-entwerfen-aachens-mobilitaet-der-zukunft/
LOCATION:Jülicher Strasse 72a\, Aachen\, 52070\, Germany
ATTACH;FMTTYPE=image/jpeg:https://www.aachen.digital/wp-content/uploads/2021/06/AdobeStock_230917303_Bulb_Doktorhut-scaled.jpeg
END:VEVENT
END:VCALENDAR