BEGIN:VCALENDAR
VERSION:2.0
PRODID:-//digitalHUB Aachen - ECPv6.15.20//NONSGML v1.0//EN
CALSCALE:GREGORIAN
METHOD:PUBLISH
X-ORIGINAL-URL:https://www.aachen.digital/en/
X-WR-CALDESC:Events for digitalHUB Aachen
REFRESH-INTERVAL;VALUE=DURATION:PT1H
X-Robots-Tag:noindex
X-PUBLISHED-TTL:PT1H
BEGIN:VTIMEZONE
TZID:Europe/Berlin
BEGIN:DAYLIGHT
TZOFFSETFROM:+0100
TZOFFSETTO:+0200
TZNAME:CEST
DTSTART:20230326T010000
END:DAYLIGHT
BEGIN:STANDARD
TZOFFSETFROM:+0200
TZOFFSETTO:+0100
TZNAME:CET
DTSTART:20231029T010000
END:STANDARD
BEGIN:DAYLIGHT
TZOFFSETFROM:+0100
TZOFFSETTO:+0200
TZNAME:CEST
DTSTART:20240331T010000
END:DAYLIGHT
BEGIN:STANDARD
TZOFFSETFROM:+0200
TZOFFSETTO:+0100
TZNAME:CET
DTSTART:20241027T010000
END:STANDARD
BEGIN:DAYLIGHT
TZOFFSETFROM:+0100
TZOFFSETTO:+0200
TZNAME:CEST
DTSTART:20250330T010000
END:DAYLIGHT
BEGIN:STANDARD
TZOFFSETFROM:+0200
TZOFFSETTO:+0100
TZNAME:CET
DTSTART:20251026T010000
END:STANDARD
END:VTIMEZONE
BEGIN:VEVENT
DTSTART;TZID=Europe/Berlin:20241216T180000
DTEND;TZID=Europe/Berlin:20241216T200000
DTSTAMP:20260423T180030
CREATED:20241206T085459Z
LAST-MODIFIED:20241206T085459Z
UID:10006986-1734372000-1734379200@www.aachen.digital
SUMMARY:Tech & Tapas - Agile working with SCRUM (what really works?!)
DESCRIPTION:Join Tech & Tapas for an in-depth exploration of SCRUM – the most famous agile framework! \nLearn how to make your teams successful and make them work agile\, not only for the sake to be agile but more likely to create an agile environment which enables teams to improve. \nTech & Tapas will dive into the best strategies to get started\, get everybody involved and the overall framework for continues improvements and project success. You will be able to understand and implement the framework for you team.\nIf you are already working with SCRUM you can learn from our top level expert\, what can be improved to unblock your team and make the wheel spin faster! \n*** \nAgenda Highlights \n6:00 PM – 6:15 PM: Arrival and Welcome\nStart the evening by meeting fellow tech enthusiasts over a welcome drink. This is a great opportunity to relax\, get acquainted\, and prepare for the evening’s activities. \n6:15 PM – 6:45 PM: Keynote Session\nOur expert speaker\, Niklas Entenmeier\, will lead the keynote on “Agile working with SCRUM (what really works?!)”\nNiklas will share actionable insights\, tips\, and strategies to help you optimize your SCRUM processes. \nA Q&A session will follow\, giving you the chance to engage and ask questions. \n6:45 PM – 7:00 PM: Transition to Dinner\nTake a short break and get ready for dinner. \n7:00 PM – 8:00 PM: Dinner and Networking\nEnjoy dinner and refreshing drinks while you network with industry professionals. This is the perfect time to exchange ideas\, discuss potential collaborations\, and build connections in a relaxed atmosphere. \n*** \nWhy Attend? \nLearn: Gain valuable insights from industry experts on how to work with SCRUM.\nNetwork: Connect with like-minded professionals and expand your network.\nEnjoy: Savor drinks and food in a vibrant\, engaging setting. \nDon’t miss out on this fantastic opportunity to learn\, network\, and enjoy great food. \nRegister
URL:https://www.aachen.digital/en/event/tech-tapas-agile-working-with-scrum-what-really-works/
LOCATION:digitalHUB Aachen\, Jülicher Str. 72a\, Aachen\, Nordrhein-Westfalen\, 52070\, Germany
ATTACH;FMTTYPE=image/jpeg:https://www.aachen.digital/wp-content/uploads/2024/12/Tech-Tapas-.jpg
END:VEVENT
END:VCALENDAR