BEGIN:VCALENDAR
VERSION:2.0
PRODID:-//digitalHUB Aachen - ECPv6.15.20//NONSGML v1.0//EN
CALSCALE:GREGORIAN
METHOD:PUBLISH
X-WR-CALNAME:digitalHUB Aachen
X-ORIGINAL-URL:https://www.aachen.digital/en/
X-WR-CALDESC:Events for digitalHUB Aachen
REFRESH-INTERVAL;VALUE=DURATION:PT1H
X-Robots-Tag:noindex
X-PUBLISHED-TTL:PT1H
BEGIN:VTIMEZONE
TZID:Europe/Berlin
BEGIN:DAYLIGHT
TZOFFSETFROM:+0100
TZOFFSETTO:+0200
TZNAME:CEST
DTSTART:20180325T010000
END:DAYLIGHT
BEGIN:STANDARD
TZOFFSETFROM:+0200
TZOFFSETTO:+0100
TZNAME:CET
DTSTART:20181028T010000
END:STANDARD
BEGIN:DAYLIGHT
TZOFFSETFROM:+0100
TZOFFSETTO:+0200
TZNAME:CEST
DTSTART:20190331T010000
END:DAYLIGHT
BEGIN:STANDARD
TZOFFSETFROM:+0200
TZOFFSETTO:+0100
TZNAME:CET
DTSTART:20191027T010000
END:STANDARD
BEGIN:DAYLIGHT
TZOFFSETFROM:+0100
TZOFFSETTO:+0200
TZNAME:CEST
DTSTART:20200329T010000
END:DAYLIGHT
BEGIN:STANDARD
TZOFFSETFROM:+0200
TZOFFSETTO:+0100
TZNAME:CET
DTSTART:20201025T010000
END:STANDARD
END:VTIMEZONE
BEGIN:VEVENT
DTSTART;TZID=Europe/Berlin:20191104T100000
DTEND;TZID=Europe/Berlin:20191104T170000
DTSTAMP:20260424T024225
CREATED:20191002T084423Z
LAST-MODIFIED:20191002T084553Z
UID:10004852-1572861600-1572886800@www.aachen.digital
SUMMARY:NRW Venture Academy 2019
DESCRIPTION:The NRW Venture Academy will take place on November 4th at Bio Campus Cologne. \nThe NRW Venture Academy consists of a full day of Investor Readiness preparation run by selected international and local mentors fine-tuning business models and sharpening business propositions of the participating entrepreneurs. The workshop will provide entrepreneurs with necessary tools to obtain funding\, grow\, and make the most out of the summit. Besides boosting the interaction between mentors and entrepreneurs\, the NRW Venture Academy is an excellent opportunity for the entrepreneurs to learn from each other and create a peer group. \nKey Benefits for Entrepreneurs: \n\nGet your business ready for investors.\nIncrease your chance to pitch at the Tech Tour Contest Final.\nClarify your company’s Unique Selling Proposition.\nLearn to communicate your value to investors.\nPrepare\, present and perfect a 5 minutes investor PowerPoint presentation.\nVisibility through our website\, conference binder and social media channels.\n\nThe event aims to better engage\, select and prepare the NRW companies for the online selection to present at the Tech Tour Contest Final\, on 9-10 December in Essen.\nThe Final will present 175+ European innovative companies in the Digital\, Healthcare and Sustainability sectors to an international audience of investors\, key corporates and innovation experts. \nPROGRAMME & REGISTRATION HERE
URL:https://www.aachen.digital/en/event/nrw-venture-academy-2019/
LOCATION:BioCampus Cologne\, Nattermannallee 1\, Köln\, 50829\, Deutschland
ATTACH;FMTTYPE=image/jpeg:https://www.aachen.digital/wp-content/uploads/2019/10/Techtour.jpg
END:VEVENT
END:VCALENDAR