BEGIN:VCALENDAR
VERSION:2.0
PRODID:-//digitalHUB Aachen - ECPv6.15.20//NONSGML v1.0//EN
CALSCALE:GREGORIAN
METHOD:PUBLISH
X-ORIGINAL-URL:https://www.aachen.digital/en/
X-WR-CALDESC:Events for digitalHUB Aachen
REFRESH-INTERVAL;VALUE=DURATION:PT1H
X-Robots-Tag:noindex
X-PUBLISHED-TTL:PT1H
BEGIN:VTIMEZONE
TZID:Europe/Berlin
BEGIN:DAYLIGHT
TZOFFSETFROM:+0100
TZOFFSETTO:+0200
TZNAME:CEST
DTSTART:20200329T010000
END:DAYLIGHT
BEGIN:STANDARD
TZOFFSETFROM:+0200
TZOFFSETTO:+0100
TZNAME:CET
DTSTART:20201025T010000
END:STANDARD
BEGIN:DAYLIGHT
TZOFFSETFROM:+0100
TZOFFSETTO:+0200
TZNAME:CEST
DTSTART:20210328T010000
END:DAYLIGHT
BEGIN:STANDARD
TZOFFSETFROM:+0200
TZOFFSETTO:+0100
TZNAME:CET
DTSTART:20211031T010000
END:STANDARD
BEGIN:DAYLIGHT
TZOFFSETFROM:+0100
TZOFFSETTO:+0200
TZNAME:CEST
DTSTART:20220327T010000
END:DAYLIGHT
BEGIN:STANDARD
TZOFFSETFROM:+0200
TZOFFSETTO:+0100
TZNAME:CET
DTSTART:20221030T010000
END:STANDARD
BEGIN:DAYLIGHT
TZOFFSETFROM:+0100
TZOFFSETTO:+0200
TZNAME:CEST
DTSTART:20230326T010000
END:DAYLIGHT
BEGIN:STANDARD
TZOFFSETFROM:+0200
TZOFFSETTO:+0100
TZNAME:CET
DTSTART:20231029T010000
END:STANDARD
BEGIN:DAYLIGHT
TZOFFSETFROM:+0100
TZOFFSETTO:+0200
TZNAME:CEST
DTSTART:20240331T010000
END:DAYLIGHT
BEGIN:STANDARD
TZOFFSETFROM:+0200
TZOFFSETTO:+0100
TZNAME:CET
DTSTART:20241027T010000
END:STANDARD
BEGIN:DAYLIGHT
TZOFFSETFROM:+0100
TZOFFSETTO:+0200
TZNAME:CEST
DTSTART:20250330T010000
END:DAYLIGHT
BEGIN:STANDARD
TZOFFSETFROM:+0200
TZOFFSETTO:+0100
TZNAME:CET
DTSTART:20251026T010000
END:STANDARD
BEGIN:DAYLIGHT
TZOFFSETFROM:+0100
TZOFFSETTO:+0200
TZNAME:CEST
DTSTART:20260329T010000
END:DAYLIGHT
BEGIN:STANDARD
TZOFFSETFROM:+0200
TZOFFSETTO:+0100
TZNAME:CET
DTSTART:20261025T010000
END:STANDARD
END:VTIMEZONE
BEGIN:VEVENT
DTSTART;TZID=Europe/Berlin:20251021T170000
DTEND;TZID=Europe/Berlin:20251021T203000
DTSTAMP:20260423T180215
CREATED:20250210T123354Z
LAST-MODIFIED:20250210T135005Z
UID:10007217-1761066000-1761078600@www.aachen.digital
SUMMARY:21. Nacht der Unternehmen
DESCRIPTION:Karrieremesse – Jobbörse – Ausbildungsplätze – Unternehmensbesuche\nDie 21. Ausgabe richtet sich insbesondere an Fachkräfte\, Absolvent:innen und Berufseinsteiger:innen. \nEs erwarten Sie: \n\nAusstellung im TZA: Unternehmen stellen sich direkt vor.\nBustouren: Besuche vor Ort bei teilnehmenden Firmen.\nJobwall & Employer Pitch: Zentral platzierte Wand mit offenen Stellen und kurze Unternehmenspräsentationen.\n\nAuf der Nacht der Unternehmen (NdU) treffen Young Professionals\, Fachkräfte\, Hochschulabsolvent:innen\, Studierende\, Berufseinsteiger:innen\, Schüler:innen\, Abiturient:innen und jobsuchende Azubis auf potenzielle Arbeitgeber. \n  \nAuch der digitalHUB ist wieder mit Startups aus der HUBcommunity dabei.\nRund 100 Aussteller – überwiegend aus der Region – präsentieren sich auf der NdU. Sie alle suchen Fachkräfte\, aber auch Auszubildende\, studentische Hilfskräfte\, Praktikant:innen oder Mitarbeitende. \nNutzen Sie die Chance und machen Sie mit – hier trifft Zukunft auf Karriere! \nHier Aussteller werden und mehr erfahren \n  \nÜber 3.500 Besucher:innen treffen auf spannende Arbeitgeber und Karrierechancen. Ziel ist es\, Talente in der Region zu halten und Unternehmen unkomplizierte Kontakte zu potenziellen Mitarbeitenden zu ermöglichen. \nZur NdU gehört auch ein Begleitprogramm mit Workshops\, Vorträgen\, kostenlosem Bewerbungsmappencheck und Bewerbungsfotos. Vorträge und Workshops starten bereits um 16 Uhr! \nFür Besucher:innen ist die Teilnahme kostenlos!\nHier mehr erfahren
URL:https://www.aachen.digital/en/event/nacht-der-unternehmen-6/
LOCATION:TZA Technologiezentrum Aachen\, Dennewartstr. 25-27\, Aachen\, 52068\, Deutschland
ATTACH;FMTTYPE=image/jpeg:https://www.aachen.digital/wp-content/uploads/2025/02/Nacht-der-Unternehmen.jpg
END:VEVENT
BEGIN:VEVENT
DTSTART;TZID=Europe/Berlin:20250909T101500
DTEND;TZID=Europe/Berlin:20250909T143000
DTSTAMP:20260423T180215
CREATED:20250805T134941Z
LAST-MODIFIED:20250805T134941Z
UID:10007404-1757412900-1757428200@www.aachen.digital
SUMMARY:KI NextLevel
DESCRIPTION:KI NextLevel lädt zu einem kostenlosen Online-Event ein\, das praxisorientierte Einblicke in den gezielten Einsatz von KI für Marketing\, Vertrieb und Geschäftsprozesse bietet. In spannenden Webinaren teilen Expert:innen wertvolle\, umsetzbare Lösungen und konkrete Best Practices\, die direkt in deinem Business angewendet werden können. Sei dabei am 09. September 2025\, 10:15–14:30 Uhr\, und hebe deinen Unternehmenserfolg auf das nächste Level! Oder schaue die Aufzeichnungen an unter www.ki-nextlevel.de. \nZUR ANMELDUNG
URL:https://www.aachen.digital/en/event/ki-nextlevel/
LOCATION:online
ATTACH;FMTTYPE=image/jpeg:https://www.aachen.digital/wp-content/uploads/2025/08/250804_KI_NextLevel_DigitialHUB_1920x1080px.jpg
END:VEVENT
BEGIN:VEVENT
DTSTART;TZID=Europe/Berlin:20250624T101500
DTEND;TZID=Europe/Berlin:20250624T143000
DTSTAMP:20260423T180215
CREATED:20250620T130424Z
LAST-MODIFIED:20250620T130424Z
UID:10007368-1750760100-1750775400@www.aachen.digital
SUMMARY:KI NextLevel
DESCRIPTION:KI NextLevel lädt zu einem kostenlosen Online-Event ein\, das praxisorientierte Einblicke in den gezielten Einsatz von KI für Marketing\, Vertrieb und Geschäftsprozesse bietet. In spannenden Webinaren teilen Expert:innen wertvolle\, umsetzbare Lösungen und konkrete Best Practices\, die direkt in deinem Business angewendet werden können. Sei dabei am 24. Juni 2025\, 10:15-14:30 Uhr\, und hebe deinen Unternehmenserfolg auf das nächste Level! Oder schaue die Aufzeichnungen an unter www.ki-nextlevel.de. \n 
URL:https://www.aachen.digital/en/event/ki-nextlevel-tema/
LOCATION:online
ATTACH;FMTTYPE=image/jpeg:https://www.aachen.digital/wp-content/uploads/2025/06/250620_KI_NextLevel_DigitialHUB_1920x1080px.jpg
END:VEVENT
BEGIN:VEVENT
DTSTART;TZID=Europe/Berlin:20250527T170000
DTEND;TZID=Europe/Berlin:20250527T203000
DTSTAMP:20260423T180215
CREATED:20250210T122600Z
LAST-MODIFIED:20250210T134952Z
UID:10007216-1748365200-1748377800@www.aachen.digital
SUMMARY:20. Nacht der Unternehmen
DESCRIPTION:Karrieremesse – Jobbörse – Ausbildungsplätze – Unternehmensbesuche\nDie 20. Ausgabe startet mit dem zusätzlichen Fokus auf Ausbildung und Praktika\, auch für Schüler:innen und Azubis. \nEs erwarten Sie: \n\nAusstellung im TZA: Unternehmen stellen sich direkt vor.\nBustouren: Besuche vor Ort bei teilnehmenden Firmen.\nJobwall & Employer Pitch: Zentral platzierte Wand mit offenen Stellen und kurze Unternehmenspräsentationen.\n\nAuf der Nacht der Unternehmen (NdU) treffen Young Professionals\, Fachkräfte\, Hochschulabsolvent:innen\, Studierende\, Berufseinsteiger:innen\, Schüler:innen\, Abiturient:innen und jobsuchende Azubis auf potenzielle Arbeitgeber. \n  \nAuch der digitalHUB ist wieder mit Startups aus der HUBcommunity dabei.\nRund 100 Aussteller – überwiegend aus der Region – präsentieren sich auf der NdU. Sie alle suchen Fachkräfte\, aber auch Auszubildende\, studentische Hilfskräfte\, Praktikant:innen oder Mitarbeitende. \nNutzen Sie die Chance und machen Sie mit – hier trifft Zukunft auf Karriere! \nHier Aussteller werden und mehr erfahren \n  \nÜber 3.500 Besucher:innen treffen auf spannende Arbeitgeber und Karrierechancen. Ziel ist es\, Talente in der Region zu halten und Unternehmen unkomplizierte Kontakte zu potenziellen Mitarbeitenden zu ermöglichen. \nZur NdU gehört auch ein Begleitprogramm mit Workshops\, Vorträgen\, kostenlosem Bewerbungsmappencheck und Bewerbungsfotos. Vorträge und Workshops starten bereits um 16 Uhr! \nFür Besucher:innen ist die Teilnahme kostenlos!\nHier mehr erfahren
URL:https://www.aachen.digital/en/event/nacht-der-unternehmen-5/
LOCATION:TZA Technologiezentrum Aachen\, Dennewartstr. 25-27\, Aachen\, 52068\, Deutschland
ATTACH;FMTTYPE=image/jpeg:https://www.aachen.digital/wp-content/uploads/2025/02/Nacht-der-Unternehmen.jpg
END:VEVENT
BEGIN:VEVENT
DTSTART;TZID=Europe/Berlin:20241022T170000
DTEND;TZID=Europe/Berlin:20241022T203000
DTSTAMP:20260423T180215
CREATED:20240912T115736Z
LAST-MODIFIED:20240912T125030Z
UID:10006874-1729616400-1729629000@www.aachen.digital
SUMMARY:Nacht der Unternehmen
DESCRIPTION:Karrieremesse – Jobbörse – Ausbildungsplätze – Unternehmensbesuche\nAuf der Nacht der Unternehmen (NdU) treffen Young Professionals\, Fachkräfte\, Hochschulabsolvent:Innen\, Studierende\, Berufseinsteiger:Innen\, Schüler:Innen\, Abiturient:Innen und jobsuchende Azubis auf potenzielle Arbeitgeber:Innen.\nRund 100 regionale und überregionale Ausstellende – darunter auch Startups aus dem digitalHUB Aachen – präsentieren sich auf der NdU.\nSie alle suchen Fachkräfte\, aber auch Auszubildende\, studentische Hilfskräfte\, Praktikan:Innen oder Mitarbeitende.  Für Besucher:Innen ist die Teilnahme kostenlos! \nZur NdU gehört auch ein kostenloses Begleitprogramm mit Workshops\, Vorträgen\, kostenlosem Bewerbungsmappencheck und Bewerbungsfotos. \nStart der Workshops: 16 Uhr\nStart der Messe: 17 Uhr\nEinige Unternehmen können über einen Shuttle-Service auch direkt an ihren Firmensitzen besucht werden. Diese bieten direkt vor Ort einen exklusiven Einblick in das Firmenleben und beantworten alle Fragen. \nHier anmelden und mehr erfahren
URL:https://www.aachen.digital/en/event/nacht-der-unternehmen-4/
LOCATION:TZA Technologiezentrum Aachen\, Dennewartstr. 25-27\, Aachen\, 52068\, Deutschland
ATTACH;FMTTYPE=image/jpeg:https://www.aachen.digital/wp-content/uploads/2024/09/TZA-Aussen.jpg
END:VEVENT
BEGIN:VEVENT
DTSTART;TZID=Europe/Berlin:20230510T090000
DTEND;TZID=Europe/Berlin:20230510T180000
DTSTAMP:20260423T180215
CREATED:20230419T084307Z
LAST-MODIFIED:20230419T084307Z
UID:10006456-1683709200-1683741600@www.aachen.digital
SUMMARY:e-marketingday rheinland
DESCRIPTION:Information und Austausch über neuste Trends im digitalen Marketing \nDer e-marketingday rheinland\, eine der wichtigsten Veranstaltungen für digitales Marketing\, steht in den Startlöchern. Nach einer Corona-Zwangspause findet die elfte Ausgabe am 10. Mai 2023 im Capitol Theater in Düsseldorf statt. \nDie Veranstaltung bietet ein abwechslungsreiches Programm\, das auf die aktuellen Trends und Entwicklungen im Bereich des digitalen Marketings eingeht. Es wird eine Reihe von Vorträgen geben\, die sich auf die Erfolgsstrategien von Unternehmen in der heutigen schnelllebigen digitalen Welt konzentrieren. Experten:innen werden berichten\, wie Unternehmen erfolgreich sein können und welche Technologien und Strategien ihnen dabei helfen. Im Weiteren werden praktische Aspekte des e-Marketings präsentiert\, einschließlich der besten Praktiken für die Umsetzung von Kampagnen und der Nutzung von Tools und Plattformen. Die Themenpalette reicht von Greenmarketing und IT-Sicherheit über Talent Acquisition und Employer Branding bis hin zu Metaverse und Augmented Reality. \nDer e-marketingday rheinland ist eine einzigartige Gelegenheit für alle\, die sich für die neuesten Trends im digitalen Marketing interessieren und ihre Kenntnisse erweitern möchten. Ob man selbst als Marketing-Experte tätig ist oder einfach nur neugierig auf die Möglichkeiten des digitalen Marketings\, der e-marketingday rheinland hat für jeden etwas zu bieten. \nNeben den Vorträgen können die Teilnehmer auch diverse kulinarische Highlights genießen und sich in einer angenehmen Atmosphäre vernetzen und austauschen. \nZUR ANMELDUNG
URL:https://www.aachen.digital/en/event/e-marketingday-rheinland/
LOCATION:Capitol Theater Düsseldorf\, Erkrather Str. 30\, Düsseldorf\, 40233
ATTACH;FMTTYPE=image/jpeg:https://www.aachen.digital/wp-content/uploads/2023/04/e-marketingday_stage-1.jpg
END:VEVENT
BEGIN:VEVENT
DTSTART;TZID=Europe/Berlin:20211026T080000
DTEND;TZID=Europe/Berlin:20211026T170000
DTSTAMP:20260423T180215
CREATED:20210924T081610Z
LAST-MODIFIED:20210924T081610Z
UID:10006025-1635235200-1635267600@www.aachen.digital
SUMMARY:Nacht der Unternehmen Aachen
DESCRIPTION:Wissenschaftlerinnen und Wissenschaftler\, Absolventinnen und Absolventen\, Berufseinsteiger und Fachkräfte! Hier kommt was für euch: Die 14. Nacht der Unternehmen – dieses Mal endlich wieder analog!\nKarrieremesse – Jobbörse – Unternehmensbesuche \nUnternehmen aus der Region präsentieren sich an Info-Ständen oder direkt in ihrer Niederlassung. Die Bereiche des Ingenieurwesens\, der Betriebswirtschaft\, der Naturwissenschaften\, der Informatik sowie den Geistes- und Sozialwissenschaften werden abgedeckt. Die NACHT DER UNTERNEHMEN bietet Informationen\, Kontakte und Vernetzungs-Möglichkeiten mit potenziellen Arbeitgeber:innen. \nEinige Aussteller können über Busshuttle direkt an ihren Standorten besucht werden.\nDie Jobsuchenden fahren mit Bussen zu den teilnehmenden Unternehmen in der Region und schnuppern die Atmosphäre direkt vor Ort! \nWeitere Informationen zur Veranstaltung findet ihr hier.
URL:https://www.aachen.digital/en/event/nacht-der-unternehmen-aachen/
LOCATION:TZA Technologiezentrum Aachen\, Dennewartstr. 25-27\, Aachen\, 52068\, Deutschland
ATTACH;FMTTYPE=image/jpeg:https://www.aachen.digital/wp-content/uploads/2021/03/AdobeStock_211845830_Data-control-wall-1-scaled.jpeg
END:VEVENT
BEGIN:VEVENT
DTSTART;TZID=Europe/Berlin:20210622T170000
DTEND;TZID=Europe/Berlin:20210622T203000
DTSTAMP:20260423T180215
CREATED:20210526T084359Z
LAST-MODIFIED:20210526T114033Z
UID:10005915-1624381200-1624393800@www.aachen.digital
SUMMARY:Nacht der Unternehmen Aachen
DESCRIPTION:Aachens erfolgreichste Jobmesse\, die „Nacht der Unternehmen“\, wird diesmal hybrid stattfinden\, also physisch vor Ort und virtuell im Internet. Studies werden Unternehmen mit attraktiven Karrierechancen aus der Region kennenlernen\, Kontakte knüpfen\, Eindrücke sammeln und sich informieren. Wann immer zulässig\, werden reale Gespräche vor Ort geführt\, Unternehmen live besichtigt. Fast fünfzig Unternehmen erwarten die Studierenden\, Absolventen und Young Professionals – entweder vor Ort oder aus dem Home Office. \nReal und digital\nGeplant ist die Nacht der Unternehmen (NdU) als hybrides Event. Das bedeutet: Wenn die Inzidenzwerte so sinken\, dass eine „reale“ Veranstaltung möglich ist\, findet die NDU wieder im Technologiezentrum (TZA) am Europaplatz statt – selbstverständlich mit einem Sicherheits- und Hygienekonzept\, um die Gesundheit aller Beteiligten zu schützen. Auch Bustouren werden angeboten\, mit der Gelegenheit\, einige der ausstellenden Unternehmen direkt vor Ort an ihrem Firmensitz kennenzulernen. Parallel gibt es eine digitale NdU. Auf den virtuellen Ständen der Aussteller findet man dort umfangreiche Informationen und auch eine persönliche Kontaktaufnahme und Gespräche sind online möglich. \nBeste Job-Chancen in der Region\nAussteller auf der NDU\, real vor Ort und virtuell\, sind Unternehmen und Institutionen aus der Region. Sie alle haben brauchen qualifizierte und engagierte Mitarbeiter*innen. Sie alle haben ein großes Interesse daran\, dafür auch das „Human Capital“ zu nutzen\, welches an den Schulen und Hochschulen der Region und auch in den Unternehmen ausgebildet und\nqualifiziert wird. Ein Arbeitsplatz in der Region bietet mindestens zwei große Vorteile: Man erspart sich den Umzug und kann seine gewohnten sozialen Kontakte aufrechterhalten. Außerdem ist man bei den regionalen Unternehmen nicht ein anonymer Arbeitsnehmer unter hunderten anderen\, wie oft bei großen Konzernen\, und hat auch bessere Karrierechancen. \nOrganisation\, Sicherheit und Zugang \nAuf Grund der Corona-Sicherheitsbestimmungen ist eine Anmeldung zwingend erforderlich. Diese ist möglich über die Website der NdU. Diese bietet auch immer wieder aktualisierte Informationen\, z.B. zu den Ausstellern und am Veranstaltungstag auch den Zugang zur virtuellen NdU.\nVoraussetzung für den persönlichen Besuch im TZA ist auch – so wie bei „click & meet“ – ein negatives Testergebnis\, das nicht älter als 24 Stunden sein darf\, bzw. der Nachweis\, dass man zum Kreis der vollständig Geimpften oder Genesenen gehört. Obligatorisch ist das Tragen einer FFP2-Maske oder vergleichbar. \nErfolgreiches Format mit vielen Unterstützern\nErfinder der „Nacht der Unternehmen“ ist das Aachener Marketing Unternehmen TEMA AG. Die TEMA AG führt die NDU seit 2008 in Aachen und anderen Städte erfolgreich durch. Die Aachener Nacht der Unternehmen wird unterstützt durch die Hochschulen RWTH Aachen und FH Aachen\, die Stadt Aachen und die StädteRegion Aachen\, die Industrie- und Handelskammer\, die Arbeitsagentur Aachen sowie den Verein REGINA (Regionaler Industrieclub Informatik Aachen). \nVorherige Anmeldung erwünscht. Die Veranstaltung findet parallel auch Online statt. \nAnmeldung & Informationen
URL:https://www.aachen.digital/en/event/nacht-der-unternehmen-am-22-juni-2021-diesmal-hybrid/
LOCATION:Hybrid
ATTACH;FMTTYPE=image/jpeg:https://www.aachen.digital/wp-content/uploads/2021/05/stage_nachtderunternehmen-1.jpg
END:VEVENT
END:VCALENDAR