BEGIN:VCALENDAR
VERSION:2.0
PRODID:-//digitalHUB Aachen - ECPv6.15.20//NONSGML v1.0//EN
CALSCALE:GREGORIAN
METHOD:PUBLISH
X-WR-CALNAME:digitalHUB Aachen
X-ORIGINAL-URL:https://www.aachen.digital/en/
X-WR-CALDESC:Events for digitalHUB Aachen
REFRESH-INTERVAL;VALUE=DURATION:PT1H
X-Robots-Tag:noindex
X-PUBLISHED-TTL:PT1H
BEGIN:VTIMEZONE
TZID:Europe/Berlin
BEGIN:DAYLIGHT
TZOFFSETFROM:+0100
TZOFFSETTO:+0200
TZNAME:CEST
DTSTART:20220327T010000
END:DAYLIGHT
BEGIN:STANDARD
TZOFFSETFROM:+0200
TZOFFSETTO:+0100
TZNAME:CET
DTSTART:20221030T010000
END:STANDARD
BEGIN:DAYLIGHT
TZOFFSETFROM:+0100
TZOFFSETTO:+0200
TZNAME:CEST
DTSTART:20230326T010000
END:DAYLIGHT
BEGIN:STANDARD
TZOFFSETFROM:+0200
TZOFFSETTO:+0100
TZNAME:CET
DTSTART:20231029T010000
END:STANDARD
BEGIN:DAYLIGHT
TZOFFSETFROM:+0100
TZOFFSETTO:+0200
TZNAME:CEST
DTSTART:20240331T010000
END:DAYLIGHT
BEGIN:STANDARD
TZOFFSETFROM:+0200
TZOFFSETTO:+0100
TZNAME:CET
DTSTART:20241027T010000
END:STANDARD
END:VTIMEZONE
BEGIN:VEVENT
DTSTART;TZID=Europe/Berlin:20230111T170000
DTEND;TZID=Europe/Berlin:20230111T210000
DTSTAMP:20260423T231326
CREATED:20230110T134845Z
LAST-MODIFIED:20230110T134845Z
UID:10006392-1673456400-1673470800@www.aachen.digital
SUMMARY:TexTech Start-up Night
DESCRIPTION:Egal ob ihr euch für Smarte Textilien/Textilsensorik\, Neue Werkstoffe & Materialien\, Medizinische Textilien\, Neue Produktionstechniken\, Textil-Lieferketten & Logistik\, Textil-Recycling & Kreislaufwirtschaft oder neue\, digitale Marktplätze und Geschäftsmodelle (z.B. Servitization\, Co-Creation\, Co-Production) interessiert\, bei der TexTech Start-up Night lernt ihr die neuesten Trends der Branche kennen.\nDie von nun an jährliche TexTech Start-up Night in Mönchengladbach soll zum Nukleus und Kristallisationspunkt einer internationalen TexTech-Innovation- & Start-up-Community werden. Mönchengladbach ist DAS TexTech-Zentrum in NRW mit Textilmaschinenbauern\, -Veredlern\, -Hochschule\, -Akademie und -Start-ups. Zudem wächst der Markt für TexTech weltweit rasant\, mit viel Potenzial für neue Innovationen und Start-ups\, insbesondere im Bereich Technische Textilien sowie Textil-Recycling & Kreislaufwirtschaft. \nZUR ANMELDUNG
URL:https://www.aachen.digital/en/event/textech-start-up-night/
LOCATION:Texilakademie NRW\, Lüpertzenderstr. 6\, Mönchengladbach\, NRW\, 41061\, Deutschland
ATTACH;FMTTYPE=image/png:https://www.aachen.digital/wp-content/uploads/2023/01/TexTech_Event_2160x1080_v2.png
END:VEVENT
END:VCALENDAR